BEGIN:VCALENDAR
VERSION:2.0
PRODID:-//Prince Hall Grand Lodge of PA - ECPv6.15.20//NONSGML v1.0//EN
CALSCALE:GREGORIAN
METHOD:PUBLISH
X-WR-CALNAME:Prince Hall Grand Lodge of PA
X-ORIGINAL-URL:https://www.princehall-pa.org
X-WR-CALDESC:Events for Prince Hall Grand Lodge of PA
REFRESH-INTERVAL;VALUE=DURATION:PT1H
X-Robots-Tag:noindex
X-PUBLISHED-TTL:PT1H
BEGIN:VTIMEZONE
TZID:America/New_York
BEGIN:DAYLIGHT
TZOFFSETFROM:-0500
TZOFFSETTO:-0400
TZNAME:EDT
DTSTART:20220313T070000
END:DAYLIGHT
BEGIN:STANDARD
TZOFFSETFROM:-0400
TZOFFSETTO:-0500
TZNAME:EST
DTSTART:20221106T060000
END:STANDARD
BEGIN:DAYLIGHT
TZOFFSETFROM:-0500
TZOFFSETTO:-0400
TZNAME:EDT
DTSTART:20230312T070000
END:DAYLIGHT
BEGIN:STANDARD
TZOFFSETFROM:-0400
TZOFFSETTO:-0500
TZNAME:EST
DTSTART:20231105T060000
END:STANDARD
BEGIN:DAYLIGHT
TZOFFSETFROM:-0500
TZOFFSETTO:-0400
TZNAME:EDT
DTSTART:20240310T070000
END:DAYLIGHT
BEGIN:STANDARD
TZOFFSETFROM:-0400
TZOFFSETTO:-0500
TZNAME:EST
DTSTART:20241103T060000
END:STANDARD
BEGIN:DAYLIGHT
TZOFFSETFROM:-0500
TZOFFSETTO:-0400
TZNAME:EDT
DTSTART:20250309T070000
END:DAYLIGHT
BEGIN:STANDARD
TZOFFSETFROM:-0400
TZOFFSETTO:-0500
TZNAME:EST
DTSTART:20251102T060000
END:STANDARD
END:VTIMEZONE
BEGIN:VEVENT
DTSTART;TZID=America/New_York:20240113T130000
DTEND;TZID=America/New_York:20240113T160000
DTSTAMP:20260425T085240
CREATED:20240106T025444Z
LAST-MODIFIED:20240106T025444Z
UID:5409-1705150800-1705161600@www.princehall-pa.org
SUMMARY:W.D.D.G.M. Haines will represent the M.W.G.M. at Fannie J. Coppin No. 37's "High Fashion on the Seas" event.
DESCRIPTION:
URL:https://www.princehall-pa.org/event/w-d-d-g-m-haines-will-represent-the-m-w-g-m-at-fannie-j-coppin-no-37s-high-fashion-on-the-seas-event/
END:VEVENT
BEGIN:VEVENT
DTSTART;TZID=America/New_York:20240106T190000
DTEND;TZID=America/New_York:20240106T230000
DTSTAMP:20260425T085240
CREATED:20240104T014629Z
LAST-MODIFIED:20240104T014629Z
UID:5407-1704567600-1704582000@www.princehall-pa.org
SUMMARY:The M.W.G.M. will attend the Inaugural Dinner and Public Installation Program for the M.W.G.M.of the District of Columbia.
DESCRIPTION:
URL:https://www.princehall-pa.org/event/the-m-w-g-m-will-attend-the-inaugural-dinner-and-public-installation-program-for-the-m-w-g-m-of-the-district-of-columbia/
END:VEVENT
BEGIN:VEVENT
DTSTART;TZID=America/New_York:20231225T110000
DTEND;TZID=America/New_York:20231225T130000
DTSTAMP:20260425T085240
CREATED:20230921T003128Z
LAST-MODIFIED:20231221T001102Z
UID:5309-1703502000-1703509200@www.princehall-pa.org
SUMMARY:The R.W.J.G.W. will represent the M.W.G.M. at the United Grand Commandery's Christmas Toast.
DESCRIPTION:
URL:https://www.princehall-pa.org/event/united-grand-commandery-christmas-toast/
END:VEVENT
BEGIN:VEVENT
DTSTART;TZID=America/New_York:20231222T110000
DTEND;TZID=America/New_York:20231222T150000
DTSTAMP:20260425T085240
CREATED:20231222T014648Z
LAST-MODIFIED:20231222T014648Z
UID:5394-1703242800-1703257200@www.princehall-pa.org
SUMMARY:The M.W.G.M. will attend the homegoing service of the R.W.D.G.M. of Maryland's Mother.
DESCRIPTION:
URL:https://www.princehall-pa.org/event/the-m-w-g-m-will-attend-the-homegoing-service-of-the-r-w-d-g-m-of-marylands-mother/
END:VEVENT
BEGIN:VEVENT
DTSTART;TZID=America/New_York:20231217T153000
DTEND;TZID=America/New_York:20231217T180000
DTSTAMP:20260425T085240
CREATED:20231206T073029Z
LAST-MODIFIED:20231206T073302Z
UID:5374-1702827000-1702836000@www.princehall-pa.org
SUMMARY:M.W.P.H.G.L. of PA. St John the Evangelist Day - 1st District\, Grace Baptist Church of Germantown\, 25 W. Johnson St.\, Phila.\, 19144; 2nd\, 3rd\, & 4th Districts\, Bethel AME Church\, 334 Minor St.\, West Chester\, 19382; 5th\, 6th\, & 9th Districts\, Love Unlimited Ministries\, 734 West Fourth St.\, Williamsport\, 17701; 7th\, & 8th Districts\, Greater Morris A.M.E. Chapel\, 926 Darr Ave.\, Farrell 16121.
DESCRIPTION:
URL:https://www.princehall-pa.org/event/m-w-p-h-g-l-st-john-the-evangelist-day-services-1st-district-grace-baptist-church-of-germantown-25-w-johnson-st-phila-19144-2nd-3rd-4th-districts-bethel-ame-church-334-minor-st-west/
END:VEVENT
BEGIN:VEVENT
DTSTART;TZID=America/New_York:20231215T080000
DTEND;TZID=America/New_York:20231216T230000
DTSTAMP:20260425T085240
CREATED:20230901T000301Z
LAST-MODIFIED:20230901T000324Z
UID:5250-1702627200-1702767600@www.princehall-pa.org
SUMMARY:D.G.C. Statewide Seminar and Banquet honoring Grand Chairpersons.
DESCRIPTION:
URL:https://www.princehall-pa.org/event/d-g-c-statewide-seminar-and-banquet-honoring-grand-chairpersons/
END:VEVENT
BEGIN:VEVENT
DTSTART;TZID=America/New_York:20231212T080000
DTEND;TZID=America/New_York:20231213T170000
DTSTAMP:20260425T085240
CREATED:20231018T004005Z
LAST-MODIFIED:20231220T233901Z
UID:5343-1702368000-1702486800@www.princehall-pa.org
SUMMARY:The M.W.G.M. will attend the 174th Annual Communication of the M.W.P.H.G.L. of the District of Columbia.
DESCRIPTION:
URL:https://www.princehall-pa.org/event/the-m-w-g-m-will-attend-the-174th-annual-communication-the-mwphgl-of-the-district-of-columbia/
END:VEVENT
BEGIN:VEVENT
DTSTART;TZID=America/New_York:20231209T183000
DTEND;TZID=America/New_York:20231209T220000
DTSTAMP:20260425T085240
CREATED:20230912T001807Z
LAST-MODIFIED:20231205T014515Z
UID:5300-1702146600-1702159200@www.princehall-pa.org
SUMMARY:W.D.D.G.M. Clemments will represent the M.W.G.M. at Imperial Commandery #12's Annual Honorary Banquet.
DESCRIPTION:
URL:https://www.princehall-pa.org/event/the-m-w-g-m-will-attend-imperial-commandery-12s-annual-honorary-banquet/
END:VEVENT
BEGIN:VEVENT
DTSTART;TZID=America/New_York:20231208T170000
DTEND;TZID=America/New_York:20231210T170000
DTSTAMP:20260425T085240
CREATED:20231206T081328Z
LAST-MODIFIED:20231206T081328Z
UID:5379-1702054800-1702227600@www.princehall-pa.org
SUMMARY:The M.W.G.M. will attend the Annual Communication of the M.W.P.H.G.L. of MA.
DESCRIPTION:
URL:https://www.princehall-pa.org/event/the-m-w-g-m-will-attend-the-annual-communication-of-the-m-w-p-h-g-l-of-ma/
END:VEVENT
BEGIN:VEVENT
DTSTART;TZID=America/New_York:20231130T080000
DTEND;TZID=America/New_York:20231203T170000
DTSTAMP:20260425T085240
CREATED:20231129T035355Z
LAST-MODIFIED:20231129T035355Z
UID:5365-1701331200-1701622800@www.princehall-pa.org
SUMMARY:The M.W.G.M. will attend the 175th Grand Lodge Communication of the M.W.G.L. of Maryland
DESCRIPTION:
URL:https://www.princehall-pa.org/event/the-m-w-g-m-will-attend-the-175th-grand-lodge-communication-of-the-m-w-g-l-of-maryland/
END:VEVENT
BEGIN:VEVENT
DTSTART;TZID=America/New_York:20231119T153000
DTEND;TZID=America/New_York:20231119T180000
DTSTAMP:20260425T085240
CREATED:20230831T235020Z
LAST-MODIFIED:20230926T221323Z
UID:5240-1700407800-1700416800@www.princehall-pa.org
SUMMARY:W.D.D.G.M. Chapman will represent the M.W.G.M. at M.R.G.C.C. Annual Memorial Service.
DESCRIPTION:
URL:https://www.princehall-pa.org/event/m-r-g-c-c-annual-memorial-service/
END:VEVENT
BEGIN:VEVENT
DTSTART;TZID=America/New_York:20231111T080000
DTEND;TZID=America/New_York:20231112T170000
DTSTAMP:20260425T085240
CREATED:20230901T014543Z
LAST-MODIFIED:20230926T220436Z
UID:5292-1699689600-1699808400@www.princehall-pa.org
SUMMARY:The M.W.G.M. and Grand Line will attend The Pennsylvania Council of Deliberation\, P.H.A. Annual Session.
DESCRIPTION:
URL:https://www.princehall-pa.org/event/the-m-w-g-m-will-attend-the-pennsylvania-council-of-deliberation-p-h-a-annual-session/
END:VEVENT
BEGIN:VEVENT
DTSTART;TZID=America/New_York:20231111T080000
DTEND;TZID=America/New_York:20231111T110000
DTSTAMP:20260425T085240
CREATED:20231018T002508Z
LAST-MODIFIED:20231018T002508Z
UID:5341-1699689600-1699700400@www.princehall-pa.org
SUMMARY:The M.W.G.M. will attend the Pennsylvania State Grand Assembly Annual Breakfast.
DESCRIPTION:
URL:https://www.princehall-pa.org/event/the-m-w-g-m-will-attend-the-pennsylvania-state-grand-assembly-annual-breakfast/
END:VEVENT
BEGIN:VEVENT
DTSTART;TZID=America/New_York:20231104T190000
DTEND;TZID=America/New_York:20231104T230000
DTSTAMP:20260425T085240
CREATED:20231018T001502Z
LAST-MODIFIED:20231018T001502Z
UID:5337-1699124400-1699138800@www.princehall-pa.org
SUMMARY:The M.W.G.M. will attend the Testimonial Banquet for the M.W.G.M. of Maryland.
DESCRIPTION:
URL:https://www.princehall-pa.org/event/the-m-w-g-m-will-attend-the-testimonial-banquet-for-the-m-w-g-m-of-maryland/
END:VEVENT
BEGIN:VEVENT
DTSTART;TZID=America/New_York:20231104T190000
DTEND;TZID=America/New_York:20231104T230000
DTSTAMP:20260425T085240
CREATED:20230831T234737Z
LAST-MODIFIED:20230926T220700Z
UID:5238-1699124400-1699138800@www.princehall-pa.org
SUMMARY:W.D.D.G.M. Barfield will represent the M.W.G.M.  at M.R.G.C.C. Grand Receiving.
DESCRIPTION:
URL:https://www.princehall-pa.org/event/m-r-g-c-c-grand-receiving/
END:VEVENT
BEGIN:VEVENT
DTSTART;TZID=America/New_York:20231104T130000
DTEND;TZID=America/New_York:20231104T170000
DTSTAMP:20260425T085240
CREATED:20230808T003221Z
LAST-MODIFIED:20230808T003510Z
UID:5191-1699102800-1699117200@www.princehall-pa.org
SUMMARY:The R.W.J.G.W. will represent the M.W.G.M. at Mary E. Gould Assembly No. 61's Annual Main Affair Luncheon.
DESCRIPTION:
URL:https://www.princehall-pa.org/event/the-r-w-j-g-w-will-represent-the-m-w-g-m-at-mary-e-gouls-assembly-no-61s-annual-main-affair-luncheon/
END:VEVENT
BEGIN:VEVENT
DTSTART;TZID=America/New_York:20231023T080000
DTEND;TZID=America/New_York:20231024T170000
DTSTAMP:20260425T085240
CREATED:20231017T234516Z
LAST-MODIFIED:20231017T234516Z
UID:5334-1698048000-1698166800@www.princehall-pa.org
SUMMARY:The M.W.G.M. will attend the Heroines of Jericho's Annual Grand Session.
DESCRIPTION:
URL:https://www.princehall-pa.org/event/the-m-w-g-m-will-attend-the-heroines-of-jerichos-annual-grand-session/
END:VEVENT
BEGIN:VEVENT
DTSTART;TZID=America/New_York:20231021T080000
DTEND;TZID=America/New_York:20231022T170000
DTSTAMP:20260425T085240
CREATED:20231017T234314Z
LAST-MODIFIED:20231017T234314Z
UID:5332-1697875200-1697994000@www.princehall-pa.org
SUMMARY:The M.W.G.M. will attend the Holy Royal Arch Masons Annual Grand Session.
DESCRIPTION:
URL:https://www.princehall-pa.org/event/the-m-w-g-m-will-attend-the-holy-royal-arch-masons-annual-grand-session/
END:VEVENT
BEGIN:VEVENT
DTSTART;TZID=America/New_York:20231014T180000
DTEND;TZID=America/New_York:20231014T220000
DTSTAMP:20260425T085240
CREATED:20230724T025936Z
LAST-MODIFIED:20230724T232245Z
UID:5167-1697306400-1697320800@www.princehall-pa.org
SUMMARY:The R.W.J.G.W. will represent the M.W.G.M. at DeMolay Consistory\, No. 1's Annual Awards Banquet.
DESCRIPTION:
URL:https://www.princehall-pa.org/event/demolay-consistory-no-1s-annual-awards-banquet/
END:VEVENT
BEGIN:VEVENT
DTSTART;TZID=America/New_York:20231014T110000
DTEND;TZID=America/New_York:20231014T140000
DTSTAMP:20260425T085240
CREATED:20231018T001829Z
LAST-MODIFIED:20231018T015818Z
UID:5339-1697281200-1697292000@www.princehall-pa.org
SUMMARY:The R.W.D.G.M. will represent the M.W.G.M. at MET Carroll No. 62's Annual Recognition Luncheon.
DESCRIPTION:
URL:https://www.princehall-pa.org/event/the-r-w-d-g-m-will-represent-the-m-w-g-m-at-met-carroll-no-62-s-annual-recognition-luncheon/
END:VEVENT
BEGIN:VEVENT
DTSTART;TZID=America/New_York:20231009T080000
DTEND;TZID=America/New_York:20231010T170000
DTSTAMP:20260425T085240
CREATED:20230811T011912Z
LAST-MODIFIED:20230912T002713Z
UID:5196-1696838400-1696957200@www.princehall-pa.org
SUMMARY:208th Annual Grand Lodge Session
DESCRIPTION:
URL:https://www.princehall-pa.org/event/208th-annual-grand-session/
END:VEVENT
BEGIN:VEVENT
DTSTART;TZID=America/New_York:20231007T120000
DTEND;TZID=America/New_York:20231007T140000
DTSTAMP:20260425T085240
CREATED:20230901T000011Z
LAST-MODIFIED:20230912T003130Z
UID:5248-1696680000-1696687200@www.princehall-pa.org
SUMMARY:D.G.C. PWM Luncheon
DESCRIPTION:
URL:https://www.princehall-pa.org/event/d-g-c-pwm-luncheon/
END:VEVENT
BEGIN:VEVENT
DTSTART;TZID=America/New_York:20231001T150000
DTEND;TZID=America/New_York:20231001T180000
DTSTAMP:20260425T085240
CREATED:20230724T031458Z
LAST-MODIFIED:20230926T215649Z
UID:5171-1696172400-1696183200@www.princehall-pa.org
SUMMARY:W.D.D.G.M. Boyce will represent the M.W.G.M. at Esther Grand Court's Queen of Sheba Day.
DESCRIPTION:
URL:https://www.princehall-pa.org/event/esther-grand-courts-queen-of-sheba-day/
END:VEVENT
BEGIN:VEVENT
DTSTART;TZID=America/New_York:20230924T183000
DTEND;TZID=America/New_York:20230924T213000
DTSTAMP:20260425T085240
CREATED:20230808T002823Z
LAST-MODIFIED:20230926T220230Z
UID:5189-1695580200-1695591000@www.princehall-pa.org
SUMMARY:W.D.D.G.M. Haines will represent the M.W.G.M. at King Solomon Court No. 15's Main Affair.
DESCRIPTION:
URL:https://www.princehall-pa.org/event/the-r-w-j-g-w-will-represent-the-m-w-g-m-at-king-solomon-court-no-15s-main-affair/
END:VEVENT
BEGIN:VEVENT
DTSTART;TZID=America/New_York:20230923T190000
DTEND;TZID=America/New_York:20230923T230000
DTSTAMP:20260425T085240
CREATED:20230811T221840Z
LAST-MODIFIED:20230811T221840Z
UID:5206-1695495600-1695510000@www.princehall-pa.org
SUMMARY:The M.W.G.M. will attend the Testimonial honoring the M.W.G.M. of the District of Columbia.
DESCRIPTION:
URL:https://www.princehall-pa.org/event/the-m-w-g-m-will-attend-the-testimonial-honoring-the-m-w-g-m-of-the-district-of-columbia/
END:VEVENT
BEGIN:VEVENT
DTSTART;TZID=America/New_York:20230923T150000
DTEND;TZID=America/New_York:20230923T190000
DTSTAMP:20260425T085240
CREATED:20230724T233701Z
LAST-MODIFIED:20230813T211607Z
UID:5179-1695481200-1695495600@www.princehall-pa.org
SUMMARY:D.D.G.M. Henry will represent the M.W.G.M. at Esther Grand Court's Grand Receiving.
DESCRIPTION:
URL:https://www.princehall-pa.org/event/esther-grand-court-grand-receiving/
END:VEVENT
BEGIN:VEVENT
DTSTART;TZID=America/New_York:20230917T100000
DTEND;TZID=America/New_York:20230917T120000
DTSTAMP:20260425T085240
CREATED:20230911T234941Z
LAST-MODIFIED:20230911T234941Z
UID:5298-1694944800-1694952000@www.princehall-pa.org
SUMMARY:The M.W.G.M. will attend worship at Emmanuel United Methodist Church. 2346 N. 17th St. Philadelphia\, PA  19132
DESCRIPTION:
URL:https://www.princehall-pa.org/event/the-m-w-g-m-will-attend-worship-at-emmanuel-united-methodist-church-2346-n-17th-st-philadelphia-pa-19132/
END:VEVENT
BEGIN:VEVENT
DTSTART;TZID=America/New_York:20230916T090000
DTEND;TZID=America/New_York:20230916T120000
DTSTAMP:20260425T085240
CREATED:20230813T212014Z
LAST-MODIFIED:20230813T212014Z
UID:5225-1694854800-1694865600@www.princehall-pa.org
SUMMARY:D.D.G.M. McNair will represent the M.W.G.M. at Zerubbabel Court No. 6's Prayer Breakfast.
DESCRIPTION:
URL:https://www.princehall-pa.org/event/d-d-g-m-mcnair-will-represent-the-m-w-g-m-at-zerubbabel-court-no-6s-prayer-breakfast/
END:VEVENT
BEGIN:VEVENT
DTSTART;TZID=America/New_York:20230915T190000
DTEND;TZID=America/New_York:20230915T230000
DTSTAMP:20260425T085240
CREATED:20230808T002145Z
LAST-MODIFIED:20230808T002145Z
UID:5187-1694804400-1694818800@www.princehall-pa.org
SUMMARY:The M.W.G.M. will attend Athenian Lodge No. 24's 175th Anniversary Celebration.
DESCRIPTION:
URL:https://www.princehall-pa.org/event/the-m-w-g-m-will-attend-athenian-lodge-no-24s-175th-anniversary-celebration/
END:VEVENT
BEGIN:VEVENT
DTSTART;TZID=America/New_York:20230910T153000
DTEND;TZID=America/New_York:20230910T180000
DTSTAMP:20260425T085240
CREATED:20221124T013413Z
LAST-MODIFIED:20230811T183014Z
UID:4647-1694359800-1694368800@www.princehall-pa.org
SUMMARY:M.W.P.H.G.L. - Prince Hall and Americanism Day! 1st District - House of Faith Baptist Church\, 1001 W. Wingohocking St\, Phila PA\, 19140; 2nd\, 3rd and 4th Districts - Zion AME Church\, 701 Felton Ave\, Sharon Hill\, PA. 19079 ;  5th\, 6th\, and 9th Districts - Calvary Baptist Church\, 4601 Tilghman St\, Allentown\,  PA 18104;  7th and 8th Districts - Prince Hall Masonic Temple\, 1117 Wood St\, Pittsburgh\, PA  15221.
DESCRIPTION:
URL:https://www.princehall-pa.org/event/m-w-p-h-g-l-prince-hall-and-americanism-day/
END:VEVENT
END:VCALENDAR