BEGIN:VCALENDAR
VERSION:2.0
PRODID:-//Prince Hall Grand Lodge of PA - ECPv6.15.20//NONSGML v1.0//EN
CALSCALE:GREGORIAN
METHOD:PUBLISH
X-WR-CALNAME:Prince Hall Grand Lodge of PA
X-ORIGINAL-URL:https://www.princehall-pa.org
X-WR-CALDESC:Events for Prince Hall Grand Lodge of PA
REFRESH-INTERVAL;VALUE=DURATION:PT1H
X-Robots-Tag:noindex
X-PUBLISHED-TTL:PT1H
BEGIN:VTIMEZONE
TZID:America/New_York
BEGIN:DAYLIGHT
TZOFFSETFROM:-0500
TZOFFSETTO:-0400
TZNAME:EDT
DTSTART:20220313T070000
END:DAYLIGHT
BEGIN:STANDARD
TZOFFSETFROM:-0400
TZOFFSETTO:-0500
TZNAME:EST
DTSTART:20221106T060000
END:STANDARD
BEGIN:DAYLIGHT
TZOFFSETFROM:-0500
TZOFFSETTO:-0400
TZNAME:EDT
DTSTART:20230312T070000
END:DAYLIGHT
BEGIN:STANDARD
TZOFFSETFROM:-0400
TZOFFSETTO:-0500
TZNAME:EST
DTSTART:20231105T060000
END:STANDARD
BEGIN:DAYLIGHT
TZOFFSETFROM:-0500
TZOFFSETTO:-0400
TZNAME:EDT
DTSTART:20240310T070000
END:DAYLIGHT
BEGIN:STANDARD
TZOFFSETFROM:-0400
TZOFFSETTO:-0500
TZNAME:EST
DTSTART:20241103T060000
END:STANDARD
BEGIN:DAYLIGHT
TZOFFSETFROM:-0500
TZOFFSETTO:-0400
TZNAME:EDT
DTSTART:20250309T070000
END:DAYLIGHT
BEGIN:STANDARD
TZOFFSETFROM:-0400
TZOFFSETTO:-0500
TZNAME:EST
DTSTART:20251102T060000
END:STANDARD
END:VTIMEZONE
BEGIN:VEVENT
DTSTART;TZID=America/New_York:20240309T130000
DTEND;TZID=America/New_York:20240309T160000
DTSTAMP:20260425T102641
CREATED:20240119T213600Z
LAST-MODIFIED:20240119T213600Z
UID:5432-1709989200-1710000000@www.princehall-pa.org
SUMMARY:The M.W.G.M. will attend the Fourth O\,E\,S\, District Star Point Luncheon.
DESCRIPTION:
URL:https://www.princehall-pa.org/event/the-m-w-g-m-will-attend-the-fourth-oes-district-star-point-luncheon/
END:VEVENT
BEGIN:VEVENT
DTSTART;TZID=America/New_York:20240309T120000
DTEND;TZID=America/New_York:20240309T160000
DTSTAMP:20260425T102641
CREATED:20240301T174742Z
LAST-MODIFIED:20240301T174742Z
UID:5517-1709985600-1710000000@www.princehall-pa.org
SUMMARY:W.D.D.G.M. Claude Clement will represent the M.W.G.M. at Prince Eleazar Court No. 3\, L.O.C.O.P.'s annual luncheon.
DESCRIPTION:
URL:https://www.princehall-pa.org/event/w-d-d-g-m-claude-clement-will-represent-the-m-w-g-m-at-prince-eleazar-court-no-3-l-o-c-o-p-s-annual-luncheon/
END:VEVENT
BEGIN:VEVENT
DTSTART;TZID=America/New_York:20240309T110000
DTEND;TZID=America/New_York:20240309T140000
DTSTAMP:20260425T102641
CREATED:20240307T004155Z
LAST-MODIFIED:20240307T004155Z
UID:5522-1709982000-1709992800@www.princehall-pa.org
SUMMARY:W.D.D.G.M. Johnson will represent the M.W.G.M. at Orpha Chapter No. 21's Annual Honoree Luncheon.
DESCRIPTION:
URL:https://www.princehall-pa.org/event/w-d-d-g-m-johnson-will-represent-the-m-w-g-m-at-orpha-chapter-no-21s-annual-honoree-luncheon/
END:VEVENT
BEGIN:VEVENT
DTSTART;TZID=America/New_York:20240308T190000
DTEND;TZID=America/New_York:20240308T230000
DTSTAMP:20260425T102641
CREATED:20240123T014312Z
LAST-MODIFIED:20240123T014312Z
UID:5462-1709924400-1709938800@www.princehall-pa.org
SUMMARY:The M.W.G.M. will attend Ruth Chapter No. 66's Annual Awards Event.
DESCRIPTION:
URL:https://www.princehall-pa.org/event/the-m-w-g-m-will-attend-ruth-chapter-no-66s-annual-awards-event/
END:VEVENT
BEGIN:VEVENT
DTSTART;TZID=America/New_York:20240303T153000
DTEND;TZID=America/New_York:20240303T180000
DTSTAMP:20260425T102641
CREATED:20240206T005511Z
LAST-MODIFIED:20240301T180422Z
UID:5475-1709479800-1709488800@www.princehall-pa.org
SUMMARY:The R.W.J.G.W. will represent the M.W.G.M. at Esther Grand Court\, L.O.C.O.P.'s Service of Remembrance.
DESCRIPTION:
URL:https://www.princehall-pa.org/event/esther-grand-court-l-o-c-o-p-service-of-remembrance/
END:VEVENT
BEGIN:VEVENT
DTSTART;TZID=America/New_York:20240302T190000
DTEND;TZID=America/New_York:20240302T230000
DTSTAMP:20260425T102641
CREATED:20240123T014015Z
LAST-MODIFIED:20240216T045912Z
UID:5460-1709406000-1709420400@www.princehall-pa.org
SUMMARY:The M.W.G.M. will attend Omega Chapter No. 12's Annual Honorary Banquet.
DESCRIPTION:
URL:https://www.princehall-pa.org/event/the-m-w-g-m-will-attend-omega-chapter-no-12s-annual-honorary-banquet/
END:VEVENT
BEGIN:VEVENT
DTSTART;TZID=America/New_York:20240302T190000
DTEND;TZID=America/New_York:20240302T230000
DTSTAMP:20260425T102641
CREATED:20231220T232639Z
LAST-MODIFIED:20231220T232639Z
UID:5383-1709406000-1709420400@www.princehall-pa.org
SUMMARY:The R.W.D.G.M. will represent the M.W.G.M. at Frances E. Edwards Chapter No. 20's Annual Awards Event.
DESCRIPTION:
URL:https://www.princehall-pa.org/event/the-r-w-d-g-m-will-represent-the-m-w-g-m-at-frances-e-edwards-chapter-no-20s-annual-awards-event/
END:VEVENT
BEGIN:VEVENT
DTSTART;TZID=America/New_York:20240223T183000
DTEND;TZID=America/New_York:20240223T223000
DTSTAMP:20260425T102641
CREATED:20240121T201756Z
LAST-MODIFIED:20240121T201756Z
UID:5440-1708713000-1708727400@www.princehall-pa.org
SUMMARY:W.D.D.G.M. Harkins will represent the M.W.G.M. at Leon H. Johnson Council #8's Annual Honorary Banquet.
DESCRIPTION:
URL:https://www.princehall-pa.org/event/w-d-d-g-m-harkins-will-represent-the-m-w-g-m-at-leon-h-johnson-council-8s-annual-honorary-banquet/
END:VEVENT
BEGIN:VEVENT
DTSTART;TZID=America/New_York:20240218T153000
DTEND;TZID=America/New_York:20240218T180000
DTSTAMP:20260425T102641
CREATED:20240109T015413Z
LAST-MODIFIED:20240129T222924Z
UID:5414-1708270200-1708279200@www.princehall-pa.org
SUMMARY:The Most Worshipful Grand Lodge Founders Day Service.  1st District\, The African Episcopal Church of St. Thomas\, 6361 Lancaster Ave.\, 19151; 2nd\, 3rd\, and 4th Districts\, Ebenezer Methodist Church\, 234 E. Spruce St\, Norristown\, PA 19401; 5th\, 6th\, and 9th Districts\, Love Unlimited Ministries\, 422 Park Ave.\, Williamsport\, PA  17701; 7th and 8th Districts\, Victory Baptist Church\, 1437 Juniata St.\, Pittsburgh\, PA  15233
DESCRIPTION:
URL:https://www.princehall-pa.org/event/most-worshipful-grand-lodge-founders-day-service/
END:VEVENT
BEGIN:VEVENT
DTSTART;TZID=America/New_York:20240217T170000
DTEND;TZID=America/New_York:20240217T183000
DTSTAMP:20260425T102641
CREATED:20240213T002414Z
LAST-MODIFIED:20240213T002414Z
UID:5484-1708189200-1708194600@www.princehall-pa.org
SUMMARY:Aide de Camp Hibner will represent the M.W.G.M. at the 9th Annual observance for The Feast of Father Absalom Jones\, by the Bishop Nathan Baxter Chapter of the Union of Black Episcopalians in partnership with the Episcopal Diocese of Central Pennsylvania.
DESCRIPTION:
URL:https://www.princehall-pa.org/event/aide-de-camp-hibner-will-represent-the-m-w-g-m-at-the-9th-annual-observance-for-the-feast-of-father-absalom-jones-by-the-bishop-nathan-baxter-chapter-of-the-union-of-black-episcopalians-in-partnersh/
END:VEVENT
BEGIN:VEVENT
DTSTART;TZID=America/New_York:20240217T110000
DTEND;TZID=America/New_York:20240217T150000
DTSTAMP:20260425T102641
CREATED:20231018T004305Z
LAST-MODIFIED:20240215T005450Z
UID:5345-1708167600-1708182000@www.princehall-pa.org
SUMMARY:W.D.D.G.M. Boyce will represent the M.W.G.M. at Princess Electra Ct. No. 5's Gospel Brunch.
DESCRIPTION:
URL:https://www.princehall-pa.org/event/the-m-w-g-m-will-attend-princess-electra-ct-no-5s-gospel-brunch/
END:VEVENT
BEGIN:VEVENT
DTSTART;TZID=America/New_York:20240217T110000
DTEND;TZID=America/New_York:20240217T140000
DTSTAMP:20260425T102641
CREATED:20240101T181551Z
LAST-MODIFIED:20240101T181551Z
UID:5397-1708167600-1708178400@www.princehall-pa.org
SUMMARY:W.D.D.G.M. Chapman will represent the M.W.G.M. at Myrtle Chapter No. 90's Annual Event.
DESCRIPTION:
URL:https://www.princehall-pa.org/event/w-d-d-g-m-chapman-will-represent-the-m-w-g-m-at-myrtle-chapter-no-90s-annual-event/
END:VEVENT
BEGIN:VEVENT
DTSTART;TZID=America/New_York:20240211T150000
DTEND;TZID=America/New_York:20240211T190000
DTSTAMP:20260425T102641
CREATED:20240121T195958Z
LAST-MODIFIED:20240121T195958Z
UID:5434-1707663600-1707678000@www.princehall-pa.org
SUMMARY:W.D.D.G.M. Haines will represent the M.W.G.M. at Eliza A. Parker-Charity Court No. 28's Main Affair.
DESCRIPTION:
URL:https://www.princehall-pa.org/event/w-d-d-g-m-haines-will-represent-the-m-w-g-m-at-eliza-a-parker-charity-court-no-28s-main-affair/
END:VEVENT
BEGIN:VEVENT
DTSTART;TZID=America/New_York:20240211T093000
DTEND;TZID=America/New_York:20240211T120000
DTSTAMP:20260425T102641
CREATED:20240207T013728Z
LAST-MODIFIED:20240207T014644Z
UID:5478-1707643800-1707652800@www.princehall-pa.org
SUMMARY:The M.W.G.M. will attend the Worship Service for the Feast of Absalom Jones. At the African Episcopal Church of St. Thomas\, 6361 Lancaster Ave. (Absalom Jones Way) Philadelphia\, PA  19151.\,
DESCRIPTION:
URL:https://www.princehall-pa.org/event/the-m-w-g-m-will-attend-the-worship-service-for-the-feast-of-absalom-jones/
END:VEVENT
BEGIN:VEVENT
DTSTART;TZID=America/New_York:20240210T190000
DTEND;TZID=America/New_York:20240210T230000
DTSTAMP:20260425T102641
CREATED:20240123T013747Z
LAST-MODIFIED:20240123T013747Z
UID:5458-1707591600-1707606000@www.princehall-pa.org
SUMMARY:The M.W.G.M. will attend Social Friendship Lodge #42 Cedar Square Club 10th Annual Valentine's Cabaret.
DESCRIPTION:
URL:https://www.princehall-pa.org/event/the-m-w-g-m-will-attend-social-friendship-lodge-42-cedar-square-club-10th-annual-valentines-cabaret/
END:VEVENT
BEGIN:VEVENT
DTSTART;TZID=America/New_York:20240210T190000
DTEND;TZID=America/New_York:20240210T230000
DTSTAMP:20260425T102641
CREATED:20240101T183254Z
LAST-MODIFIED:20240101T183254Z
UID:5403-1707591600-1707606000@www.princehall-pa.org
SUMMARY:The R.W.J.G.W. will represent the M.W.G.M. at the 2nd O.E.S. District's Regal Ball.
DESCRIPTION:
URL:https://www.princehall-pa.org/event/the-r-w-j-g-w-will-represent-the-m-w-g-m-at-the-2nd-o-e-s-districts-regal-ball/
END:VEVENT
BEGIN:VEVENT
DTSTART;TZID=America/New_York:20240203T180000
DTEND;TZID=America/New_York:20240203T220000
DTSTAMP:20260425T102641
CREATED:20230901T010623Z
LAST-MODIFIED:20240109T005924Z
UID:5281-1706983200-1706997600@www.princehall-pa.org
SUMMARY:The R.W.J.G.W. will represent the M.W.G.M. at EGC LOCOP's  Annual Orchid Ball - Queens' Contest.
DESCRIPTION:
URL:https://www.princehall-pa.org/event/egc-locop-annual-orchid-ball-queens-contest/
END:VEVENT
BEGIN:VEVENT
DTSTART;TZID=America/New_York:20240201T120000
DTEND;TZID=America/New_York:20240201T150000
DTSTAMP:20260425T102641
CREATED:20240123T003328Z
LAST-MODIFIED:20240123T003328Z
UID:5452-1706788800-1706799600@www.princehall-pa.org
SUMMARY:The M.W.G.M. will attend the 82nd Annual Observance of The National Freedom Day Association.
DESCRIPTION:
URL:https://www.princehall-pa.org/event/the-m-w-g-m-will-attend-the-82nd-annual-observance-of-the-national-freedom-day-association/
END:VEVENT
BEGIN:VEVENT
DTSTART;TZID=America/New_York:20240127T130000
DTEND;TZID=America/New_York:20240127T170000
DTSTAMP:20260425T102641
CREATED:20240121T202227Z
LAST-MODIFIED:20240121T202227Z
UID:5442-1706360400-1706374800@www.princehall-pa.org
SUMMARY:W.D.D.G.M. Boyce will represent the M.W.G.M. at Zerubbabel Court No. 6's "Purple Winter Jubilee" Luncheon.
DESCRIPTION:
URL:https://www.princehall-pa.org/event/w-d-d-g-m-boyce-will-represent-the-m-w-g-m-at-zerubbabel-court-no-6s-purple-winter-jubilee-luncheon/
END:VEVENT
BEGIN:VEVENT
DTSTART;TZID=America/New_York:20240127T090000
DTEND;TZID=America/New_York:20240127T120000
DTSTAMP:20260425T102641
CREATED:20240101T181937Z
LAST-MODIFIED:20240101T181937Z
UID:5399-1706346000-1706356800@www.princehall-pa.org
SUMMARY:W.D.D.G.M. Clements will represent the M.W.G.M. at Charles E. Gordon Consistory #65's Annual Event.
DESCRIPTION:
URL:https://www.princehall-pa.org/event/w-d-d-g-m-clements-will-represent-the-m-w-g-m-at-charles-e-gordon-consistory-65s-annual-event/
END:VEVENT
BEGIN:VEVENT
DTSTART;TZID=America/New_York:20240120T180000
DTEND;TZID=America/New_York:20240120T230000
DTSTAMP:20260425T102641
CREATED:20231205T003840Z
LAST-MODIFIED:20231205T003840Z
UID:5367-1705773600-1705791600@www.princehall-pa.org
SUMMARY:The R.W.S.G.W. will represent the M.W.G.M. at Philadelphia Court No. 1's Purple and Gold Ball.
DESCRIPTION:
URL:https://www.princehall-pa.org/event/the-r-w-s-g-w-will-represent-the-m-w-g-m-at-philadelphia-court-no-1s-purple-and-gold-ball/
END:VEVENT
BEGIN:VEVENT
DTSTART;TZID=America/New_York:20240120T100000
DTEND;TZID=America/New_York:20240120T140000
DTSTAMP:20260425T102641
CREATED:20240108T234747Z
LAST-MODIFIED:20240108T234747Z
UID:5411-1705744800-1705759200@www.princehall-pa.org
SUMMARY:The M.W.G.M. will attend Unit #86\, Pennsylvania Commanders of the Rite\, 33rd Degree's Annual Prayer Luncheon.
DESCRIPTION:
URL:https://www.princehall-pa.org/event/the-m-w-g-m-will-attend-unit-86-pennsylvania-commanders-of-the-rite-33rd-degrees-annual-prayer-luncheon/
END:VEVENT
BEGIN:VEVENT
DTSTART;TZID=America/New_York:20240115T090000
DTEND;TZID=America/New_York:20240115T120000
DTSTAMP:20260425T102641
CREATED:20240114T221636Z
LAST-MODIFIED:20240114T221636Z
UID:5424-1705309200-1705320000@www.princehall-pa.org
SUMMARY:The M.W.G.M. will attend the Dr. Martin Luther King Jr.\, Day Worship Service at Zion Baptist Church.
DESCRIPTION:
URL:https://www.princehall-pa.org/event/the-m-w-g-m-will-attend-the-dr-martin-luther-king-jr-day-worship-service-at-zion-baptist-church/
END:VEVENT
BEGIN:VEVENT
DTSTART;TZID=America/New_York:20240114T123000
DTEND;TZID=America/New_York:20240114T163000
DTSTAMP:20260425T102641
CREATED:20231205T004138Z
LAST-MODIFIED:20231205T004138Z
UID:5369-1705235400-1705249800@www.princehall-pa.org
SUMMARY:The R.W.J.G.W. will represent the M.W.G.M. at St. Valentine Royal Court No 25's Murder Mystery Theater Party.
DESCRIPTION:
URL:https://www.princehall-pa.org/event/the-r-w-j-g-w-will-represent-the-m-w-g-m-at-st-valentine-royal-court-no-25s-murder-mystery-theater-party/
END:VEVENT
BEGIN:VEVENT
DTSTART;TZID=America/New_York:20240113T130000
DTEND;TZID=America/New_York:20240113T160000
DTSTAMP:20260425T102641
CREATED:20240106T025444Z
LAST-MODIFIED:20240106T025444Z
UID:5409-1705150800-1705161600@www.princehall-pa.org
SUMMARY:W.D.D.G.M. Haines will represent the M.W.G.M. at Fannie J. Coppin No. 37's "High Fashion on the Seas" event.
DESCRIPTION:
URL:https://www.princehall-pa.org/event/w-d-d-g-m-haines-will-represent-the-m-w-g-m-at-fannie-j-coppin-no-37s-high-fashion-on-the-seas-event/
END:VEVENT
BEGIN:VEVENT
DTSTART;TZID=America/New_York:20240106T190000
DTEND;TZID=America/New_York:20240106T230000
DTSTAMP:20260425T102641
CREATED:20240104T014629Z
LAST-MODIFIED:20240104T014629Z
UID:5407-1704567600-1704582000@www.princehall-pa.org
SUMMARY:The M.W.G.M. will attend the Inaugural Dinner and Public Installation Program for the M.W.G.M.of the District of Columbia.
DESCRIPTION:
URL:https://www.princehall-pa.org/event/the-m-w-g-m-will-attend-the-inaugural-dinner-and-public-installation-program-for-the-m-w-g-m-of-the-district-of-columbia/
END:VEVENT
BEGIN:VEVENT
DTSTART;TZID=America/New_York:20231225T110000
DTEND;TZID=America/New_York:20231225T130000
DTSTAMP:20260425T102641
CREATED:20230921T003128Z
LAST-MODIFIED:20231221T001102Z
UID:5309-1703502000-1703509200@www.princehall-pa.org
SUMMARY:The R.W.J.G.W. will represent the M.W.G.M. at the United Grand Commandery's Christmas Toast.
DESCRIPTION:
URL:https://www.princehall-pa.org/event/united-grand-commandery-christmas-toast/
END:VEVENT
BEGIN:VEVENT
DTSTART;TZID=America/New_York:20231222T110000
DTEND;TZID=America/New_York:20231222T150000
DTSTAMP:20260425T102641
CREATED:20231222T014648Z
LAST-MODIFIED:20231222T014648Z
UID:5394-1703242800-1703257200@www.princehall-pa.org
SUMMARY:The M.W.G.M. will attend the homegoing service of the R.W.D.G.M. of Maryland's Mother.
DESCRIPTION:
URL:https://www.princehall-pa.org/event/the-m-w-g-m-will-attend-the-homegoing-service-of-the-r-w-d-g-m-of-marylands-mother/
END:VEVENT
BEGIN:VEVENT
DTSTART;TZID=America/New_York:20231217T153000
DTEND;TZID=America/New_York:20231217T180000
DTSTAMP:20260425T102641
CREATED:20231206T073029Z
LAST-MODIFIED:20231206T073302Z
UID:5374-1702827000-1702836000@www.princehall-pa.org
SUMMARY:M.W.P.H.G.L. of PA. St John the Evangelist Day - 1st District\, Grace Baptist Church of Germantown\, 25 W. Johnson St.\, Phila.\, 19144; 2nd\, 3rd\, & 4th Districts\, Bethel AME Church\, 334 Minor St.\, West Chester\, 19382; 5th\, 6th\, & 9th Districts\, Love Unlimited Ministries\, 734 West Fourth St.\, Williamsport\, 17701; 7th\, & 8th Districts\, Greater Morris A.M.E. Chapel\, 926 Darr Ave.\, Farrell 16121.
DESCRIPTION:
URL:https://www.princehall-pa.org/event/m-w-p-h-g-l-st-john-the-evangelist-day-services-1st-district-grace-baptist-church-of-germantown-25-w-johnson-st-phila-19144-2nd-3rd-4th-districts-bethel-ame-church-334-minor-st-west/
END:VEVENT
BEGIN:VEVENT
DTSTART;TZID=America/New_York:20231215T080000
DTEND;TZID=America/New_York:20231216T230000
DTSTAMP:20260425T102641
CREATED:20230901T000301Z
LAST-MODIFIED:20230901T000324Z
UID:5250-1702627200-1702767600@www.princehall-pa.org
SUMMARY:D.G.C. Statewide Seminar and Banquet honoring Grand Chairpersons.
DESCRIPTION:
URL:https://www.princehall-pa.org/event/d-g-c-statewide-seminar-and-banquet-honoring-grand-chairpersons/
END:VEVENT
END:VCALENDAR