BEGIN:VCALENDAR
VERSION:2.0
PRODID:-//Prince Hall Grand Lodge of PA - ECPv6.15.20//NONSGML v1.0//EN
CALSCALE:GREGORIAN
METHOD:PUBLISH
X-WR-CALNAME:Prince Hall Grand Lodge of PA
X-ORIGINAL-URL:https://www.princehall-pa.org
X-WR-CALDESC:Events for Prince Hall Grand Lodge of PA
REFRESH-INTERVAL;VALUE=DURATION:PT1H
X-Robots-Tag:noindex
X-PUBLISHED-TTL:PT1H
BEGIN:VTIMEZONE
TZID:UTC
BEGIN:STANDARD
TZOFFSETFROM:+0000
TZOFFSETTO:+0000
TZNAME:UTC
DTSTART:20200101T000000
END:STANDARD
END:VTIMEZONE
BEGIN:VTIMEZONE
TZID:America/New_York
BEGIN:DAYLIGHT
TZOFFSETFROM:-0500
TZOFFSETTO:-0400
TZNAME:EDT
DTSTART:20210314T070000
END:DAYLIGHT
BEGIN:STANDARD
TZOFFSETFROM:-0400
TZOFFSETTO:-0500
TZNAME:EST
DTSTART:20211107T060000
END:STANDARD
BEGIN:DAYLIGHT
TZOFFSETFROM:-0500
TZOFFSETTO:-0400
TZNAME:EDT
DTSTART:20220313T070000
END:DAYLIGHT
BEGIN:STANDARD
TZOFFSETFROM:-0400
TZOFFSETTO:-0500
TZNAME:EST
DTSTART:20221106T060000
END:STANDARD
BEGIN:DAYLIGHT
TZOFFSETFROM:-0500
TZOFFSETTO:-0400
TZNAME:EDT
DTSTART:20230312T070000
END:DAYLIGHT
BEGIN:STANDARD
TZOFFSETFROM:-0400
TZOFFSETTO:-0500
TZNAME:EST
DTSTART:20231105T060000
END:STANDARD
END:VTIMEZONE
BEGIN:VEVENT
DTSTART;TZID=UTC:20220402T100000
DTEND;TZID=UTC:20220402T220000
DTSTAMP:20260426T003854
CREATED:20211107T073200Z
LAST-MODIFIED:20220303T023512Z
UID:3351-1648893600-1648936800@www.princehall-pa.org
SUMMARY:The M.W.G.M. will attend the M.R.G.C. of Cyrene Annual Receiving & Grand Seminar on Saturday\, April 2\, 2022\, at the Delta Hotel Philadelphia Airport\, 500 Stevens Drive\, Philadelphia\, PA  19113.
DESCRIPTION:
URL:https://www.princehall-pa.org/event/m-r-g-c-of-cyrene-annual-receiving-grand-seminar/
END:VEVENT
BEGIN:VEVENT
DTSTART;TZID=UTC:20220402T090000
DTEND;TZID=UTC:20220402T140000
DTSTAMP:20260426T003854
CREATED:20220318T064541Z
LAST-MODIFIED:20220318T065446Z
UID:3806-1648890000-1648908000@www.princehall-pa.org
SUMMARY:The Most Worshipful Prince Hall Grand Lodge Clean Up Day!  4301 N. Broad St and Bristol Street. Let's Show Up and Show Out. Show Your Gear and/or Your Colors\, Be "Prince Hall Proud"!
DESCRIPTION:
URL:https://www.princehall-pa.org/event/the-most-worshipful-prince-hall-grand-lodge-clean-up-day-4301-n-broad-st-and-bristol-street-lets-show-up-show-out-show-your-gear-and-or-your-colors-be-prince-hall-proud/
END:VEVENT
BEGIN:VEVENT
DTSTART;TZID=UTC:20220401T190000
DTEND;TZID=UTC:20220401T230000
DTSTAMP:20260426T003854
CREATED:20220210T054149Z
LAST-MODIFIED:20220210T054149Z
UID:3644-1648839600-1648854000@www.princehall-pa.org
SUMMARY:The M.W.G.M. will attend King Solomon Chapter No. 60's Evening of "Stars" Recognizing Phenomenal Women at the Clarion Hotel and Conference Center\, 76 Industrial Highway\, Essington\, PA 19029
DESCRIPTION:
URL:https://www.princehall-pa.org/event/the-m-w-g-m-will-attend-king-solomon-chapter-no-60s-evening-of-stars-recognizing-phenomenal-women-at-the-clarion-hotel-and-conference-center-76-industrial-highway-essington-pa-19029/
END:VEVENT
BEGIN:VEVENT
DTSTART;TZID=UTC:20220327T150000
DTEND;TZID=UTC:20220327T170000
DTSTAMP:20260426T003854
CREATED:20220317T021552Z
LAST-MODIFIED:20220317T021552Z
UID:3793-1648393200-1648400400@www.princehall-pa.org
SUMMARY:The M.W.G.M. will attend Jeptha Chapter No. 4's Virtual Big Hat Tea
DESCRIPTION:
URL:https://www.princehall-pa.org/event/the-m-w-g-m-will-attend-jeptha-chapter-no-4s-virtual-big-hat-tea/
END:VEVENT
BEGIN:VEVENT
DTSTART;TZID=UTC:20220326T123000
DTEND;TZID=UTC:20220326T153000
DTSTAMP:20260426T003854
CREATED:20220317T032353Z
LAST-MODIFIED:20220317T052618Z
UID:3797-1648297800-1648308600@www.princehall-pa.org
SUMMARY:The W.D.A.L. will represent the M.W.G.M. at Rebecca Chapter No. 51's Annual Awards Event at Cannstatter Volkfest Verein\, 9130 Academy Rd.\, Phila.\, PA 19114
DESCRIPTION:
URL:https://www.princehall-pa.org/event/the-w-d-l-will-represent-the-m-w-g-m-at-rebecca-chapter-no-51s-annual-awards-event-at-cannstatter-volkfest-verein-9130-academy-rd-phila-pa-19114/
END:VEVENT
BEGIN:VEVENT
DTSTART;TZID=America/New_York:20220324T080000
DTEND;TZID=America/New_York:20220326T170000
DTSTAMP:20260426T003854
CREATED:20221110T011857Z
LAST-MODIFIED:20221110T011857Z
UID:4457-1648108800-1648314000@www.princehall-pa.org
SUMMARY:M.W.P.H.G.L. - Mid Year Session\, Gettysburg\, PA
DESCRIPTION:
URL:https://www.princehall-pa.org/event/m-w-p-h-g-l-mid-year-session-gettysburg-pa/
END:VEVENT
BEGIN:VEVENT
DTSTART;TZID=America/New_York:20220319T150000
DTEND;TZID=America/New_York:20220319T180000
DTSTAMP:20260426T003854
CREATED:20221110T011624Z
LAST-MODIFIED:20221110T011624Z
UID:4455-1647702000-1647712800@www.princehall-pa.org
SUMMARY:D.G.C. O.E.S. Inc.\, Annual Chapter of Sorrow
DESCRIPTION:
URL:https://www.princehall-pa.org/event/d-g-c-o-e-s-inc-annual-chapter-of-sorrow/
END:VEVENT
BEGIN:VEVENT
DTSTART;TZID=UTC:20220319T120000
DTEND;TZID=UTC:20220319T150000
DTSTAMP:20260426T003854
CREATED:20220317T034356Z
LAST-MODIFIED:20220317T035341Z
UID:3799-1647691200-1647702000@www.princehall-pa.org
SUMMARY:The R.W.D.G.M. will represent the M.W.G.M. at Eureka Chapter No. 12's Annual Five Point Tea at the Keystone Valley Fire Hall 1918 Valley Rd.\, Pomeroy\, PA 19367
DESCRIPTION:
URL:https://www.princehall-pa.org/event/the-r-w-d-g-m-will-represent-the-m-w-g-m-at-eureka-chapter-no-12s-annual-five-point-tea-at-the-keystone-valley-fire-hall-1918-valley-rd-pomeroy-pa-19367/
END:VEVENT
BEGIN:VEVENT
DTSTART;TZID=UTC:20220319T120000
DTEND;TZID=UTC:20220319T150000
DTSTAMP:20260426T003854
CREATED:20220201T084154Z
LAST-MODIFIED:20220201T084154Z
UID:3601-1647691200-1647702000@www.princehall-pa.org
SUMMARY:The M.W.G.M. will attend Louisa S. Rumford Chapter No. 15's Annual Banquet at the FOP Lodge No. 5\, 11630 Caroline Road\, Philadelphia\, PA 19154
DESCRIPTION:
URL:https://www.princehall-pa.org/event/the-m-w-g-m-will-attend-louisa-s-rumford-chapter-no-15s-annual-banquet-at-the-fop-lodge-no-5-11630-caroline-road-philadelphia-pa-19154/
END:VEVENT
BEGIN:VEVENT
DTSTART;TZID=UTC:20220319T110000
DTEND;TZID=UTC:20220319T130000
DTSTAMP:20260426T003854
CREATED:20220317T031648Z
LAST-MODIFIED:20220317T031648Z
UID:3795-1647687600-1647694800@www.princehall-pa.org
SUMMARY:The R.W.S.G.W. will represent the M.W.G.M. at Orpha Chapter No. 21's Annual Recognition Luncheon at the Quality Inn 8040 Perry Highway\, Erie\, PA 16509.
DESCRIPTION:
URL:https://www.princehall-pa.org/event/the-r-w-s-g-w-will-represent-the-m-w-g-m-at-orpha-chapter-no-21s-annual-recognition-luncheon-at-the-quality-inn-8040-perry-highway-erie-pa-16509/
END:VEVENT
BEGIN:VEVENT
DTSTART;TZID=UTC:20220313T153000
DTEND;TZID=UTC:20220313T180000
DTSTAMP:20260426T003854
CREATED:20220201T082727Z
LAST-MODIFIED:20220201T083531Z
UID:3598-1647185400-1647194400@www.princehall-pa.org
SUMMARY:The M.W.G.M. will attend P.H.G.C. Royal & Select Masters Grand Assembly\, "Virtual" Adoniram Day Service.
DESCRIPTION:
URL:https://www.princehall-pa.org/event/the-m-w-g-m-will-attend-phgcs-virtual-adoniram-day-service/
END:VEVENT
BEGIN:VEVENT
DTSTART;TZID=UTC:20220312T190000
DTEND;TZID=UTC:20220312T230000
DTSTAMP:20260426T003854
CREATED:20211230T071833Z
LAST-MODIFIED:20211230T071833Z
UID:3511-1647111600-1647126000@www.princehall-pa.org
SUMMARY:The M.W.G.M. will attend Frances E. Edwards Chapter No. 20's Annual Awards Event. At P & P Caterers\, Townsend Room\, 12273 Townsend Road\, Philadelphia\, PA 19154
DESCRIPTION:
URL:https://www.princehall-pa.org/event/the-m-w-g-m-will-attend-frances-e-edwards-chapter-no-20s-annual-awards-event-at-p-p-caterers-townsend-room-12273-townsend-road-philadelphia-pa-19154/
END:VEVENT
BEGIN:VEVENT
DTSTART;TZID=UTC:20220312T190000
DTEND;TZID=UTC:20220312T230000
DTSTAMP:20260426T003854
CREATED:20211107T072117Z
LAST-MODIFIED:20211107T072117Z
UID:3345-1647111600-1647126000@www.princehall-pa.org
SUMMARY:DGC OES 4th OES District Main Affair - In Person
DESCRIPTION:
URL:https://www.princehall-pa.org/event/dgc-oes-4th-oes-district-main-affair-in-person/
END:VEVENT
BEGIN:VEVENT
DTSTART;TZID=UTC:20220312T080000
DTEND;TZID=UTC:20220312T170000
DTSTAMP:20260426T003854
CREATED:20220303T041347Z
LAST-MODIFIED:20220303T041347Z
UID:3719-1647072000-1647104400@www.princehall-pa.org
SUMMARY:The M.W.G.M. will attend the Light of Elmwood Lodge #45's Master Mason Degree Ceremony at the Clarion Hotel\, 76 Industrial Hwy.\, Essington\, PA 19029.
DESCRIPTION:
URL:https://www.princehall-pa.org/event/the-m-w-g-m-will-attend-the-light-of-elmwood-lodge-45s-master-mason-degree-ceremony-at-the-clarion-hotel-76-industrial-hwy-essington-pa-19029/
END:VEVENT
BEGIN:VEVENT
DTSTART;TZID=UTC:20220306T160000
DTEND;TZID=UTC:20220306T180000
DTSTAMP:20260426T003854
CREATED:20211107T071645Z
LAST-MODIFIED:20220305T133721Z
UID:3343-1646582400-1646589600@www.princehall-pa.org
SUMMARY:The M.W.G.M. will attend Esther Grand Court\, Ladies of the Circle of Perfection's\, Service of Remembrance at Mt. Sinai Tabernacle Baptist Church\, 2737 W. Lehigh Ave.\, Philadelphia\, PA 19132
DESCRIPTION:
URL:https://www.princehall-pa.org/event/e-g-c-l-o-c-o-p-service-of-remembrance-in-person/
END:VEVENT
BEGIN:VEVENT
DTSTART;TZID=UTC:20220305T120000
DTEND;TZID=UTC:20220305T150000
DTSTAMP:20260426T003854
CREATED:20220203T042847Z
LAST-MODIFIED:20220203T042847Z
UID:3608-1646481600-1646492400@www.princehall-pa.org
SUMMARY:The M.W.G.M. will attend the National Freedom Day Association's Annual Luncheon at the City Line Hilton Hotel.
DESCRIPTION:
URL:https://www.princehall-pa.org/event/the-m-w-g-m-will-attend-the-national-freedom-day-associations-annual-luncheon-at-the-city-line-hilton-hotel/
END:VEVENT
BEGIN:VEVENT
DTSTART;TZID=UTC:20220226T090000
DTEND;TZID=UTC:20220226T230000
DTSTAMP:20260426T003854
CREATED:20211107T071204Z
LAST-MODIFIED:20220221T010304Z
UID:3341-1645866000-1645916400@www.princehall-pa.org
SUMMARY:The M.W.G.M. will attend the M.A.G.C. Heroines of Jericho Annual Seminar/Receiving at the Clarion Hotel at Philadelphia Airport\, 76 Industrial Hwy\, Essington\, PA.
DESCRIPTION:
URL:https://www.princehall-pa.org/event/m-a-g-c-heroines-of-jericho-annual-seminar-receiving-in-person/
END:VEVENT
BEGIN:VEVENT
DTSTART;TZID=UTC:20220223T190000
DTEND;TZID=UTC:20220223T203000
DTSTAMP:20260426T003854
CREATED:20220214T083823Z
LAST-MODIFIED:20220214T084411Z
UID:3670-1645642800-1645648200@www.princehall-pa.org
SUMMARY:Black History Month Presentation - The Topic will be "Famous Pennsylvania Prince Hall Freemasons"\, It will be a hybrid presentation with a 'live' audience on site.
DESCRIPTION:
URL:https://www.princehall-pa.org/event/black-history-month-presentation-the-topic-will-be-famous-pennsylvania-prince-hall-freemasons/
END:VEVENT
BEGIN:VEVENT
DTSTART;TZID=UTC:20220221T000100
DTEND;TZID=UTC:20220221T235900
DTSTAMP:20260426T003854
CREATED:20211207T003259Z
LAST-MODIFIED:20220113T081244Z
UID:3461-1645401660-1645487940@www.princehall-pa.org
SUMMARY:Temple Closures: 4301 North Broad Street\, Philadelphia\, PA  19140 and 1117 Wood Street\, Pittsburgh\, PA 15221\, (President's Day)
DESCRIPTION:
URL:https://www.princehall-pa.org/event/temple-closures-4301-north-broad-street-philadelphia-pa-19140-and-1117-wood-street-pittsburgh-pa-15221-4/
END:VEVENT
BEGIN:VEVENT
DTSTART;TZID=UTC:20220220T153000
DTEND;TZID=UTC:20220220T180000
DTSTAMP:20260426T003854
CREATED:20220208T070043Z
LAST-MODIFIED:20220220T030632Z
UID:3621-1645371000-1645380000@www.princehall-pa.org
SUMMARY:Founder's Day Service\, A "Virtual" Service will be held. Services allow us to publicly give honor and recognition to two of our organizations' founding fathers; Absalom Jones who was our first Grand Master and Richard Allen our first Grand Treasurer.
DESCRIPTION:
URL:https://www.princehall-pa.org/event/founders-day-services-alow-us-to-publicly-give-honor-and-recognition-to-two-of-our-organizations-founding-fathers-absalom-jones-who-was-our-first-grand-master-and-richard-allen-our-first-grand-tr/
END:VEVENT
BEGIN:VEVENT
DTSTART;TZID=UTC:20220219T150000
DTEND;TZID=UTC:20220219T170000
DTSTAMP:20260426T003854
CREATED:20220203T064746Z
LAST-MODIFIED:20220203T064746Z
UID:3612-1645282800-1645290000@www.princehall-pa.org
SUMMARY:The M.W.G.M. will attend Mary E. Taylor Court No. 30\, Heroines of Jericho\, Inc.\, "Virtual" Jazzy Afternoon Tea Main Affair.
DESCRIPTION:
URL:https://www.princehall-pa.org/event/the-m-w-g-m-will-attend-mary-e-taylor-court-no-30-heroines-of-jericho-inc-virtual-jazzy-afternoon-tea-main-affair/
END:VEVENT
BEGIN:VEVENT
DTSTART;TZID=UTC:20220211T160000
DTEND;TZID=UTC:20220213T110000
DTSTAMP:20260426T003854
CREATED:20220201T082013Z
LAST-MODIFIED:20220201T082013Z
UID:3596-1644595200-1644750000@www.princehall-pa.org
SUMMARY:The M.W.G.M. will attend Herbert E. Millen Lodge # 151's Sweethearts Ball Weekend at the Woodlands Inn\, Wilkes Barre\, PA
DESCRIPTION:
URL:https://www.princehall-pa.org/event/the-m-w-g-m-will-attend-herbert-e-millen-lodge-151s-sweethearts-ball-weekend-at-the-woodlands-inn-wilkes-barre-pa/
END:VEVENT
BEGIN:VEVENT
DTSTART;TZID=UTC:20220201T100000
DTEND;TZID=UTC:20220201T103000
DTSTAMP:20260426T003854
CREATED:20220203T042445Z
LAST-MODIFIED:20220203T072118Z
UID:3606-1643709600-1643711400@www.princehall-pa.org
SUMMARY:The M.W.G.M. will attend the National Freedom Day Association's Ringing of the Liberty Bell
DESCRIPTION:
URL:https://www.princehall-pa.org/event/the-m-w-g-m-will-attend-the-national-freedom-day-associations-ringing-of-the-liberty-bell/
END:VEVENT
BEGIN:VEVENT
DTSTART;TZID=UTC:20220128T150000
DTEND;TZID=UTC:20220130T170000
DTSTAMP:20260426T003854
CREATED:20201115T015226Z
LAST-MODIFIED:20211107T051522Z
UID:2348-1643382000-1643562000@www.princehall-pa.org
SUMMARY:DGC - OES. Inc. Special Elections\, Seminar and Testimonial Weekend
DESCRIPTION:Mass Initiation\, Global Seminar & Testimonial
URL:https://www.princehall-pa.org/event/dgc-oes-inc-initiation-seminar-testimonial/
END:VEVENT
BEGIN:VEVENT
DTSTART;TZID=UTC:20220117T000100
DTEND;TZID=UTC:20220117T235900
DTSTAMP:20260426T003854
CREATED:20211207T002923Z
LAST-MODIFIED:20220113T081427Z
UID:3459-1642377660-1642463940@www.princehall-pa.org
SUMMARY:Temple Closures: 4301 North Broad Street\, Philadelphia\, PA  19140 and 1117 Wood Street\, Pittsburgh\, PA 15221\, (Martin Luther King Day)
DESCRIPTION:
URL:https://www.princehall-pa.org/event/temple-closures-4301-north-broad-street-philadelphia-pa-19140-and-1117-wood-street-pittsburgh-pa-15221-3/
END:VEVENT
BEGIN:VEVENT
DTSTART;TZID=America/New_York:20220116T000000
DTEND;TZID=America/New_York:20220116T235900
DTSTAMP:20260426T003854
CREATED:20221031T012106Z
LAST-MODIFIED:20221031T012106Z
UID:4415-1642291200-1642377540@www.princehall-pa.org
SUMMARY:Temple Closures: 4301 North Broad Street\, Philadelphia\, PA  19140 and 1117 Wood Street\, Pittsburgh\, PA 15221 (Martin Luther King\, Jr. Day)
DESCRIPTION:
URL:https://www.princehall-pa.org/event/temple-closures-4301-north-broad-street-philadelphia-pa-19140-and-1117-wood-street-pittsburgh-pa-15221-martin-luther-king-jr-day/
END:VEVENT
BEGIN:VEVENT
DTSTART;TZID=UTC:20211231T000100
DTEND;TZID=UTC:20220102T000100
DTSTAMP:20260426T003854
CREATED:20211207T002712Z
LAST-MODIFIED:20211207T002712Z
UID:3457-1640908860-1641081660@www.princehall-pa.org
SUMMARY:Temple Closures: 4301 North Broad Street\, Philadelphia\, PA  19140 and 1117 Wood Street\, Pittsburgh\, PA 15221
DESCRIPTION:
URL:https://www.princehall-pa.org/event/temple-closures-4301-north-broad-street-philadelphia-pa-19140-and-1117-wood-street-pittsburgh-pa-15221-2/
END:VEVENT
BEGIN:VEVENT
DTSTART;TZID=UTC:20211226T150000
DTEND;TZID=UTC:20211228T120000
DTSTAMP:20260426T003854
CREATED:20211029T045754Z
LAST-MODIFIED:20211029T045754Z
UID:3305-1640530800-1640692800@www.princehall-pa.org
SUMMARY:RWGL of Pennsylvania Grand Communication 2021
DESCRIPTION:A Grand Communication of the Grand Lodge of Free and Accepted Masons of Pennsylvania will be held at the Wyndham Grand\, Downtown Pittsburgh\, 600 Commonwealth Place\, Pittsburgh\, PA 15222\, on Monday\, December 27\, 2021 at 10:00 AM.
URL:https://www.princehall-pa.org/event/rwgl-of-pennsylvania-grand-communication-2021/
END:VEVENT
BEGIN:VEVENT
DTSTART;TZID=UTC:20211225T110000
DTEND;TZID=UTC:20211225T130000
DTSTAMP:20260426T003854
CREATED:20211214T073258Z
LAST-MODIFIED:20211214T073258Z
UID:3494-1640430000-1640437200@www.princehall-pa.org
SUMMARY:The M.W.G.M. will attend the United Grand Commandery's "Annual Christmas Toast" via Zoom
DESCRIPTION:
URL:https://www.princehall-pa.org/event/the-m-w-g-m-will-attend-the-united-grand-commanderys-annual-christmas-toast-via-zoom/
END:VEVENT
BEGIN:VEVENT
DTSTART;TZID=UTC:20211225T110000
DTEND;TZID=UTC:20211225T130000
DTSTAMP:20260426T003854
CREATED:20211107T044424Z
LAST-MODIFIED:20211214T073918Z
UID:3330-1640430000-1640437200@www.princehall-pa.org
SUMMARY:U.G.C. Knights Templar - Christmas Toast - Virtual
DESCRIPTION:
URL:https://www.princehall-pa.org/event/m-r-g-c-of-cyrene-memorial-service-hybrid-head-of-houses-only/
END:VEVENT
END:VCALENDAR