BEGIN:VCALENDAR
VERSION:2.0
PRODID:-//Prince Hall Grand Lodge of PA - ECPv6.15.20//NONSGML v1.0//EN
CALSCALE:GREGORIAN
METHOD:PUBLISH
X-WR-CALNAME:Prince Hall Grand Lodge of PA
X-ORIGINAL-URL:https://www.princehall-pa.org
X-WR-CALDESC:Events for Prince Hall Grand Lodge of PA
REFRESH-INTERVAL;VALUE=DURATION:PT1H
X-Robots-Tag:noindex
X-PUBLISHED-TTL:PT1H
BEGIN:VTIMEZONE
TZID:UTC
BEGIN:STANDARD
TZOFFSETFROM:+0000
TZOFFSETTO:+0000
TZNAME:UTC
DTSTART:20210101T000000
END:STANDARD
END:VTIMEZONE
BEGIN:VTIMEZONE
TZID:America/New_York
BEGIN:DAYLIGHT
TZOFFSETFROM:-0500
TZOFFSETTO:-0400
TZNAME:EDT
DTSTART:20210314T070000
END:DAYLIGHT
BEGIN:STANDARD
TZOFFSETFROM:-0400
TZOFFSETTO:-0500
TZNAME:EST
DTSTART:20211107T060000
END:STANDARD
BEGIN:DAYLIGHT
TZOFFSETFROM:-0500
TZOFFSETTO:-0400
TZNAME:EDT
DTSTART:20220313T070000
END:DAYLIGHT
BEGIN:STANDARD
TZOFFSETFROM:-0400
TZOFFSETTO:-0500
TZNAME:EST
DTSTART:20221106T060000
END:STANDARD
BEGIN:DAYLIGHT
TZOFFSETFROM:-0500
TZOFFSETTO:-0400
TZNAME:EDT
DTSTART:20230312T070000
END:DAYLIGHT
BEGIN:STANDARD
TZOFFSETFROM:-0400
TZOFFSETTO:-0500
TZNAME:EST
DTSTART:20231105T060000
END:STANDARD
END:VTIMEZONE
BEGIN:VEVENT
DTSTART;TZID=UTC:20220501T153000
DTEND;TZID=UTC:20220501T180000
DTSTAMP:20260426T003253
CREATED:20220414T035609Z
LAST-MODIFIED:20220414T052523Z
UID:3918-1651419000-1651428000@www.princehall-pa.org
SUMMARY:The R.W.S.G.W. will represent the M.W.G.M. at the 6th & 7th O.E.S. District  Esther Day Service at New Hope Baptist Church\, 445 6th Street\, Braddock\, PA  15104
DESCRIPTION:
URL:https://www.princehall-pa.org/event/6th-7th-o-e-s-districts-esther-day-service-at-new-hope-baptist-church-445-6th-street-braddock-pa-15104/
END:VEVENT
BEGIN:VEVENT
DTSTART;TZID=UTC:20220501T153000
DTEND;TZID=UTC:20220501T180000
DTSTAMP:20260426T003253
CREATED:20220414T033709Z
LAST-MODIFIED:20220414T052958Z
UID:3916-1651419000-1651428000@www.princehall-pa.org
SUMMARY:The R.W.J. G.W. will represent the M.W.G.M. at the 2nd\, 3rd\, 4th O.E.S. Districts Esther Day Service at Mount Zion C.M.E. Church\, 701 Felton Ave.\, Sharon Hill\, PA  19079
DESCRIPTION:
URL:https://www.princehall-pa.org/event/2nd-3rd-4th-o-e-s-districts-esther-day-service-at-mount-zion-c-m-e-church-701-felton-ave-sharon-hill-pa-19079/
END:VEVENT
BEGIN:VEVENT
DTSTART;TZID=UTC:20220501T153000
DTEND;TZID=UTC:20220501T180000
DTSTAMP:20260426T003253
CREATED:20211107T080022Z
LAST-MODIFIED:20220414T033101Z
UID:3365-1651419000-1651428000@www.princehall-pa.org
SUMMARY:The M.W.G.M. will attend Deborah Grand Chapter\, First O.E.S. District Esther Day Celebration on Sunday\, May 1\, 2022 at Triumph Baptist Church located at 1648 W. Hunting Park Avenue\, Philadelphia\, PA  19140.
DESCRIPTION:
URL:https://www.princehall-pa.org/event/dgc-oes-esther-day-service-2/
END:VEVENT
BEGIN:VEVENT
DTSTART;TZID=UTC:20220430T180000
DTEND;TZID=UTC:20220430T230000
DTSTAMP:20260426T003253
CREATED:20220325T044146Z
LAST-MODIFIED:20220325T044146Z
UID:3864-1651341600-1651359600@www.princehall-pa.org
SUMMARY:The R.W.S.G.W. will represent the M.W.G.M. at Sheba Chapter No. 13\, HRAM's "Annual Red and White Ball" Honoring the "Most Excellent Grand High Priest\, Hawthorne N. Conley II\," at the Doubletree Hotel by Hilton\, 101 Mall Blvd.\, Monroeville\, PA  15146.
DESCRIPTION:
URL:https://www.princehall-pa.org/event/the-r-w-s-g-w-will-represent-the-m-w-g-m-at-sheba-chapter-no-13-hrams-annual-red-and-white-ball-honoring-the-most-excellent-grand-high-priest-hawthorne-n-conley-ii-at-the-doubletree-h/
END:VEVENT
BEGIN:VEVENT
DTSTART;TZID=UTC:20220430T123000
DTEND;TZID=UTC:20220430T163000
DTSTAMP:20260426T003253
CREATED:20220220T031312Z
LAST-MODIFIED:20220220T031312Z
UID:3685-1651321800-1651336200@www.princehall-pa.org
SUMMARY:The M.W.G.M. will attend the First O.E.S. District's Annual Coronation Event.  "The Emerald  Gala" will be held at the Hilton Philadelphia City Avenue\, 4200 City Ave.\, Philadelphia\, PA  19131
DESCRIPTION:
URL:https://www.princehall-pa.org/event/the-m-w-g-m-will-attend-the-first-o-e-s-districts-annual-coronation-event-the-emerald-gala-will-be-held-at-the-hilton-philadelphia-city-avenue-4200-city-ave-philadelphia-pa-19131/
END:VEVENT
BEGIN:VEVENT
DTSTART;TZID=UTC:20220430T090000
DTEND;TZID=UTC:20220430T120000
DTSTAMP:20260426T003253
CREATED:20220428T023946Z
LAST-MODIFIED:20220428T023946Z
UID:3982-1651309200-1651320000@www.princehall-pa.org
SUMMARY:The Enon Tabernacle Baptist Church along with 100 Black Men and other organizations will be marching in unity against the violence in our city from Roosevelt Junior High School to Martin Luther King High School.
DESCRIPTION:
URL:https://www.princehall-pa.org/event/the-enon-tabernacle-baptist-church-along-with-100-black-men-and-other-organizations-will-be-marching-in-unity-against-the-violence-in-our-city-from-roosevelt-junior-high-school-to-martin-luther-king-h/
END:VEVENT
BEGIN:VEVENT
DTSTART;TZID=UTC:20220429T170000
DTEND;TZID=UTC:20220429T200000
DTSTAMP:20260426T003253
CREATED:20220426T193438Z
LAST-MODIFIED:20220426T193438Z
UID:3972-1651251600-1651262400@www.princehall-pa.org
SUMMARY:The Most Worshipful Prince Hall Grand Lodge in Partnership with The Philadelphia Fire Department will host a Fire Prevention Program at 4301 N. Broad Street\, Philadelphia\, PA 19140.
DESCRIPTION:
URL:https://www.princehall-pa.org/event/the-most-worshipful-prince-hall-grand-lodge-in-partnership-with-the-philadelphia-fire-department-will-host-a-fire-prevention-program-at-4301-n-broad-street-philadelphia-pa-19140/
END:VEVENT
BEGIN:VEVENT
DTSTART;TZID=UTC:20220427T080000
DTEND;TZID=UTC:20220429T170000
DTSTAMP:20260426T003253
CREATED:20211107T081310Z
LAST-MODIFIED:20211107T081310Z
UID:3373-1651046400-1651251600@www.princehall-pa.org
SUMMARY:Tucker Coffee Grand Court K.Y.C.H.U.S.A. Annual Grand Session - Chicago
DESCRIPTION:
URL:https://www.princehall-pa.org/event/tucker-coffee-grand-court-k-y-c-h-u-s-a-annual-grand-session-chicago/
END:VEVENT
BEGIN:VEVENT
DTSTART;TZID=UTC:20220424T190000
DTEND;TZID=UTC:20220424T203000
DTSTAMP:20260426T003253
CREATED:20220418T232141Z
LAST-MODIFIED:20220418T232141Z
UID:3930-1650826800-1650832200@www.princehall-pa.org
SUMMARY:The M.W.G.M will attend the Joint Prayer Zoom Conference Call with MWPHGL of PA & Deborah Grand Chapter\, Theme:  Jesus Is Alive and Well!
DESCRIPTION:
URL:https://www.princehall-pa.org/event/the-m-w-g-m-will-attend-the-joint-prayer-zoom-conference-call-with-mwphgl-of-pa-deborah-grand-chapter-theme-jesus-is-alive-and-well/
END:VEVENT
BEGIN:VEVENT
DTSTART;TZID=UTC:20220424T153000
DTEND;TZID=UTC:20220424T180000
DTSTAMP:20260426T003253
CREATED:20220310T065042Z
LAST-MODIFIED:20220310T065042Z
UID:3768-1650814200-1650823200@www.princehall-pa.org
SUMMARY:The M.W.G.M. will attend the Annual Thanksgiving Service of the Most Royal Grand Court of Cyrene at Millennium Baptist Church\, 1630 N. 52nd Street\, Philadelphia\, PA  19131
DESCRIPTION:
URL:https://www.princehall-pa.org/event/the-m-w-g-m-will-attend-the-annual-thanksgiving-service-of-the-most-royal-grand-court-of-cyrene-at-millennium-baptist-church-1630-n-52nd-street-philadelphia-pa-19131/
END:VEVENT
BEGIN:VEVENT
DTSTART;TZID=UTC:20220423T190000
DTEND;TZID=UTC:20220423T230000
DTSTAMP:20260426T003253
CREATED:20220421T042543Z
LAST-MODIFIED:20220421T042543Z
UID:3941-1650740400-1650754800@www.princehall-pa.org
SUMMARY:The R.W.J.G.W. will represent the M.W.G.M. at Queen Elizabeth Chapter No. 76's Annual Main Affair\, Crown Plaza Hotel\, King of Prussia\,PA
DESCRIPTION:
URL:https://www.princehall-pa.org/event/the-r-w-j-g-w-will-represent-the-m-w-g-m-at-queen-elizabeth-chapter-no-76s-annual-main-affair-crown-plaza-hotel-king-of-prussiapa/
END:VEVENT
BEGIN:VEVENT
DTSTART;TZID=UTC:20220423T170000
DTEND;TZID=UTC:20220423T210000
DTSTAMP:20260426T003253
CREATED:20211107T080314Z
LAST-MODIFIED:20220421T041529Z
UID:3367-1650733200-1650747600@www.princehall-pa.org
SUMMARY:The R.W.D.G.M. will represent the M.W.G.M. at the Fabulous Fifth District Event\, at the Scottish Rite Cathedral\, 3rd & Division Streets\, Harrisburg\,PA
DESCRIPTION:
URL:https://www.princehall-pa.org/event/dgc-oes-9th-oes-district-main-affair-in-person/
END:VEVENT
BEGIN:VEVENT
DTSTART;TZID=UTC:20220423T120000
DTEND;TZID=UTC:20220423T160000
DTSTAMP:20260426T003253
CREATED:20220406T021529Z
LAST-MODIFIED:20220406T021529Z
UID:3898-1650715200-1650729600@www.princehall-pa.org
SUMMARY:The M.W.G.M. will be recognized as an Influential Philadelphian with the 2022 Medallion Honor at the Ducky Brits Foundation Annual Capital Fund Drive Luncheon.  The event will be held at the Santerian Hall at Holy Trinity Armenian Apostolic Church\, 101 Ashmead Road\, Cheltenham\, PA.
DESCRIPTION:
URL:https://www.princehall-pa.org/event/the-m-w-g-m-will-be-recognized-as-an-influential-philadelphian-with-the-2022-medallion-honor-at-the-ducky-brits-foundation-annual-capital-fund-drive-luncheon-the-event-will-be-held-at-the-santerian/
END:VEVENT
BEGIN:VEVENT
DTSTART;TZID=UTC:20220417T000000
DTEND;TZID=UTC:20220417T235900
DTSTAMP:20260426T003253
CREATED:20220113T085030Z
LAST-MODIFIED:20220113T085030Z
UID:3555-1650153600-1650239940@www.princehall-pa.org
SUMMARY:Temple Closure: 4301 North Broad Street\, Philadelphia\, PA  19140 and 1117 Wood Street\, Pittsburgh\, PA 15221\, (Easter Sunday)
DESCRIPTION:
URL:https://www.princehall-pa.org/event/temple-closure-4301-north-broad-street-philadelphia-pa-19140-and-1117-wood-street-pittsburgh-pa-15221-easter-sunday/
END:VEVENT
BEGIN:VEVENT
DTSTART;TZID=UTC:20220416T000000
DTEND;TZID=UTC:20220416T235900
DTSTAMP:20260426T003253
CREATED:20220113T084823Z
LAST-MODIFIED:20220113T084823Z
UID:3553-1650067200-1650153540@www.princehall-pa.org
SUMMARY:Temple Closure: 4301 North Broad Street\, Philadelphia\, PA  19140 and 1117 Wood Street\, Pittsburgh\, PA 15221\, (Holy Saturday)
DESCRIPTION:
URL:https://www.princehall-pa.org/event/temple-closure-4301-north-broad-street-philadelphia-pa-19140-and-1117-wood-street-pittsburgh-pa-15221-holy-saturday/
END:VEVENT
BEGIN:VEVENT
DTSTART;TZID=UTC:20220415T000100
DTEND;TZID=UTC:20220415T235900
DTSTAMP:20260426T003253
CREATED:20211107T085642Z
LAST-MODIFIED:20220113T083906Z
UID:3399-1649980860-1650067140@www.princehall-pa.org
SUMMARY:Masonic Temple Closures at 4301 N. Broad Street\, Philadelphia\, PA 19140 and 1117 Wood Street\, Pittsburgh PA 15221\, (Good Friday)
DESCRIPTION:
URL:https://www.princehall-pa.org/event/4301-n-broad-street-philadelphia-pa-19140-and-1117-wood-street-pittsburgh-will-be-closed-during-holy-week/
END:VEVENT
BEGIN:VEVENT
DTSTART;TZID=UTC:20220414T000000
DTEND;TZID=UTC:20220414T235900
DTSTAMP:20260426T003253
CREATED:20220113T084537Z
LAST-MODIFIED:20220113T084537Z
UID:3551-1649894400-1649980740@www.princehall-pa.org
SUMMARY:Temple Closure: 4301 North Broad Street\, Philadelphia\, PA  19140 and 1117 Wood Street\, Pittsburgh\, PA 15221\, (Maundy Thursday)
DESCRIPTION:
URL:https://www.princehall-pa.org/event/temple-closure-4301-north-broad-street-philadelphia-pa-19140-and-1117-wood-street-pittsburgh-pa-15221-maundy-thursday/
END:VEVENT
BEGIN:VEVENT
DTSTART;TZID=UTC:20220410T153000
DTEND;TZID=UTC:20220410T180000
DTSTAMP:20260426T003253
CREATED:20211107T074241Z
LAST-MODIFIED:20220203T013559Z
UID:3355-1649604600-1649613600@www.princehall-pa.org
SUMMARY:The M.W.G.M. will attend the M.A.G.C. Heroines of Jericho\, Inc. "Virtual" Palm Sunday Service
DESCRIPTION:
URL:https://www.princehall-pa.org/event/m-a-g-c-heroines-of-jericho-palm-sunday-service/
END:VEVENT
BEGIN:VEVENT
DTSTART;TZID=UTC:20220410T000000
DTEND;TZID=UTC:20220410T235900
DTSTAMP:20260426T003253
CREATED:20220113T084319Z
LAST-MODIFIED:20220113T084319Z
UID:3549-1649548800-1649635140@www.princehall-pa.org
SUMMARY:Temple Closure: 4301 North Broad Street\, Philadelphia\, PA  19140 and 1117 Wood Street\, Pittsburgh\, PA 15221\, (Palm Sunday)
DESCRIPTION:
URL:https://www.princehall-pa.org/event/temple-closure-4301-north-broad-street-philadelphia-pa-19140-and-1117-wood-street-pittsburgh-pa-15221-palm-sunday/
END:VEVENT
BEGIN:VEVENT
DTSTART;TZID=UTC:20220409T120000
DTEND;TZID=UTC:20220409T140000
DTSTAMP:20260426T003253
CREATED:20220304T215147Z
LAST-MODIFIED:20220304T215147Z
UID:3725-1649505600-1649512800@www.princehall-pa.org
SUMMARY:The M.W.G.M. will attend Deborah Grand Chapter\, O.E.S.\, Inc.\, Annual Luncheon and Silent Auction.
DESCRIPTION:
URL:https://www.princehall-pa.org/event/the-m-w-g-m-will-attend-deborah-grand-chapter-o-e-s-inc-annual-luncheon-and-silent-auction/
END:VEVENT
BEGIN:VEVENT
DTSTART;TZID=UTC:20220408T190000
DTEND;TZID=UTC:20220408T233000
DTSTAMP:20260426T003253
CREATED:20220125T232130Z
LAST-MODIFIED:20220126T014339Z
UID:3575-1649444400-1649460600@www.princehall-pa.org
SUMMARY:207th Mid-Year Session 2022 Charity Entertainment Event
DESCRIPTION: 
URL:https://www.princehall-pa.org/event/207th-mid-year-session-2022-charity-entertainment-event/
LOCATION:Wyndham Gettysburg Hotel\, 95 Presidential Circle\, Gettysburg\, PA\, 17325\, United States
ORGANIZER;CN="The Ways and Means Committee":MAILTO:wayandmeans@princehall-pa.org
END:VEVENT
BEGIN:VEVENT
DTSTART;TZID=UTC:20220408T080000
DTEND;TZID=UTC:20220409T170000
DTSTAMP:20260426T003253
CREATED:20211107T073940Z
LAST-MODIFIED:20211107T073940Z
UID:3353-1649404800-1649523600@www.princehall-pa.org
SUMMARY:MWPHGL of PA Mid Year Session 2022\, Wyndham Gettysburg\, 95 Presidential Circle\, Gettysburg\, PA  17325
DESCRIPTION:
URL:https://www.princehall-pa.org/event/mwphgl-of-pa-mid-year-session-2022-wyndham-gettysburg-95-presidential-circle-gettysburg-pa-17325/
END:VEVENT
BEGIN:VEVENT
DTSTART;TZID=UTC:20220403T160000
DTEND;TZID=UTC:20220403T180000
DTSTAMP:20260426T003253
CREATED:20220317T040045Z
LAST-MODIFIED:20220317T040045Z
UID:3801-1649001600-1649008800@www.princehall-pa.org
SUMMARY:The R.W.S.G.W. will represent the M.W.G.M. at Orpha Chapter No. 21's Annual Star Point Tea at Mt. Ebal Baptist Church\, 1617 East 26th St..\, Erie\, PA 16504.
DESCRIPTION:
URL:https://www.princehall-pa.org/event/the-r-w-s-g-w-will-represent-the-m-w-g-m-at-orpha-chapter-no-21s-annual-star-point-tea-at-mt-ebal-baptist-church-1617-east-26th-st-erie-pa-16504/
END:VEVENT
BEGIN:VEVENT
DTSTART;TZID=UTC:20220402T140000
DTEND;TZID=UTC:20220402T170000
DTSTAMP:20260426T003253
CREATED:20220329T041904Z
LAST-MODIFIED:20220329T041904Z
UID:3873-1648908000-1648918800@www.princehall-pa.org
SUMMARY:The Grand Orator\, Chris Ransome will represent the M.W.G.M.  at Queen Esther Chapter No. 6's "Candle Making with the Queens" Affair at the Prince Hall Masonic Temple\, 1117 Wood St. Pittsburgh\, PA 15221
DESCRIPTION:
URL:https://www.princehall-pa.org/event/the-grand-orator-chris-ransome-will-represent-the-m-w-g-m-at-queen-esther-chapter-no-6s-candle-making-with-the-queens-affair-at-the-prince-hall-masonic-temple-1117-wood-st-pittsburgh-pa-1/
END:VEVENT
BEGIN:VEVENT
DTSTART;TZID=UTC:20220402T100000
DTEND;TZID=UTC:20220402T220000
DTSTAMP:20260426T003253
CREATED:20211107T073200Z
LAST-MODIFIED:20220303T023512Z
UID:3351-1648893600-1648936800@www.princehall-pa.org
SUMMARY:The M.W.G.M. will attend the M.R.G.C. of Cyrene Annual Receiving & Grand Seminar on Saturday\, April 2\, 2022\, at the Delta Hotel Philadelphia Airport\, 500 Stevens Drive\, Philadelphia\, PA  19113.
DESCRIPTION:
URL:https://www.princehall-pa.org/event/m-r-g-c-of-cyrene-annual-receiving-grand-seminar/
END:VEVENT
BEGIN:VEVENT
DTSTART;TZID=UTC:20220402T090000
DTEND;TZID=UTC:20220402T140000
DTSTAMP:20260426T003253
CREATED:20220318T064541Z
LAST-MODIFIED:20220318T065446Z
UID:3806-1648890000-1648908000@www.princehall-pa.org
SUMMARY:The Most Worshipful Prince Hall Grand Lodge Clean Up Day!  4301 N. Broad St and Bristol Street. Let's Show Up and Show Out. Show Your Gear and/or Your Colors\, Be "Prince Hall Proud"!
DESCRIPTION:
URL:https://www.princehall-pa.org/event/the-most-worshipful-prince-hall-grand-lodge-clean-up-day-4301-n-broad-st-and-bristol-street-lets-show-up-show-out-show-your-gear-and-or-your-colors-be-prince-hall-proud/
END:VEVENT
BEGIN:VEVENT
DTSTART;TZID=UTC:20220401T190000
DTEND;TZID=UTC:20220401T230000
DTSTAMP:20260426T003253
CREATED:20220210T054149Z
LAST-MODIFIED:20220210T054149Z
UID:3644-1648839600-1648854000@www.princehall-pa.org
SUMMARY:The M.W.G.M. will attend King Solomon Chapter No. 60's Evening of "Stars" Recognizing Phenomenal Women at the Clarion Hotel and Conference Center\, 76 Industrial Highway\, Essington\, PA 19029
DESCRIPTION:
URL:https://www.princehall-pa.org/event/the-m-w-g-m-will-attend-king-solomon-chapter-no-60s-evening-of-stars-recognizing-phenomenal-women-at-the-clarion-hotel-and-conference-center-76-industrial-highway-essington-pa-19029/
END:VEVENT
BEGIN:VEVENT
DTSTART;TZID=UTC:20220327T150000
DTEND;TZID=UTC:20220327T170000
DTSTAMP:20260426T003253
CREATED:20220317T021552Z
LAST-MODIFIED:20220317T021552Z
UID:3793-1648393200-1648400400@www.princehall-pa.org
SUMMARY:The M.W.G.M. will attend Jeptha Chapter No. 4's Virtual Big Hat Tea
DESCRIPTION:
URL:https://www.princehall-pa.org/event/the-m-w-g-m-will-attend-jeptha-chapter-no-4s-virtual-big-hat-tea/
END:VEVENT
BEGIN:VEVENT
DTSTART;TZID=UTC:20220326T123000
DTEND;TZID=UTC:20220326T153000
DTSTAMP:20260426T003253
CREATED:20220317T032353Z
LAST-MODIFIED:20220317T052618Z
UID:3797-1648297800-1648308600@www.princehall-pa.org
SUMMARY:The W.D.A.L. will represent the M.W.G.M. at Rebecca Chapter No. 51's Annual Awards Event at Cannstatter Volkfest Verein\, 9130 Academy Rd.\, Phila.\, PA 19114
DESCRIPTION:
URL:https://www.princehall-pa.org/event/the-w-d-l-will-represent-the-m-w-g-m-at-rebecca-chapter-no-51s-annual-awards-event-at-cannstatter-volkfest-verein-9130-academy-rd-phila-pa-19114/
END:VEVENT
BEGIN:VEVENT
DTSTART;TZID=America/New_York:20220324T080000
DTEND;TZID=America/New_York:20220326T170000
DTSTAMP:20260426T003253
CREATED:20221110T011857Z
LAST-MODIFIED:20221110T011857Z
UID:4457-1648108800-1648314000@www.princehall-pa.org
SUMMARY:M.W.P.H.G.L. - Mid Year Session\, Gettysburg\, PA
DESCRIPTION:
URL:https://www.princehall-pa.org/event/m-w-p-h-g-l-mid-year-session-gettysburg-pa/
END:VEVENT
END:VCALENDAR