BEGIN:VCALENDAR
VERSION:2.0
PRODID:-//Prince Hall Grand Lodge of PA - ECPv6.15.20//NONSGML v1.0//EN
CALSCALE:GREGORIAN
METHOD:PUBLISH
X-WR-CALNAME:Prince Hall Grand Lodge of PA
X-ORIGINAL-URL:https://www.princehall-pa.org
X-WR-CALDESC:Events for Prince Hall Grand Lodge of PA
REFRESH-INTERVAL;VALUE=DURATION:PT1H
X-Robots-Tag:noindex
X-PUBLISHED-TTL:PT1H
BEGIN:VTIMEZONE
TZID:UTC
BEGIN:STANDARD
TZOFFSETFROM:+0000
TZOFFSETTO:+0000
TZNAME:UTC
DTSTART:20210101T000000
END:STANDARD
END:VTIMEZONE
BEGIN:VEVENT
DTSTART;TZID=UTC:20220603T100000
DTEND;TZID=UTC:20220603T170000
DTSTAMP:20260425T181119
CREATED:20220329T054237Z
LAST-MODIFIED:20220510T013326Z
UID:3877-1654250400-1654275600@www.princehall-pa.org
SUMMARY:The M.W.G.M will attend the 176th Annual Grand Communication of The Most Worshipful Prince Hall Grand Lodge\, State of New York Westchester Marriott Hotel\, 670 White Plains Road\, Tarrytown\, NY 10591.  Any Brother who wants to attend MUST contact the C.C. of F.C.  Visiting delegations will be received on Friday\, June 3\, 2022\, at 10:a.m.
DESCRIPTION:
URL:https://www.princehall-pa.org/event/the-176th-annual-grand-communication-of-the-most-worshipful-prince-hall-grand-lodge-state-of-new-york-westchester-marriott-hotel-670-white-plains-road-tarrytown-ny-10591-any-brother-who-wants-to/
END:VEVENT
BEGIN:VEVENT
DTSTART;TZID=UTC:20220530T000100
DTEND;TZID=UTC:20220530T235900
DTSTAMP:20260425T181119
CREATED:20211207T003744Z
LAST-MODIFIED:20220113T081959Z
UID:3465-1653868860-1653955140@www.princehall-pa.org
SUMMARY:Temple Closures: 4301 North Broad Street\, Philadelphia\, PA  19140 and 1117 Wood Street\, Pittsburgh\, PA 15221\, (Memorial Day)
DESCRIPTION:
URL:https://www.princehall-pa.org/event/temple-closures-4301-north-broad-street-philadelphia-pa-19140-and-1117-wood-street-pittsburgh-pa-15221-6/
END:VEVENT
BEGIN:VEVENT
DTSTART;TZID=UTC:20220527T080000
DTEND;TZID=UTC:20220531T170000
DTSTAMP:20260425T181119
CREATED:20220220T032906Z
LAST-MODIFIED:20220220T032906Z
UID:3687-1653638400-1654016400@www.princehall-pa.org
SUMMARY:The M.W.G.M. will attend The United Supreme Council\, Ancient & Accepted Scottish Rite of Freemasonry\, Northern Jurisdiction\, Prince Hall Affiliation's 141st ANNUAL SESSION and 47th Triennial at the Philadelphia Marriott Downtown Hotel\, 1201Market St.\, Philadelphia\, PA  19107
DESCRIPTION:
URL:https://www.princehall-pa.org/event/the-m-w-g-m-will-attend-the-united-supreme-council-ancient-accepted-scottish-rite-of-freemasonry-northern-jurisdiction-prince-hall-affiliations-141st-annual-session-and-47th-triennial-at-the-p/
END:VEVENT
BEGIN:VEVENT
DTSTART;TZID=UTC:20220526T190000
DTEND;TZID=UTC:20220526T210000
DTSTAMP:20260425T181119
CREATED:20220514T014039Z
LAST-MODIFIED:20220514T024137Z
UID:4021-1653591600-1653598800@www.princehall-pa.org
SUMMARY:The W.D. at L. will represent the M.W.G.M. at the U.G.C. Masonic Knights Templar 'Virtual' Annual Ascension Day Service
DESCRIPTION:
URL:https://www.princehall-pa.org/event/the-w-d-at-l-will-represent-the-m-w-g-m-at-the-united-grand-commanderys-virtual-annual-ascension-day-service/
END:VEVENT
BEGIN:VEVENT
DTSTART;TZID=UTC:20220522T190000
DTEND;TZID=UTC:20220522T203000
DTSTAMP:20260425T181119
CREATED:20220517T042944Z
LAST-MODIFIED:20220517T042944Z
UID:4044-1653246000-1653251400@www.princehall-pa.org
SUMMARY:The M.W.G.M. will attend M.W.P.H.G.L. of PA & Deborah Grand Chapter O.E.S. Prayer Zoom Conference Call
DESCRIPTION:
URL:https://www.princehall-pa.org/event/the-m-w-g-m-will-attend-m-w-p-h-g-l-of-pa-deborah-grand-chapter-o-e-s-prayer-zoom-conference-call/
END:VEVENT
BEGIN:VEVENT
DTSTART;TZID=UTC:20220522T163000
DTEND;TZID=UTC:20220522T203000
DTSTAMP:20260425T181119
CREATED:20220324T054403Z
LAST-MODIFIED:20220324T054403Z
UID:3844-1653237000-1653251400@www.princehall-pa.org
SUMMARY:The M.W.G.M. will attend Leah Chapter No. 27's 90th Anniversary Celebration at the Ballroom at The Phoenix\, 1661 Mill Road\, Boothwyn\, PA 19061
DESCRIPTION:
URL:https://www.princehall-pa.org/event/the-m-w-g-m-will-attend-leah-chapter-no-27s-90th-anniversary-celebration-at-the-ballroom-at-the-phoenix-1661-mill-road-boothwyn-pa-19061/
END:VEVENT
BEGIN:VEVENT
DTSTART;TZID=UTC:20220521T183000
DTEND;TZID=UTC:20220521T220000
DTSTAMP:20260425T181119
CREATED:20220424T050839Z
LAST-MODIFIED:20220426T201051Z
UID:3964-1653157800-1653170400@www.princehall-pa.org
SUMMARY:W.D.D.G.M. Claude Clements will represent the M.W.G.M. at Eastern Light Lodge No. 46's One Hundred Fiftieth Anniversary Banquet at Lia's Catering
DESCRIPTION:
URL:https://www.princehall-pa.org/event/eastern-light-lodge-no-46s-one-hundred-fiftieth-anniversary-banquet-at-lias-catering/
END:VEVENT
BEGIN:VEVENT
DTSTART;TZID=UTC:20220521T120000
DTEND;TZID=UTC:20220522T170000
DTSTAMP:20260425T181119
CREATED:20211207T063600Z
LAST-MODIFIED:20220421T054802Z
UID:3483-1653134400-1653238800@www.princehall-pa.org
SUMMARY:The M.W.G.M. will attend Deborah Grand Chapter - Hattie M. Grant Headstone Laying Service\, Harrisburg\, PA
DESCRIPTION:
URL:https://www.princehall-pa.org/event/d-g-c-hattie-m-grant-headstone-laying-service-harrisburg-pa/
END:VEVENT
BEGIN:VEVENT
DTSTART;TZID=UTC:20220521T090000
DTEND;TZID=UTC:20220521T120000
DTSTAMP:20260425T181119
CREATED:20220324T053405Z
LAST-MODIFIED:20220324T053405Z
UID:3840-1653123600-1653134400@www.princehall-pa.org
SUMMARY:The R.W.J.G.W. will represent the M.W.G.M. at Imperial Commandery No. 12's Annual Prayer Breakfast at Franklin Lodge No. 58\, 2815 West Third Street\, Chester\, PA  19013.
DESCRIPTION:
URL:https://www.princehall-pa.org/event/the-r-w-j-g-w-will-represent-the-m-w-g-m-at-imperial-commandery-no-12s-annual-prayer-breakfast-at-franklin-lodge-no-58-2815-west-third-street-chester-pa-19013/
END:VEVENT
BEGIN:VEVENT
DTSTART;TZID=UTC:20220519T090000
DTEND;TZID=UTC:20220519T120000
DTSTAMP:20260425T181119
CREATED:20220428T024342Z
LAST-MODIFIED:20220428T024342Z
UID:3985-1652950800-1652961600@www.princehall-pa.org
SUMMARY:MWPHGL of PA.  Boys to Men event will be held at the Prince Hall School\, 6101 N. Gratz St. (Ogontz Ave and Limekiln Pike).
DESCRIPTION:
URL:https://www.princehall-pa.org/event/mwphgl-of-pa-boys-to-men-event-will-be-held-at-the-prince-hall-school-6101-n-gratz-st-ogontz-ave-and-limekiln-pike/
END:VEVENT
BEGIN:VEVENT
DTSTART;TZID=UTC:20220515T120000
DTEND;TZID=UTC:20220515T150000
DTSTAMP:20260425T181119
CREATED:20220310T070543Z
LAST-MODIFIED:20220310T070543Z
UID:3774-1652616000-1652626800@www.princehall-pa.org
SUMMARY:The M.W.G.M. will attend Booker T. Washington Chapter No. 36's A Mardi Gras Gala Luncheon at the Springfield Country Club\, 400 W. Sproul Road\, Springfield\, PA  19064
DESCRIPTION:
URL:https://www.princehall-pa.org/event/the-m-w-g-m-will-attend-booker-t-washington-chapter-no-36s-a-mardi-gras-gala-luncheon-at-the-springfield-country-club-400-w-sproul-road-springfield-pa-19064/
END:VEVENT
BEGIN:VEVENT
DTSTART;TZID=UTC:20220514T190000
DTEND;TZID=UTC:20220514T230000
DTSTAMP:20260425T181119
CREATED:20220421T053400Z
LAST-MODIFIED:20220421T053400Z
UID:3943-1652554800-1652569200@www.princehall-pa.org
SUMMARY:The M.W.G.M. will attend Zeresh Chapter No. 103's Annual Awards Event at Galdo's Catering 1933 W. Moyamensing Ave
DESCRIPTION:  \n 
URL:https://www.princehall-pa.org/event/the-m-w-g-m-will-attend-zeresh-chapter-no-103s-annual-awards-event-at-galdos-catering-1933-w-moyamensing-ave/
END:VEVENT
BEGIN:VEVENT
DTSTART;TZID=UTC:20220514T180000
DTEND;TZID=UTC:20220514T220000
DTSTAMP:20260425T181119
CREATED:20220221T011212Z
LAST-MODIFIED:20220425T204112Z
UID:3692-1652551200-1652565600@www.princehall-pa.org
SUMMARY:The R.W.S.G.W. will represent the M.W.G.M. at St. Alban Lodge\, No. 35's Black-Tie Gala banquet benefiting Mental Awareness.  The event will be held at the "Felt Factory" by Romano's Catering\, 1523 E. Wingohocking St.\, Philadelphia\, PA  19124
DESCRIPTION:
URL:https://www.princehall-pa.org/event/the-m-w-g-m-will-attend-st-alban-lodge-no-35s-black-tie-gala-banquet-benefiting-mental-awareness-the-event-will-be-held-at-the-felt-factory-by-romanos-catering-1523-e-wingohocking-st/
END:VEVENT
BEGIN:VEVENT
DTSTART;TZID=UTC:20220514T130000
DTEND;TZID=UTC:20220514T160000
DTSTAMP:20260425T181119
CREATED:20220329T054812Z
LAST-MODIFIED:20220329T054812Z
UID:3880-1652533200-1652544000@www.princehall-pa.org
SUMMARY:The M.W.G.M. will attend CLUB PA 95's second Drive-by Five Point Tea at 616 Sharon Avenue\, Sharon Hill\, PA 19079
DESCRIPTION:
URL:https://www.princehall-pa.org/event/the-m-w-g-m-will-attend-club-pa-95s-second-drive-by-five-point-tea-at-616-sharon-avenue-sharon-hill-pa-19079/
END:VEVENT
BEGIN:VEVENT
DTSTART;TZID=UTC:20220514T120000
DTEND;TZID=UTC:20220514T160000
DTSTAMP:20260425T181119
CREATED:20220424T050438Z
LAST-MODIFIED:20220425T203324Z
UID:3962-1652529600-1652544000@www.princehall-pa.org
SUMMARY:The R.W.S.G.W. will represent the M.W.G.M. at Evening Star Chapter No. 53 Main Awards Event at the Germantown Cricket Club.
DESCRIPTION:
URL:https://www.princehall-pa.org/event/evening-star-chapter-no-53-main-awards-event-at-the-germantown-cricket-club/
END:VEVENT
BEGIN:VEVENT
DTSTART;TZID=UTC:20220514T090000
DTEND;TZID=UTC:20220514T110000
DTSTAMP:20260425T181119
CREATED:20220424T042214Z
LAST-MODIFIED:20220424T042214Z
UID:3955-1652518800-1652526000@www.princehall-pa.org
SUMMARY:The M.W.G.M. will attend Esther Grand Court\, LOCOP's Grand Ways & Means Breakfast at the Clarion Hotel & Conference Center
DESCRIPTION:
URL:https://www.princehall-pa.org/event/the-m-w-g-m-will-attend-esther-grand-court-locops-grand-ways-means-breakfast-at-the-clarion-hotel-conference-center/
END:VEVENT
BEGIN:VEVENT
DTSTART;TZID=UTC:20220513T190000
DTEND;TZID=UTC:20220513T230000
DTSTAMP:20260425T181119
CREATED:20220310T070109Z
LAST-MODIFIED:20220325T045215Z
UID:3772-1652468400-1652482800@www.princehall-pa.org
SUMMARY:The M.W.G.M. will attend Mabel M. Keys No.99's Dinner/Show and party titled "Red and Black Tie Soiree."  This special event will be held at the Cannstatter Volkfest Verein\, 9130 Academy Road\, Philadelphia\, PA  19114
DESCRIPTION:
URL:https://www.princehall-pa.org/event/the-m-w-g-m-will-attend-mabel-m-keys-no-99s-dinner-show-and-party-titled-red-and-black-tie-soiree-this-special-event-will-be-held-at-the-cannstatter-volkfest-verein-9130-academy-road-philade/
END:VEVENT
BEGIN:VEVENT
DTSTART;TZID=UTC:20220509T190000
DTEND;TZID=UTC:20220509T210000
DTSTAMP:20260425T181119
CREATED:20220426T194832Z
LAST-MODIFIED:20220426T194832Z
UID:3974-1652122800-1652130000@www.princehall-pa.org
SUMMARY:The M.W.P.H.G.L. OF PA\, will host a Hybrid Mental Health Lecture led by Darryl A. Farrar\, Psychiatric Social Worker for the City of Philadelphia. You can attend live at 4301 or via Zoom
DESCRIPTION:
URL:https://www.princehall-pa.org/event/the-m-w-p-h-g-l-of-pa-will-host-a-hybrid-mental-health-lecture-led-by-darryl-a-farrar-psychiatric-social-worker-for-the-city-of-philadelphia-you-can-attend-live-at-4301-or-via-zoom/
END:VEVENT
BEGIN:VEVENT
DTSTART;TZID=UTC:20220508T000100
DTEND;TZID=UTC:20220508T235900
DTSTAMP:20260425T181119
CREATED:20211207T003512Z
LAST-MODIFIED:20220113T081705Z
UID:3463-1651968060-1652054340@www.princehall-pa.org
SUMMARY:Temple Closures: 4301 North Broad Street\, Philadelphia\, PA  19140 and 1117 Wood Street\, Pittsburgh\, PA 15221\, (Mother's Day)
DESCRIPTION:
URL:https://www.princehall-pa.org/event/temple-closures-4301-north-broad-street-philadelphia-pa-19140-and-1117-wood-street-pittsburgh-pa-15221-5/
END:VEVENT
BEGIN:VEVENT
DTSTART;TZID=UTC:20220507T123000
DTEND;TZID=UTC:20220507T160000
DTSTAMP:20260425T181119
CREATED:20220324T052922Z
LAST-MODIFIED:20220324T052922Z
UID:3838-1651926600-1651939200@www.princehall-pa.org
SUMMARY:The R.W.J.G.W. will represent the M.W.G.M. at Queen Alpha Chapter No. 93's Annual Awards Event\, "Through the Decades" at the Wyndham Garden Hotel Philadelphia Airport\, 45 Industrial Highway\, Essington\, PA  19029 :
DESCRIPTION:
URL:https://www.princehall-pa.org/event/the-r-w-j-g-w-will-represent-the-m-w-g-m-at-queen-alpha-chapter-no-93s-annual-awards-event-through-the-decades-at-the-wyndham-garden-hotel-philadelphia-airport-45-industrial-highway-essing/
END:VEVENT
BEGIN:VEVENT
DTSTART;TZID=UTC:20220507T123000
DTEND;TZID=UTC:20220507T153000
DTSTAMP:20260425T181119
CREATED:20220310T065636Z
LAST-MODIFIED:20220503T030844Z
UID:3770-1651926600-1651937400@www.princehall-pa.org
SUMMARY:The W. D. at L. will represent the M.W.G.M. at Philadelphia Assembly No. 5\, Order of the Golden Circle's\, Annual Luncheon at the Clarion Hotel & Conference Center\, 76 Industrial Highway\, Essington\, PA 19029
DESCRIPTION:
URL:https://www.princehall-pa.org/event/the-m-w-g-m-will-attend-philadelphia-assembly-no-5-order-of-the-golden-circle-phas-annual-luncheon-at-the-clarion-hotel-conference-center-76-industrial-highway-essington-pa-19029/
END:VEVENT
BEGIN:VEVENT
DTSTART;TZID=UTC:20220507T100000
DTEND;TZID=UTC:20220507T130000
DTSTAMP:20260425T181119
CREATED:20220505T030037Z
LAST-MODIFIED:20220505T030037Z
UID:3994-1651917600-1651928400@www.princehall-pa.org
SUMMARY:The R.W.S.G.W. will represent the M.W.G.M. at Cyrene Chapter No. 9's Pre-Mother's Day Luncheon.
DESCRIPTION:
URL:https://www.princehall-pa.org/event/the-r-w-s-g-w-will-represent-the-m-w-g-m-at-cyrene-chapter-no-9s-pre-mothers-day-luncheon/
END:VEVENT
BEGIN:VEVENT
DTSTART;TZID=UTC:20220506T183000
DTEND;TZID=UTC:20220506T230000
DTSTAMP:20260425T181119
CREATED:20220424T033829Z
LAST-MODIFIED:20220424T033829Z
UID:3953-1651861800-1651878000@www.princehall-pa.org
SUMMARY:The M.W.G.M. will attend the Most Royal Grand Court of Cyrene's Annual Charity Ball & Queen Contest.
DESCRIPTION:
URL:https://www.princehall-pa.org/event/the-m-w-g-m-will-attend-the-most-royal-grand-court-of-cyrenes-annual-charity-ball-queen-contest/
END:VEVENT
BEGIN:VEVENT
DTSTART;TZID=UTC:20220501T153000
DTEND;TZID=UTC:20220501T180000
DTSTAMP:20260425T181119
CREATED:20220414T053630Z
LAST-MODIFIED:20220414T054138Z
UID:3923-1651419000-1651428000@www.princehall-pa.org
SUMMARY:The R.W.D.G.M. will represent the M.W.G.M. at the 5th & 9th O.E.S. Districts Esther Day Service at Tabernacle Baptist Church\, 2730 Booser Avenue\, Harrisburg\, PA
DESCRIPTION:
URL:https://www.princehall-pa.org/event/the-r-w-d-g-m-will-represent-the-m-w-g-m-at-the-5th-9th-o-e-s-districts-esther-day-service-at-tabernacle-baptist-church-2730-booser-avenue-harrisburg-pa/
END:VEVENT
BEGIN:VEVENT
DTSTART;TZID=UTC:20220501T153000
DTEND;TZID=UTC:20220501T180000
DTSTAMP:20260425T181119
CREATED:20220414T035609Z
LAST-MODIFIED:20220414T052523Z
UID:3918-1651419000-1651428000@www.princehall-pa.org
SUMMARY:The R.W.S.G.W. will represent the M.W.G.M. at the 6th & 7th O.E.S. District  Esther Day Service at New Hope Baptist Church\, 445 6th Street\, Braddock\, PA  15104
DESCRIPTION:
URL:https://www.princehall-pa.org/event/6th-7th-o-e-s-districts-esther-day-service-at-new-hope-baptist-church-445-6th-street-braddock-pa-15104/
END:VEVENT
BEGIN:VEVENT
DTSTART;TZID=UTC:20220501T153000
DTEND;TZID=UTC:20220501T180000
DTSTAMP:20260425T181119
CREATED:20220414T033709Z
LAST-MODIFIED:20220414T052958Z
UID:3916-1651419000-1651428000@www.princehall-pa.org
SUMMARY:The R.W.J. G.W. will represent the M.W.G.M. at the 2nd\, 3rd\, 4th O.E.S. Districts Esther Day Service at Mount Zion C.M.E. Church\, 701 Felton Ave.\, Sharon Hill\, PA  19079
DESCRIPTION:
URL:https://www.princehall-pa.org/event/2nd-3rd-4th-o-e-s-districts-esther-day-service-at-mount-zion-c-m-e-church-701-felton-ave-sharon-hill-pa-19079/
END:VEVENT
BEGIN:VEVENT
DTSTART;TZID=UTC:20220501T153000
DTEND;TZID=UTC:20220501T180000
DTSTAMP:20260425T181119
CREATED:20211107T080022Z
LAST-MODIFIED:20220414T033101Z
UID:3365-1651419000-1651428000@www.princehall-pa.org
SUMMARY:The M.W.G.M. will attend Deborah Grand Chapter\, First O.E.S. District Esther Day Celebration on Sunday\, May 1\, 2022 at Triumph Baptist Church located at 1648 W. Hunting Park Avenue\, Philadelphia\, PA  19140.
DESCRIPTION:
URL:https://www.princehall-pa.org/event/dgc-oes-esther-day-service-2/
END:VEVENT
BEGIN:VEVENT
DTSTART;TZID=UTC:20220430T180000
DTEND;TZID=UTC:20220430T230000
DTSTAMP:20260425T181119
CREATED:20220325T044146Z
LAST-MODIFIED:20220325T044146Z
UID:3864-1651341600-1651359600@www.princehall-pa.org
SUMMARY:The R.W.S.G.W. will represent the M.W.G.M. at Sheba Chapter No. 13\, HRAM's "Annual Red and White Ball" Honoring the "Most Excellent Grand High Priest\, Hawthorne N. Conley II\," at the Doubletree Hotel by Hilton\, 101 Mall Blvd.\, Monroeville\, PA  15146.
DESCRIPTION:
URL:https://www.princehall-pa.org/event/the-r-w-s-g-w-will-represent-the-m-w-g-m-at-sheba-chapter-no-13-hrams-annual-red-and-white-ball-honoring-the-most-excellent-grand-high-priest-hawthorne-n-conley-ii-at-the-doubletree-h/
END:VEVENT
BEGIN:VEVENT
DTSTART;TZID=UTC:20220430T123000
DTEND;TZID=UTC:20220430T163000
DTSTAMP:20260425T181119
CREATED:20220220T031312Z
LAST-MODIFIED:20220220T031312Z
UID:3685-1651321800-1651336200@www.princehall-pa.org
SUMMARY:The M.W.G.M. will attend the First O.E.S. District's Annual Coronation Event.  "The Emerald  Gala" will be held at the Hilton Philadelphia City Avenue\, 4200 City Ave.\, Philadelphia\, PA  19131
DESCRIPTION:
URL:https://www.princehall-pa.org/event/the-m-w-g-m-will-attend-the-first-o-e-s-districts-annual-coronation-event-the-emerald-gala-will-be-held-at-the-hilton-philadelphia-city-avenue-4200-city-ave-philadelphia-pa-19131/
END:VEVENT
BEGIN:VEVENT
DTSTART;TZID=UTC:20220430T090000
DTEND;TZID=UTC:20220430T120000
DTSTAMP:20260425T181119
CREATED:20220428T023946Z
LAST-MODIFIED:20220428T023946Z
UID:3982-1651309200-1651320000@www.princehall-pa.org
SUMMARY:The Enon Tabernacle Baptist Church along with 100 Black Men and other organizations will be marching in unity against the violence in our city from Roosevelt Junior High School to Martin Luther King High School.
DESCRIPTION:
URL:https://www.princehall-pa.org/event/the-enon-tabernacle-baptist-church-along-with-100-black-men-and-other-organizations-will-be-marching-in-unity-against-the-violence-in-our-city-from-roosevelt-junior-high-school-to-martin-luther-king-h/
END:VEVENT
END:VCALENDAR