BEGIN:VCALENDAR
VERSION:2.0
PRODID:-//Prince Hall Grand Lodge of PA - ECPv6.15.20//NONSGML v1.0//EN
CALSCALE:GREGORIAN
METHOD:PUBLISH
X-WR-CALNAME:Prince Hall Grand Lodge of PA
X-ORIGINAL-URL:https://www.princehall-pa.org
X-WR-CALDESC:Events for Prince Hall Grand Lodge of PA
REFRESH-INTERVAL;VALUE=DURATION:PT1H
X-Robots-Tag:noindex
X-PUBLISHED-TTL:PT1H
BEGIN:VTIMEZONE
TZID:UTC
BEGIN:STANDARD
TZOFFSETFROM:+0000
TZOFFSETTO:+0000
TZNAME:UTC
DTSTART:20210101T000000
END:STANDARD
END:VTIMEZONE
BEGIN:VEVENT
DTSTART;TZID=UTC:20220626T153000
DTEND;TZID=UTC:20220626T180000
DTSTAMP:20260425T185843
CREATED:20220609T060228Z
LAST-MODIFIED:20220609T060228Z
UID:4099-1656257400-1656266400@www.princehall-pa.org
SUMMARY:St. John the Baptist Day Service\, 5th\, 6th and 9th Districts at Love Unlimited Ministries 734 W. Fourth Street\, Williamsport\, PA 17701
DESCRIPTION:
URL:https://www.princehall-pa.org/event/st-john-the-baptist-day-service-5th-6th-and-9th-districts-at-love-unlimited-ministries-734-w-fourth-street-williamsport-pa-17701/
END:VEVENT
BEGIN:VEVENT
DTSTART;TZID=UTC:20220626T153000
DTEND;TZID=UTC:20220626T180000
DTSTAMP:20260425T185843
CREATED:20220526T021825Z
LAST-MODIFIED:20220526T021825Z
UID:4068-1656257400-1656266400@www.princehall-pa.org
SUMMARY:St. John the Baptist Day Service\, 1st Masonic District at Grace Baptist Church of Germantown.
DESCRIPTION:
URL:https://www.princehall-pa.org/event/st-john-the-baptist-day-service-1st-masonic-district-at-grace-baptist-church-of-germantown/
END:VEVENT
BEGIN:VEVENT
DTSTART;TZID=UTC:20220625T100000
DTEND;TZID=UTC:20220625T170000
DTSTAMP:20260425T185843
CREATED:20220526T033752Z
LAST-MODIFIED:20220526T033752Z
UID:4073-1656151200-1656176400@www.princehall-pa.org
SUMMARY:The M.W.G.M. will travel to the Jurisdiction of Delaware for their Grand Lodge Session at the Grand East\, 1412 West College Road\, Dover DE 19904.  Delegations will be received starting at 10:00 am.  Please let our CC of FC know if you plan to attend. ed
DESCRIPTION:
URL:https://www.princehall-pa.org/event/the-m-w-g-m-will-travel-to-the-jurisdiction-of-delaware-for-their-grand-lodge-session-at-the-grand-east-1412-west-college-road-dover-de-19904-delegations-will-be-received-starting-at-1000-am-p/
END:VEVENT
BEGIN:VEVENT
DTSTART;TZID=UTC:20220625T090000
DTEND;TZID=UTC:20220625T120000
DTSTAMP:20260425T185843
CREATED:20220614T024325Z
LAST-MODIFIED:20220614T024325Z
UID:4110-1656147600-1656158400@www.princehall-pa.org
SUMMARY:The W.D.atL. will  represent the M.W.G.M. at DeMolay Consistory\, No. 1's Annual Prayer Breakfast Service
DESCRIPTION:
URL:https://www.princehall-pa.org/event/the-w-d-atl-will-represent-the-m-w-g-m-at-demolay-consistory-no-1s-annual-prayer-breakfast-service/
END:VEVENT
BEGIN:VEVENT
DTSTART;TZID=UTC:20220624T190000
DTEND;TZID=UTC:20220624T230000
DTSTAMP:20260425T185844
CREATED:20220614T023746Z
LAST-MODIFIED:20220614T023746Z
UID:4108-1656097200-1656111600@www.princehall-pa.org
SUMMARY:The M.W.G.M. will attend Linwood Lodge #87's Annual Banquet
DESCRIPTION:
URL:https://www.princehall-pa.org/event/the-m-w-g-m-will-attend-linwood-lodge-87s-annual-banquet/
END:VEVENT
BEGIN:VEVENT
DTSTART;TZID=UTC:20220623T080000
DTEND;TZID=UTC:20220626T170000
DTSTAMP:20260425T185844
CREATED:20211107T082904Z
LAST-MODIFIED:20211107T082904Z
UID:3383-1655971200-1656262800@www.princehall-pa.org
SUMMARY:Ruth Mitchell Tucker Girls Youth Department\, Annual Grand Encampment - In Person
DESCRIPTION:
URL:https://www.princehall-pa.org/event/ruth-mitchell-tucker-girls-youth-department-annual-grand-encampment-in-person/
END:VEVENT
BEGIN:VEVENT
DTSTART;TZID=UTC:20220622T100000
DTEND;TZID=UTC:20220622T143000
DTSTAMP:20260425T185844
CREATED:20220526T034601Z
LAST-MODIFIED:20220526T034601Z
UID:4076-1655892000-1655908200@www.princehall-pa.org
SUMMARY:The MWPHGL of PA will travel to the State Capital in Harrisburg\, PA to meet the Black Legislative Caucus.
DESCRIPTION:
URL:https://www.princehall-pa.org/event/the-mwphgl-of-pa-will-travel-to-the-state-capital-in-harrisburg-pa-to-meet-the-black-legislative-caucus/
END:VEVENT
BEGIN:VEVENT
DTSTART;TZID=UTC:20220620T000000
DTEND;TZID=UTC:20220620T235900
DTSTAMP:20260425T185844
CREATED:20220113T090451Z
LAST-MODIFIED:20220113T090451Z
UID:3557-1655683200-1655769540@www.princehall-pa.org
SUMMARY:Temple Closure: 4301 North Broad Street\, Philadelphia\, PA  19140 and 1117 Wood Street\, Pittsburgh\, PA 15221\, (Juneteenth Day Observed)
DESCRIPTION:
URL:https://www.princehall-pa.org/event/temple-closure-4301-north-broad-street-philadelphia-pa-19140-and-1117-wood-street-pittsburgh-pa-15221-juneteenth-day-observed/
END:VEVENT
BEGIN:VEVENT
DTSTART;TZID=UTC:20220619T000100
DTEND;TZID=UTC:20220619T235900
DTSTAMP:20260425T185844
CREATED:20211207T003942Z
LAST-MODIFIED:20220113T090043Z
UID:3467-1655596860-1655683140@www.princehall-pa.org
SUMMARY:Temple Closures: 4301 North Broad Street\, Philadelphia\, PA  19140 and 1117 Wood Street\, Pittsburgh\, PA 15221\, (Juneteenth Day\, Father's Day)
DESCRIPTION:
URL:https://www.princehall-pa.org/event/temple-closures-4301-north-broad-street-philadelphia-pa-19140-and-1117-wood-street-pittsburgh-pa-15221-7/
END:VEVENT
BEGIN:VEVENT
DTSTART;TZID=UTC:20220618T190000
DTEND;TZID=UTC:20220618T230000
DTSTAMP:20260425T185844
CREATED:20220519T073015Z
LAST-MODIFIED:20220519T073015Z
UID:4054-1655578800-1655593200@www.princehall-pa.org
SUMMARY:The M.W.G.M. will attend the Second O.E.S. District's 2022 Regal Ball.
DESCRIPTION:
URL:https://www.princehall-pa.org/event/the-m-w-g-m-will-attend-the-second-o-e-s-districts-2022-regal-ball/
END:VEVENT
BEGIN:VEVENT
DTSTART;TZID=UTC:20220616T080000
DTEND;TZID=UTC:20220619T170000
DTSTAMP:20260425T185844
CREATED:20211107T082421Z
LAST-MODIFIED:20220609T055519Z
UID:3381-1655366400-1655658000@www.princehall-pa.org
SUMMARY:The R.W.D.G.M. will represent the M.W.G.M. at Prince Hall Grand Council Knights of Pythagoras's Annual Grand Session
DESCRIPTION:
URL:https://www.princehall-pa.org/event/prince-hall-grand-council-knights-of-pythagoras-in-person/
END:VEVENT
BEGIN:VEVENT
DTSTART;TZID=UTC:20220613T080000
DTEND;TZID=UTC:20220613T170000
DTSTAMP:20260425T185844
CREATED:20220526T032546Z
LAST-MODIFIED:20220526T033912Z
UID:4071-1655107200-1655139600@www.princehall-pa.org
SUMMARY:The M.W.G.M. will travel to the Jurisdiction of New Jersey for their Grand Lodge Session at the Cherry Hill Hotel(formerly the Crown Plaza)
DESCRIPTION:
URL:https://www.princehall-pa.org/event/the-m-w-g-m-will-attend-the-jurisdiction-of-new-jersey-for-their-grand-lodge-session-at-the-cherry-hill-hotelformerly-the-crown-plaza/
END:VEVENT
BEGIN:VEVENT
DTSTART;TZID=UTC:20220612T160000
DTEND;TZID=UTC:20220612T180000
DTSTAMP:20260425T185844
CREATED:20220607T042340Z
LAST-MODIFIED:20220607T042340Z
UID:4092-1655049600-1655056800@www.princehall-pa.org
SUMMARY:The M.W.G.M. will attend the Annual Zerubbabel Day Service of the Most Excellent Grand Chapter\, Holy Royal Arch Masons at Millennium Baptist Church.
DESCRIPTION:
URL:https://www.princehall-pa.org/event/the-m-w-g-m-will-attend-the-annual-zerubbabel-day-service-of-the-most-excellent-grand-chapter-holy-royal-arch-masons-at-millennium-baptist-church/
END:VEVENT
BEGIN:VEVENT
DTSTART;TZID=UTC:20220612T153000
DTEND;TZID=UTC:20220612T180000
DTSTAMP:20260425T185844
CREATED:20220612T072154Z
LAST-MODIFIED:20220517T043626Z
UID:3379-1655047800-1655056800@www.princehall-pa.org
SUMMARY:The M.W.G.M. will attend M.E.G.C. - H.R.A.M. Zerubbabel Day Service - at Millennium Baptist Church
DESCRIPTION:
URL:https://www.princehall-pa.org/event/m-e-g-c-h-r-a-m-zerrubabel-day-service-in-person/
END:VEVENT
BEGIN:VEVENT
DTSTART;TZID=UTC:20220610T190000
DTEND;TZID=UTC:20220610T230000
DTSTAMP:20260425T185844
CREATED:20220427T182239Z
LAST-MODIFIED:20220427T182239Z
UID:3979-1654887600-1654902000@www.princehall-pa.org
SUMMARY:The R.W.D.G.M. will represent the M.W.G.M. at the First Masonic District\, Master Mason of the Year Banquet\, Springfield Country Club\, 400 Sproul Rd.\, Springfield\, PA  19064.
DESCRIPTION:
URL:https://www.princehall-pa.org/event/the-r-w-d-g-m-will-represent-the-m-w-g-m-at-the-first-masonic-district-master-mason-of-the-year-banquet-springfield-country-club-400-sproul-rd-springfield-pa-19064/
END:VEVENT
BEGIN:VEVENT
DTSTART;TZID=UTC:20220610T090000
DTEND;TZID=UTC:20220612T120000
DTSTAMP:20260425T185844
CREATED:20220310T071133Z
LAST-MODIFIED:20220311T204158Z
UID:3776-1654851600-1655035200@www.princehall-pa.org
SUMMARY:The M.W.G.M. will attend Esther Grand Court\, Ladies of the Circle of Perfection'\, PHA\, 32nd Annual Grand Session
DESCRIPTION:
URL:https://www.princehall-pa.org/event/the-m-w-g-m-will-attend-esther-grand-court-ladies-of-the-circle-of-perfection-pha-32nd-annual-grand-session/
END:VEVENT
BEGIN:VEVENT
DTSTART;TZID=UTC:20220610T090000
DTEND;TZID=UTC:20220611T170000
DTSTAMP:20260425T185844
CREATED:20211107T081832Z
LAST-MODIFIED:20220405T045720Z
UID:3377-1654851600-1654966800@www.princehall-pa.org
SUMMARY:The M.W.G.M. will attend the P.H.G.C. Royal & Select Masters 42nd Annual Grand Assembly and Memorial Day Service at the Crown Plaza Hotel\, 260 Mall Blvd\, King of Prussia\, PA  19406.
DESCRIPTION:
URL:https://www.princehall-pa.org/event/p-h-g-c-royal-select-masters-grand-assembly-in-person/
END:VEVENT
BEGIN:VEVENT
DTSTART;TZID=UTC:20220605T190000
DTEND;TZID=UTC:20220605T220000
DTSTAMP:20260425T185844
CREATED:20220525T025242Z
LAST-MODIFIED:20220525T025242Z
UID:4060-1654455600-1654466400@www.princehall-pa.org
SUMMARY:Blanche P. Nottingham Chapter No. 84\, will Celebrate 75 years of Excellence\, "Diamonds are Forever"\, Celebrating the Past Worthy Matrons and Patrons. Mahoney Event Center\, 15 Cavalier Dr. Ste 101\, Ambler\, PA 19002
DESCRIPTION:
URL:https://www.princehall-pa.org/event/blanche-p-nottingham-chapter-no-84-will-celebrate-75-years-of-excellence-diamonds-are-forever-celebrating-the-past-worthy-matrons-and-patrons-mahoney-event-center-15-cavalier-dr-ste-101-a/
END:VEVENT
BEGIN:VEVENT
DTSTART;TZID=UTC:20220605T153000
DTEND;TZID=UTC:20220605T180000
DTSTAMP:20260425T185844
CREATED:20220525T031017Z
LAST-MODIFIED:20220525T031017Z
UID:4063-1654443000-1654452000@www.princehall-pa.org
SUMMARY:The R.W.S.G.W. will represent the M.W.G.M\, at St. Cyprian Consistory No. 4's Annual Whit Sunday Celebration
DESCRIPTION:
URL:https://www.princehall-pa.org/event/the-r-w-s-g-w-will-represent-the-m-w-g-m-at-st-cyprian-consistory-no-4s-annual-whit-sunday-celebration/
END:VEVENT
BEGIN:VEVENT
DTSTART;TZID=UTC:20220605T150000
DTEND;TZID=UTC:20220605T180000
DTSTAMP:20260425T185844
CREATED:20220505T032156Z
LAST-MODIFIED:20220525T030410Z
UID:3996-1654441200-1654452000@www.princehall-pa.org
SUMMARY:The M.W.G.M. will attend the Annual Whit Sunday Service\, A Scottish Rite Festival Day.at DeMolay Consistory\, No. 1
DESCRIPTION:
URL:https://www.princehall-pa.org/event/the-m-w-g-m-will-attend-the-annual-whit-sunday-service-a-scottish-rite-festival-day/
END:VEVENT
BEGIN:VEVENT
DTSTART;TZID=UTC:20220605T130000
DTEND;TZID=UTC:20220605T160000
DTSTAMP:20260425T185844
CREATED:20220405T044259Z
LAST-MODIFIED:20220510T012803Z
UID:3893-1654434000-1654444800@www.princehall-pa.org
SUMMARY:W.D.L. Sean Snead will represent the M.W.G.M. at Sarah Jackson Chapter No. 74's Annual Five Point Tea at the Masonic Center\, 400 S. 7th Avenue\, West Reading\, PA
DESCRIPTION:
URL:https://www.princehall-pa.org/event/the-r-w-d-g-m-will-represent-the-m-w-g-m-at-sarah-jacksons-chapter-no-74s-annual-five-point-tea-at-the-the-masonic-center-400-s-7th-avenue-west-reading-pa/
END:VEVENT
BEGIN:VEVENT
DTSTART;TZID=UTC:20220604T180000
DTEND;TZID=UTC:20220604T220000
DTSTAMP:20260425T185844
CREATED:20220329T042904Z
LAST-MODIFIED:20220329T042904Z
UID:3875-1654365600-1654380000@www.princehall-pa.org
SUMMARY:W.D.D.G.M. Leggette will represent the M.W.G.M. at Eureka Chapter No. 12's Annual Main Affair at the Moose Lodge\, 1200 Airport Road\, Coatsville\, PA  19320
DESCRIPTION:
URL:https://www.princehall-pa.org/event/w-d-d-g-m-leggette-will-represent-the-m-w-g-m-at-eureka-chapter-no-12s-annual-main-affair-at-the-moose-lodge-1200-airport-road-coatsville-pa-19320/
END:VEVENT
BEGIN:VEVENT
DTSTART;TZID=UTC:20220604T130000
DTEND;TZID=UTC:20220604T170000
DTSTAMP:20260425T185844
CREATED:20220424T045946Z
LAST-MODIFIED:20220424T045946Z
UID:3960-1654347600-1654362000@www.princehall-pa.org
SUMMARY:The M.W.G.M\, will attend Martha Chapter No. 3's Luncheon at the IATSE Ballroom.
DESCRIPTION:
URL:https://www.princehall-pa.org/event/the-m-w-g-m-will-attend-martha-chapter-no-3s-luncheon-at-the-iatse-ballroom/
END:VEVENT
BEGIN:VEVENT
DTSTART;TZID=UTC:20220603T200000
DTEND;TZID=UTC:20220603T200000
DTSTAMP:20260425T185844
CREATED:20220424T045313Z
LAST-MODIFIED:20220424T045313Z
UID:3958-1654286400-1654286400@www.princehall-pa.org
SUMMARY:The M.W.G.M. will attend Ruth Chapter No. 66 Annual Affair Event at the Felt Factory.
DESCRIPTION:
URL:https://www.princehall-pa.org/event/the-m-w-g-m-will-attend-ruth-chapter-no-66-annual-affair-event-at-the-felt-factory/
END:VEVENT
BEGIN:VEVENT
DTSTART;TZID=UTC:20220603T100000
DTEND;TZID=UTC:20220603T170000
DTSTAMP:20260425T185844
CREATED:20220329T054237Z
LAST-MODIFIED:20220510T013326Z
UID:3877-1654250400-1654275600@www.princehall-pa.org
SUMMARY:The M.W.G.M will attend the 176th Annual Grand Communication of The Most Worshipful Prince Hall Grand Lodge\, State of New York Westchester Marriott Hotel\, 670 White Plains Road\, Tarrytown\, NY 10591.  Any Brother who wants to attend MUST contact the C.C. of F.C.  Visiting delegations will be received on Friday\, June 3\, 2022\, at 10:a.m.
DESCRIPTION:
URL:https://www.princehall-pa.org/event/the-176th-annual-grand-communication-of-the-most-worshipful-prince-hall-grand-lodge-state-of-new-york-westchester-marriott-hotel-670-white-plains-road-tarrytown-ny-10591-any-brother-who-wants-to/
END:VEVENT
BEGIN:VEVENT
DTSTART;TZID=UTC:20220530T000100
DTEND;TZID=UTC:20220530T235900
DTSTAMP:20260425T185844
CREATED:20211207T003744Z
LAST-MODIFIED:20220113T081959Z
UID:3465-1653868860-1653955140@www.princehall-pa.org
SUMMARY:Temple Closures: 4301 North Broad Street\, Philadelphia\, PA  19140 and 1117 Wood Street\, Pittsburgh\, PA 15221\, (Memorial Day)
DESCRIPTION:
URL:https://www.princehall-pa.org/event/temple-closures-4301-north-broad-street-philadelphia-pa-19140-and-1117-wood-street-pittsburgh-pa-15221-6/
END:VEVENT
BEGIN:VEVENT
DTSTART;TZID=UTC:20220527T080000
DTEND;TZID=UTC:20220531T170000
DTSTAMP:20260425T185844
CREATED:20220220T032906Z
LAST-MODIFIED:20220220T032906Z
UID:3687-1653638400-1654016400@www.princehall-pa.org
SUMMARY:The M.W.G.M. will attend The United Supreme Council\, Ancient & Accepted Scottish Rite of Freemasonry\, Northern Jurisdiction\, Prince Hall Affiliation's 141st ANNUAL SESSION and 47th Triennial at the Philadelphia Marriott Downtown Hotel\, 1201Market St.\, Philadelphia\, PA  19107
DESCRIPTION:
URL:https://www.princehall-pa.org/event/the-m-w-g-m-will-attend-the-united-supreme-council-ancient-accepted-scottish-rite-of-freemasonry-northern-jurisdiction-prince-hall-affiliations-141st-annual-session-and-47th-triennial-at-the-p/
END:VEVENT
BEGIN:VEVENT
DTSTART;TZID=UTC:20220526T190000
DTEND;TZID=UTC:20220526T210000
DTSTAMP:20260425T185844
CREATED:20220514T014039Z
LAST-MODIFIED:20220514T024137Z
UID:4021-1653591600-1653598800@www.princehall-pa.org
SUMMARY:The W.D. at L. will represent the M.W.G.M. at the U.G.C. Masonic Knights Templar 'Virtual' Annual Ascension Day Service
DESCRIPTION:
URL:https://www.princehall-pa.org/event/the-w-d-at-l-will-represent-the-m-w-g-m-at-the-united-grand-commanderys-virtual-annual-ascension-day-service/
END:VEVENT
BEGIN:VEVENT
DTSTART;TZID=UTC:20220522T190000
DTEND;TZID=UTC:20220522T203000
DTSTAMP:20260425T185844
CREATED:20220517T042944Z
LAST-MODIFIED:20220517T042944Z
UID:4044-1653246000-1653251400@www.princehall-pa.org
SUMMARY:The M.W.G.M. will attend M.W.P.H.G.L. of PA & Deborah Grand Chapter O.E.S. Prayer Zoom Conference Call
DESCRIPTION:
URL:https://www.princehall-pa.org/event/the-m-w-g-m-will-attend-m-w-p-h-g-l-of-pa-deborah-grand-chapter-o-e-s-prayer-zoom-conference-call/
END:VEVENT
BEGIN:VEVENT
DTSTART;TZID=UTC:20220522T163000
DTEND;TZID=UTC:20220522T203000
DTSTAMP:20260425T185844
CREATED:20220324T054403Z
LAST-MODIFIED:20220324T054403Z
UID:3844-1653237000-1653251400@www.princehall-pa.org
SUMMARY:The M.W.G.M. will attend Leah Chapter No. 27's 90th Anniversary Celebration at the Ballroom at The Phoenix\, 1661 Mill Road\, Boothwyn\, PA 19061
DESCRIPTION:
URL:https://www.princehall-pa.org/event/the-m-w-g-m-will-attend-leah-chapter-no-27s-90th-anniversary-celebration-at-the-ballroom-at-the-phoenix-1661-mill-road-boothwyn-pa-19061/
END:VEVENT
END:VCALENDAR