BEGIN:VCALENDAR
VERSION:2.0
PRODID:-//Prince Hall Grand Lodge of PA - ECPv6.15.20//NONSGML v1.0//EN
CALSCALE:GREGORIAN
METHOD:PUBLISH
X-WR-CALNAME:Prince Hall Grand Lodge of PA
X-ORIGINAL-URL:https://www.princehall-pa.org
X-WR-CALDESC:Events for Prince Hall Grand Lodge of PA
REFRESH-INTERVAL;VALUE=DURATION:PT1H
X-Robots-Tag:noindex
X-PUBLISHED-TTL:PT1H
BEGIN:VTIMEZONE
TZID:America/New_York
BEGIN:DAYLIGHT
TZOFFSETFROM:-0500
TZOFFSETTO:-0400
TZNAME:EDT
DTSTART:20210314T070000
END:DAYLIGHT
BEGIN:STANDARD
TZOFFSETFROM:-0400
TZOFFSETTO:-0500
TZNAME:EST
DTSTART:20211107T060000
END:STANDARD
BEGIN:DAYLIGHT
TZOFFSETFROM:-0500
TZOFFSETTO:-0400
TZNAME:EDT
DTSTART:20220313T070000
END:DAYLIGHT
BEGIN:STANDARD
TZOFFSETFROM:-0400
TZOFFSETTO:-0500
TZNAME:EST
DTSTART:20221106T060000
END:STANDARD
BEGIN:DAYLIGHT
TZOFFSETFROM:-0500
TZOFFSETTO:-0400
TZNAME:EDT
DTSTART:20230312T070000
END:DAYLIGHT
BEGIN:STANDARD
TZOFFSETFROM:-0400
TZOFFSETTO:-0500
TZNAME:EST
DTSTART:20231105T060000
END:STANDARD
END:VTIMEZONE
BEGIN:VTIMEZONE
TZID:UTC
BEGIN:STANDARD
TZOFFSETFROM:+0000
TZOFFSETTO:+0000
TZNAME:UTC
DTSTART:20210101T000000
END:STANDARD
END:VTIMEZONE
BEGIN:VEVENT
DTSTART;TZID=America/New_York:20221105T120000
DTEND;TZID=America/New_York:20221105T150000
DTSTAMP:20260425T115734
CREATED:20221104T210035Z
LAST-MODIFIED:20221104T210313Z
UID:4437-1667649600-1667660400@www.princehall-pa.org
SUMMARY:W.D.D.G.M. Reginald Haines\, will represent the M.W.G.M. at the International Grand Court\, Order of Cyrene Crusaders Receiving.
DESCRIPTION:.d.d
URL:https://www.princehall-pa.org/event/w-d-d-g-m-reginald-haines-will-represent-the-m-w-g-m-at-the-internation-grand-court-order-of-cyrene-crusaders-receiving/
END:VEVENT
BEGIN:VEVENT
DTSTART;TZID=America/New_York:20221105T090000
DTEND;TZID=America/New_York:20221105T170000
DTSTAMP:20260425T115734
CREATED:20221031T001029Z
LAST-MODIFIED:20221031T001029Z
UID:4385-1667638800-1667667600@www.princehall-pa.org
SUMMARY:E.G.C.\, L.O.C.O.P. - Seminar
DESCRIPTION:
URL:https://www.princehall-pa.org/event/e-g-c-l-o-c-o-p-seminar/
END:VEVENT
BEGIN:VEVENT
DTSTART;TZID=UTC:20221023T150000
DTEND;TZID=UTC:20221025T170000
DTSTAMP:20260425T115734
CREATED:20221023T074909Z
LAST-MODIFIED:20220726T034637Z
UID:3396-1666537200-1666717200@www.princehall-pa.org
SUMMARY:M.A.G.C. Heroines of Jericho Annual Grand Session\, Delta Hotel Philadelphia Airport Hotel.
DESCRIPTION:
URL:https://www.princehall-pa.org/event/m-a-g-c-heroines-of-jericho-annual-grand-session/
END:VEVENT
BEGIN:VEVENT
DTSTART;TZID=UTC:20221021T090000
DTEND;TZID=UTC:20221023T170000
DTSTAMP:20260425T115734
CREATED:20220804T013946Z
LAST-MODIFIED:20221017T230023Z
UID:4189-1666342800-1666544400@www.princehall-pa.org
SUMMARY:The M.W.G.M. will attend the M.E.G.C.\, H.R.A.M.S.-P.H.A.\, 202nd Annual Grand Convocation at the Delta Philadelphia Airport Hotel.Hotel.
DESCRIPTION:
URL:https://www.princehall-pa.org/event/most-excellent-grand-chapter-hrams-p-h-a-will-convene-their-202nd-annual-grand-convocation/
END:VEVENT
BEGIN:VEVENT
DTSTART;TZID=America/New_York:20221010T190000
DTEND;TZID=America/New_York:20221011T000000
DTSTAMP:20260425T115734
CREATED:20220810T120147Z
LAST-MODIFIED:20220928T182544Z
UID:4219-1665428400-1665446400@www.princehall-pa.org
SUMMARY:Grand Lodge Banquet
DESCRIPTION:
URL:https://www.princehall-pa.org/event/grand-lodge-banquet-2/
LOCATION:Valley Forge Casino Resort\, 1160 1st Ave.\, King of Prussia\, PA\, 19406\, United States
END:VEVENT
BEGIN:VEVENT
DTSTART;TZID=UTC:20221010T083000
DTEND;TZID=UTC:20221011T170000
DTSTAMP:20260425T115734
CREATED:20220726T035314Z
LAST-MODIFIED:20220726T035314Z
UID:4167-1665390600-1665507600@www.princehall-pa.org
SUMMARY:Most Worshipful Prince Hall Grand Lodge 207th Annual Session at the Valley Forge Casino Resort\, 1160 First Ave.\, King of Prussia\, PA 19405.
DESCRIPTION:
URL:https://www.princehall-pa.org/event/most-worshipful-prince-hall-grand-lodge-207th-annual-session-at-the-valley-forge-casino-resort-1160-first-ave-king-of-prussia-pa-19405/
END:VEVENT
BEGIN:VEVENT
DTSTART;TZID=America/New_York:20221008T190000
DTEND;TZID=America/New_York:20221009T000000
DTSTAMP:20260425T115734
CREATED:20220810T111403Z
LAST-MODIFIED:20220810T145918Z
UID:4211-1665255600-1665273600@www.princehall-pa.org
SUMMARY:A Night of Entertainment
DESCRIPTION:
URL:https://www.princehall-pa.org/event/a-night-of-entertainment/
LOCATION:Valley Forge Casino Resort\, 1160 1st Ave.\, King of Prussia\, PA\, 19406\, United States
ORGANIZER;CN="The Ways and Means Committee":MAILTO:wayandmeans@princehall-pa.org
END:VEVENT
BEGIN:VEVENT
DTSTART;TZID=UTC:20221001T110000
DTEND;TZID=UTC:20221001T150000
DTSTAMP:20260425T115734
CREATED:20220804T034432Z
LAST-MODIFIED:20220804T034432Z
UID:4191-1664622000-1664636400@www.princehall-pa.org
SUMMARY:The M.W.G.M. will attend Philadelphia Assembly No. 5's Annual Public Relations Brunch
DESCRIPTION:
URL:https://www.princehall-pa.org/event/the-m-w-g-m-will-attend-philadelphia-assembly-no-5s-annual-public-relations-brunch/
END:VEVENT
BEGIN:VEVENT
DTSTART;TZID=America/New_York:20220924T130000
DTEND;TZID=America/New_York:20220924T160000
DTSTAMP:20260425T115734
CREATED:20220810T234206Z
LAST-MODIFIED:20220810T234206Z
UID:4230-1664024400-1664035200@www.princehall-pa.org
SUMMARY:The M.W.G.M. will attend The M.W.P.H.G.L. Jurisdiction of Rhode Island's Anniversary Luncheon celebrating 225 years of Prince Hall Masonry in Rhode Island.
DESCRIPTION:
URL:https://www.princehall-pa.org/event/the-m-w-g-m-will-attend-the-m-w-p-h-g-l-jurisdiction-of-rhode-islands-anniversary-luncheon-celebrating-225-years-of-prince-hall-masonry-in-rhode-island/
END:VEVENT
BEGIN:VEVENT
DTSTART;TZID=America/New_York:20220917T120000
DTEND;TZID=America/New_York:20220917T150000
DTSTAMP:20260425T115734
CREATED:20220914T225819Z
LAST-MODIFIED:20220914T225819Z
UID:4281-1663416000-1663426800@www.princehall-pa.org
SUMMARY:1st District W.D.L. Herman Hall will represent the M.W.G.M. at Mary E. Gould Assembly No. 61's Annual Main Affair "Luncheon".
DESCRIPTION:
URL:https://www.princehall-pa.org/event/1st-district-w-d-l-herman-hall-will-represent-the-m-w-g-m-at-mary-e-gould-assembly-no-61s-annual-main-affair-luncheon/
END:VEVENT
BEGIN:VEVENT
DTSTART;TZID=UTC:20220917T110000
DTEND;TZID=UTC:20220917T120000
DTSTAMP:20260425T115734
CREATED:20220705T235406Z
LAST-MODIFIED:20220705T235406Z
UID:4144-1663412400-1663416000@www.princehall-pa.org
SUMMARY:SAVE THE DATE NOW!  A portion of Lancaster Avenue will be renamed Absalom Jones Way - More info to follow as it becomes available.
DESCRIPTION:
URL:https://www.princehall-pa.org/event/save-the-date-now-a-portion-of-lancaster-avenue-will-be-renamed-absalom-jones-way-more-info-to-follow-as-it-becomes-available/
END:VEVENT
BEGIN:VEVENT
DTSTART;TZID=America/New_York:20220915T080000
DTEND;TZID=America/New_York:20220917T170000
DTSTAMP:20260425T115734
CREATED:20220824T231635Z
LAST-MODIFIED:20220824T231635Z
UID:4254-1663228800-1663434000@www.princehall-pa.org
SUMMARY:The R.W.S.G.W. will represent the M.W.G.M. at the M.W.P.H.G.L. of Virginia's 146th Annual Communication.
DESCRIPTION:
URL:https://www.princehall-pa.org/event/the-r-w-s-g-w-will-represent-the-m-w-g-m-at-the-m-w-p-h-g-l-of-virginias-146th-annual-communication/
END:VEVENT
BEGIN:VEVENT
DTSTART;TZID=UTC:20220911T153000
DTEND;TZID=UTC:20220911T180000
DTSTAMP:20260425T115734
CREATED:20220805T194949Z
LAST-MODIFIED:20220826T184510Z
UID:4204-1662910200-1662919200@www.princehall-pa.org
SUMMARY:The WDDGM Claude Clements will represent the MWGM at the 2nd\, 3rd\, & 4th Masonic Districts\, Prince Hall Americanism Day Service at Calvary Baptist Church\, 1616 W. 2nd Street\, Chester\, PA  19103.
DESCRIPTION:
URL:https://www.princehall-pa.org/event/2nd-3rd-4th-districts-prince-hall-americanism-day-service-at-calvary-baptist-church-1616-w-2nd-street-chester-pa-19103/
END:VEVENT
BEGIN:VEVENT
DTSTART;TZID=UTC:20220911T153000
DTEND;TZID=UTC:20220911T180000
DTSTAMP:20260425T115734
CREATED:20220728T000643Z
LAST-MODIFIED:20220829T151648Z
UID:4170-1662910200-1662919200@www.princehall-pa.org
SUMMARY:The WDDGM Antoine Smalls will represent the MWGM at the 7th & 8th Masonic Districts Prince Hall Americanism Day Service\, St Paul AME Church 400 Orchard Place\, Pittsburgh\, PA 15210.
DESCRIPTION:
URL:https://www.princehall-pa.org/event/7th-8th-masonic-districts-prince-halland-americanism-day-service-st-paul-ame-church-400-orchard-place-pittsburgh-pa-15210/
LOCATION:M.W.P.H.G.L.\, 4301 N. Broad Street\, Philadelphia\, PA\, 19140\, United States
END:VEVENT
BEGIN:VEVENT
DTSTART;TZID=UTC:20220911T153000
DTEND;TZID=UTC:20220911T180000
DTSTAMP:20260425T115734
CREATED:20220726T022506Z
LAST-MODIFIED:20220829T151757Z
UID:4161-1662910200-1662919200@www.princehall-pa.org
SUMMARY:The WDDGM Reginald Leggete will represent the MWGM at the 5th\, 6th & 9th Masonic Districts\, Prince Hall  Americanism Day Service at the Shiloh Baptist Church\, 740 W. Locust St\, York\, PA  17401.
DESCRIPTION:
URL:https://www.princehall-pa.org/event/5th-6th-9th-masonic-districts-prince-hall-and-americanism-day-service-at-the-shiloh-baptist-church-740-w-locust-st-york-pa-17401/
END:VEVENT
BEGIN:VEVENT
DTSTART;TZID=UTC:20220911T153000
DTEND;TZID=UTC:20220911T180000
DTSTAMP:20260425T115734
CREATED:20220726T022130Z
LAST-MODIFIED:20220829T151842Z
UID:4159-1662910200-1662919200@www.princehall-pa.org
SUMMARY:1st Masonic District\, Prince Hall Americanism Day Service\, at The House of Faith Baptist Church\, 1001 W. Wingohocking St. Philadelphia\, 19140
DESCRIPTION:
URL:https://www.princehall-pa.org/event/1st-masonic-district-prince-hall-and-americanism-day-service-sunday-september-11-2022-the-house-of-faith-baptist-church-1001-w-wingohocking-st-philadelphia-19140/
END:VEVENT
BEGIN:VEVENT
DTSTART;TZID=UTC:20220911T153000
DTEND;TZID=UTC:20220911T180000
DTSTAMP:20260425T115734
CREATED:20220208T070826Z
LAST-MODIFIED:20220829T152009Z
UID:3625-1662910200-1662919200@www.princehall-pa.org
SUMMARY:Prince Hall Americanism Day - This event celebrates the birthday of the founder of Prince Hall Masonry among men of African descent.  Prince Hall had a desire for us to unite as freemen with the principles upon which our government is based.
DESCRIPTION:
URL:https://www.princehall-pa.org/event/prince-hall-and-americanism-day-this-event-celebrates-the-birthday-of-the-founder-of-prince-hall-masonry-among-men-of-african-descent-prince-hall-had-a-desire-for-us-to-unite-as-freemen-with-the-p/
END:VEVENT
BEGIN:VEVENT
DTSTART;TZID=UTC:20220910T190000
DTEND;TZID=UTC:20220910T230000
DTSTAMP:20260425T115734
CREATED:20211107T084300Z
LAST-MODIFIED:20220829T152519Z
UID:3392-1662836400-1662850800@www.princehall-pa.org
SUMMARY:The MWGM will attend the M.A.G.C. Heroines of Jericho Annual Scarlet Ball
DESCRIPTION:
URL:https://www.princehall-pa.org/event/m-a-g-c-heroines-of-jericho-annual-scarlet-ball-in-person/
END:VEVENT
BEGIN:VEVENT
DTSTART;TZID=America/New_York:20220910T100000
DTEND;TZID=America/New_York:20220910T150000
DTSTAMP:20260425T115734
CREATED:20220823T031110Z
LAST-MODIFIED:20220823T031110Z
UID:4250-1662804000-1662822000@www.princehall-pa.org
SUMMARY:The M.W.G.M. will attend the Annual Children's Fair - To be held at the MWPHGL of PA Masonic Temple-East\, food\, music\, fun\, exhibits.  All are invited.
DESCRIPTION:
URL:https://www.princehall-pa.org/event/the-m-w-g-m-will-attend-the-annual-childrens-fair-to-be-held-at-the-mwphgl-of-pa-masonic-temple-east-food-music-fun-exhibits-all-are-invited/
END:VEVENT
BEGIN:VEVENT
DTSTART;TZID=America/New_York:20220909T180000
DTEND;TZID=America/New_York:20220909T200000
DTSTAMP:20260425T115734
CREATED:20220823T030720Z
LAST-MODIFIED:20220823T030720Z
UID:4248-1662746400-1662753600@www.princehall-pa.org
SUMMARY:The M.W.G.M. will attend the recently approved new Dedication Ceremony for our History & Archives Museum\, and the Father Logan Room. This event will be held at 4301 N. Broad Street\, Masonic Complex.
DESCRIPTION:
URL:https://www.princehall-pa.org/event/the-m-w-g-m-will-attend-the-recently-approved-new-dedication-ceremony-for-our-history-archives-museum-and-the-father-logan-room-this-event-will-be-held-at-4301-n-broad-street-masonic-complex/
END:VEVENT
BEGIN:VEVENT
DTSTART;TZID=UTC:20220905T000100
DTEND;TZID=UTC:20220905T235900
DTSTAMP:20260425T115734
CREATED:20211207T004851Z
LAST-MODIFIED:20220113T065712Z
UID:3471-1662336060-1662422340@www.princehall-pa.org
SUMMARY:Temple Closures: 4301 North Broad Street\, Philadelphia\, PA  19140 and 1117 Wood Street\, Pittsburgh\, PA 15221\, Labor Day
DESCRIPTION:
URL:https://www.princehall-pa.org/event/temple-closures-4301-north-broad-street-philadelphia-pa-19140-and-1117-wood-street-pittsburgh-pa-15221-9/
END:VEVENT
BEGIN:VEVENT
DTSTART;TZID=America/New_York:20220829T083000
DTEND;TZID=America/New_York:20220829T100000
DTSTAMP:20260425T115734
CREATED:20220823T025721Z
LAST-MODIFIED:20220823T032044Z
UID:4246-1661761800-1661767200@www.princehall-pa.org
SUMMARY:The M.W.G.M. will welcome "Back to School" the students at Prince Hall Elementary School\, 6101 N. Gratz St.\, Phila\, PA 19141.  We will be Masonically dressed in aprons and collars.
DESCRIPTION:
URL:https://www.princehall-pa.org/event/the-m-w-g-m-will-welcome-back-to-school-the-students-at-prince-hall-elementary-school/
END:VEVENT
BEGIN:VEVENT
DTSTART;TZID=UTC:20220827T190000
DTEND;TZID=UTC:20220827T230000
DTSTAMP:20260425T115734
CREATED:20220519T070935Z
LAST-MODIFIED:20220519T070935Z
UID:4047-1661626800-1661641200@www.princehall-pa.org
SUMMARY:The M.W.G.M. will attend Pennsylvania Commanders of the Rite 33rd\, 3rd Annual Leadership Banquet.
DESCRIPTION:
URL:https://www.princehall-pa.org/event/the-m-w-g-m-will-attend-pennsylvania-commanders-of-the-rite-33rd-3rd-annual-leadership-banquet/
END:VEVENT
BEGIN:VEVENT
DTSTART;TZID=UTC:20220821T100000
DTEND;TZID=UTC:20220821T180000
DTSTAMP:20260425T115734
CREATED:20220707T052114Z
LAST-MODIFIED:20220707T052114Z
UID:4148-1661076000-1661104800@www.princehall-pa.org
SUMMARY:Philadelphia members of the Improved Benevolent Protective Elks of the World are hosting a "STOP THE VIOLENCE - SAVE THE CHILDREN" Cookout at Wister Woods.
DESCRIPTION:
URL:https://www.princehall-pa.org/event/philadelphia-members-of-the-improved-benevolent-protective-elks-of-the-world-are-hosting-a-stop-the-violence-save-the-children-cookout-at-wister-woods/
END:VEVENT
BEGIN:VEVENT
DTSTART;TZID=UTC:20220801T080000
DTEND;TZID=UTC:20220802T170000
DTSTAMP:20260425T115734
CREATED:20211207T062843Z
LAST-MODIFIED:20220607T045827Z
UID:3481-1659340800-1659459600@www.princehall-pa.org
SUMMARY:The M.W.G.M. will attend the Most Royal Grand Court of Cyrene's - Annual Grand Session\, Crown Plaza Hotel\, King of Prussia\, PA
DESCRIPTION:
URL:https://www.princehall-pa.org/event/most-royal-grand-court-of-cyrene-annual-grand-session-crown-plaza-hotel-king-of-prussia-pa/
END:VEVENT
BEGIN:VEVENT
DTSTART;TZID=UTC:20220730T080000
DTEND;TZID=UTC:20220730T170000
DTSTAMP:20260425T115734
CREATED:20220519T071854Z
LAST-MODIFIED:20220721T015347Z
UID:4049-1659168000-1659200400@www.princehall-pa.org
SUMMARY:P.M.W.G.M. Roland K. Lee will represent the M.W.G.M. at Vine Memorial Baptist Church's 90th Church Anniversary Celebration.
DESCRIPTION:
URL:https://www.princehall-pa.org/event/the-m-w-g-m-will-attend-vine-memorial-baptist-churchs-90th-church-anniversary-celebration/
END:VEVENT
BEGIN:VEVENT
DTSTART;TZID=UTC:20220729T190000
DTEND;TZID=UTC:20220731T190000
DTSTAMP:20260425T115734
CREATED:20220623T042406Z
LAST-MODIFIED:20220623T042406Z
UID:4120-1659121200-1659294000@www.princehall-pa.org
SUMMARY:The M.W.G.M. will attend The United Grand Commandery\, Masonic Knights Templar-P.H.A.\, Jurisdiction of PA
DESCRIPTION:
URL:https://www.princehall-pa.org/event/the-m-w-g-m-will-attend-the-united-grand-commandery-masonic-knights-templar-p-h-a-jurisdiction-of-pa/
END:VEVENT
BEGIN:VEVENT
DTSTART;TZID=UTC:20220724T150000
DTEND;TZID=UTC:20220724T170000
DTSTAMP:20260425T115734
CREATED:20220526T043509Z
LAST-MODIFIED:20220526T043509Z
UID:4082-1658674800-1658682000@www.princehall-pa.org
SUMMARY:The WGL will supervise the team performing the "Cornerstone Ceremony" for The Triumph Baptist Church of Philadelphia
DESCRIPTION:
URL:https://www.princehall-pa.org/event/the-wgl-will-supervise-the-team-performing-the-cornerstone-ceremony-for-the-triumph-baptist-church-of-philadelphia/
END:VEVENT
BEGIN:VEVENT
DTSTART;TZID=UTC:20220724T130000
DTEND;TZID=UTC:20220724T170000
DTSTAMP:20260425T115734
CREATED:20220623T044153Z
LAST-MODIFIED:20220628T000702Z
UID:4123-1658667600-1658682000@www.princehall-pa.org
SUMMARY:The M.W.P.H.G.L. in collaboration with Mt. Lebanon Lodge #9\, Holmesburg Lodge #137\, and Drexel TechServ will distribute to Senior Citizens\, 50 Chromebooks and provide technical assistance!
DESCRIPTION:
URL:https://www.princehall-pa.org/event/the-m-w-p-h-g-l-in-collaboration-with-mt-lebanon-lodge-9-holmesburg-lodge-137-and-drexel-techserv-will-distribute-50-chromebooks-and-provide-technical-assistance-to-senior-citizens/
END:VEVENT
BEGIN:VEVENT
DTSTART;TZID=UTC:20220723T120000
DTEND;TZID=UTC:20220723T150000
DTSTAMP:20260425T115734
CREATED:20220721T034936Z
LAST-MODIFIED:20220721T034936Z
UID:4156-1658577600-1658588400@www.princehall-pa.org
SUMMARY:The M.W.G.M. will attend Martin Luther King\, Jr. Consistory No. 86's Annual Awards Luncheon.
DESCRIPTION:
URL:https://www.princehall-pa.org/event/the-m-w-g-m-will-attend-martin-luther-king-jr-consistory-no-86s-annual-awards-luncheon/
END:VEVENT
END:VCALENDAR