BEGIN:VCALENDAR
VERSION:2.0
PRODID:-//Prince Hall Grand Lodge of PA - ECPv6.15.20//NONSGML v1.0//EN
CALSCALE:GREGORIAN
METHOD:PUBLISH
X-WR-CALNAME:Prince Hall Grand Lodge of PA
X-ORIGINAL-URL:https://www.princehall-pa.org
X-WR-CALDESC:Events for Prince Hall Grand Lodge of PA
REFRESH-INTERVAL;VALUE=DURATION:PT1H
X-Robots-Tag:noindex
X-PUBLISHED-TTL:PT1H
BEGIN:VTIMEZONE
TZID:America/New_York
BEGIN:DAYLIGHT
TZOFFSETFROM:-0500
TZOFFSETTO:-0400
TZNAME:EDT
DTSTART:20220313T070000
END:DAYLIGHT
BEGIN:STANDARD
TZOFFSETFROM:-0400
TZOFFSETTO:-0500
TZNAME:EST
DTSTART:20221106T060000
END:STANDARD
BEGIN:DAYLIGHT
TZOFFSETFROM:-0500
TZOFFSETTO:-0400
TZNAME:EDT
DTSTART:20230312T070000
END:DAYLIGHT
BEGIN:STANDARD
TZOFFSETFROM:-0400
TZOFFSETTO:-0500
TZNAME:EST
DTSTART:20231105T060000
END:STANDARD
BEGIN:DAYLIGHT
TZOFFSETFROM:-0500
TZOFFSETTO:-0400
TZNAME:EDT
DTSTART:20240310T070000
END:DAYLIGHT
BEGIN:STANDARD
TZOFFSETFROM:-0400
TZOFFSETTO:-0500
TZNAME:EST
DTSTART:20241103T060000
END:STANDARD
END:VTIMEZONE
BEGIN:VEVENT
DTSTART;TZID=America/New_York:20230325T150000
DTEND;TZID=America/New_York:20230325T180000
DTSTAMP:20260425T113537
CREATED:20221110T012510Z
LAST-MODIFIED:20221110T012510Z
UID:4461-1679756400-1679767200@www.princehall-pa.org
SUMMARY:M.R.G.C. of Cyrene - Grand Floor Fundraiser
DESCRIPTION:
URL:https://www.princehall-pa.org/event/m-r-g-c-of-cyrene-grand-floor-fundraiser/
END:VEVENT
BEGIN:VEVENT
DTSTART;TZID=America/New_York:20230325T130000
DTEND;TZID=America/New_York:20230325T160000
DTSTAMP:20260425T113537
CREATED:20221110T012203Z
LAST-MODIFIED:20221110T012203Z
UID:4459-1679749200-1679760000@www.princehall-pa.org
SUMMARY:D.G.C. O.E.S. Inc. - Ways and Means Fundraiser
DESCRIPTION:
URL:https://www.princehall-pa.org/event/d-g-c-o-e-s-inc-ways-and-means-fundraiser/
END:VEVENT
BEGIN:VEVENT
DTSTART;TZID=America/New_York:20230324T120000
DTEND;TZID=America/New_York:20230326T170000
DTSTAMP:20260425T113537
CREATED:20221114T232223Z
LAST-MODIFIED:20221114T232223Z
UID:4560-1679659200-1679850000@www.princehall-pa.org
SUMMARY:M.W.P.H.G.L. - Mid Year Session\, Gettysburg\, PA
DESCRIPTION:
URL:https://www.princehall-pa.org/event/m-w-p-h-g-l-mid-year-session-gettysburg-pa-2/
END:VEVENT
BEGIN:VEVENT
DTSTART;TZID=America/New_York:20230319T150000
DTEND;TZID=America/New_York:20230319T180000
DTSTAMP:20260425T113537
CREATED:20221114T232002Z
LAST-MODIFIED:20230124T020258Z
UID:4558-1679238000-1679248800@www.princehall-pa.org
SUMMARY:D.G.C.\, O.E.S. Inc.\, Annual Chapter of Sorrow.  1st District - Grace Baptist Church of Germantown\, 25 W. Johnson ST 19144; 2nd\, 3rd\, 4th Districts\, Mt Zion C.M.E. Church \, 701 Felton Ave.\, Sharon Hill 19079; 5th & 6th Districts\, Turner Memorial Baptist Church\, 130 Watson St.\, Steelton\, PA 17113;  7th & 9th Districts\, Valley View Presbyterian Church 601 N. Aiken Ave. Pittsburgh\, PA  15206.
DESCRIPTION:
URL:https://www.princehall-pa.org/event/d-g-c-o-e-s-inc-annual-chapter-of-sorrow-2/
END:VEVENT
BEGIN:VEVENT
DTSTART;TZID=America/New_York:20230318T180000
DTEND;TZID=America/New_York:20230318T230000
DTSTAMP:20260425T113537
CREATED:20230119T152417Z
LAST-MODIFIED:20230119T152417Z
UID:4788-1679162400-1679180400@www.princehall-pa.org
SUMMARY:The R.W.S.G.W. will represent the M.W.G.M. at North Star Court No. 1's Annual Affair.
DESCRIPTION:
URL:https://www.princehall-pa.org/event/the-r-w-s-g-w-will-represent-the-m-w-g-m-at-north-star-court-no-1s-annual-affair/
END:VEVENT
BEGIN:VEVENT
DTSTART;TZID=America/New_York:20230318T180000
DTEND;TZID=America/New_York:20230318T230000
DTSTAMP:20260425T113537
CREATED:20230110T020716Z
LAST-MODIFIED:20230110T020716Z
UID:4741-1679162400-1679180400@www.princehall-pa.org
SUMMARY:The R.W.J.G.W. will represent the M.W.G.M. at Louisa S. Rumford Chapter No 15's Annual Banquet.
DESCRIPTION:
URL:https://www.princehall-pa.org/event/the-r-w-j-g-w-will-represent-the-m-w-g-m-at-louisa-s-rumford-chapter-no-15s-annual-banquet/
END:VEVENT
BEGIN:VEVENT
DTSTART;TZID=America/New_York:20230318T140000
DTEND;TZID=America/New_York:20230318T170000
DTSTAMP:20260425T113537
CREATED:20230216T001225Z
LAST-MODIFIED:20230216T001225Z
UID:4856-1679148000-1679158800@www.princehall-pa.org
SUMMARY:W.D.D.G.M. Smalls will represent the M.W.G.M. at Queen Esther Chapter No. 6's "Extravaganza of Stars" Luncheon.
DESCRIPTION:
URL:https://www.princehall-pa.org/event/w-d-d-g-m-smalls-will-represent-the-m-w-g-m-at-queen-esther-chapter-no-6s-extravaganza-of-stars-luncheon/
END:VEVENT
BEGIN:VEVENT
DTSTART;TZID=America/New_York:20230318T120000
DTEND;TZID=America/New_York:20230318T150000
DTSTAMP:20260425T113537
CREATED:20230119T151957Z
LAST-MODIFIED:20230306T024942Z
UID:4786-1679140800-1679151600@www.princehall-pa.org
SUMMARY:W.D.D.G.M. Clements will represent the M.W.G.M. AT Princess Irene Court No. 10's Main Affair.
DESCRIPTION:
URL:https://www.princehall-pa.org/event/the-r-w-s-g-w-will-represent-the-m-w-g-m-at-princess-irene-court-no-10s-main-affair/
END:VEVENT
BEGIN:VEVENT
DTSTART;TZID=America/New_York:20230318T120000
DTEND;TZID=America/New_York:20230318T150000
DTSTAMP:20260425T113537
CREATED:20230111T235139Z
LAST-MODIFIED:20230119T020721Z
UID:4750-1679140800-1679151600@www.princehall-pa.org
SUMMARY:R.W.J.G.M. will represent the M.W.G.M. at Rebecca Chapter No. 51 Speak Life Main Affair
DESCRIPTION:
URL:https://www.princehall-pa.org/event/rebecca-chapter-no-51-speak-life-main-affair/
END:VEVENT
BEGIN:VEVENT
DTSTART;TZID=America/New_York:20230312T160000
DTEND;TZID=America/New_York:20230312T180000
DTSTAMP:20260425T113537
CREATED:20230214T020837Z
LAST-MODIFIED:20230214T020837Z
UID:4847-1678636800-1678644000@www.princehall-pa.org
SUMMARY:The R.W.S.G.W. will represent the M.W.G.M. at P.H.G.C. of R.S.M. Annual Adorniram Day Festival Celebration.
DESCRIPTION:
URL:https://www.princehall-pa.org/event/the-r-w-s-g-w-will-represent-the-m-w-g-m-at-p-h-g-c-of-r-s-m-annual-adorniram-day-festival-celebration/
END:VEVENT
BEGIN:VEVENT
DTSTART;TZID=America/New_York:20230312T140000
DTEND;TZID=America/New_York:20230312T170000
DTSTAMP:20260425T113537
CREATED:20230111T234718Z
LAST-MODIFIED:20230228T001254Z
UID:4746-1678629600-1678640400@www.princehall-pa.org
SUMMARY:The R.W.J.G.W. will represent the M. W. G.M. at the Second O.E.S. District's Regal Ball
DESCRIPTION:
URL:https://www.princehall-pa.org/event/second-o-e-s-district-regal-ball/
END:VEVENT
BEGIN:VEVENT
DTSTART;TZID=America/New_York:20230311T190000
DTEND;TZID=America/New_York:20230311T230000
DTSTAMP:20260425T113537
CREATED:20230111T234933Z
LAST-MODIFIED:20230119T150325Z
UID:4748-1678561200-1678575600@www.princehall-pa.org
SUMMARY:The R.W.J.G.W. will represent the M.W.G.M. at Star of the East Chapter No. 19's Annual Dinner Dance
DESCRIPTION:
URL:https://www.princehall-pa.org/event/star-of-the-east-chapter-no-19-annual-dinner-dance/
END:VEVENT
BEGIN:VEVENT
DTSTART;TZID=America/New_York:20230311T130000
DTEND;TZID=America/New_York:20230311T173000
DTSTAMP:20260425T113537
CREATED:20230119T151255Z
LAST-MODIFIED:20230124T015023Z
UID:4782-1678539600-1678555800@www.princehall-pa.org
SUMMARY:W.G.T. Nichols will represent the M.W.G.M. at Rose of Sharon Lodge No. 39's Annual Recognition Banquet
DESCRIPTION:
URL:https://www.princehall-pa.org/event/w-d-d-g-m-clements-will-represent-the-m-w-g-m-at-rose-of-sharon-lodge-no-39s-annual-recognition-banquet/
END:VEVENT
BEGIN:VEVENT
DTSTART;TZID=America/New_York:20230311T120000
DTEND;TZID=America/New_York:20230311T150000
DTSTAMP:20260425T113537
CREATED:20230223T012228Z
LAST-MODIFIED:20230223T012228Z
UID:4900-1678536000-1678546800@www.princehall-pa.org
SUMMARY:W.D.D.G.M. Chapman will represent the M.W.G.M. at the Most Ancient Grand Court H.O.J.'s Recognition Luncheon.
DESCRIPTION:
URL:https://www.princehall-pa.org/event/w-d-d-g-m-chapman-will-represent-the-m-w-g-m-at-the-most-ancient-grand-court-h-o-j-s-recognition-luncheon/
END:VEVENT
BEGIN:VEVENT
DTSTART;TZID=America/New_York:20230311T120000
DTEND;TZID=America/New_York:20230311T150000
DTSTAMP:20260425T113537
CREATED:20230119T151631Z
LAST-MODIFIED:20230306T025300Z
UID:4784-1678536000-1678546800@www.princehall-pa.org
SUMMARY:W.D.D.G.M. Comer will represent the M.W.G.M. at Nora F. Taylor No. 57's Main Affair.
DESCRIPTION:
URL:https://www.princehall-pa.org/event/the-r-w-s-g-w-will-represent-the-m-w-g-m-at-nora-f-taylor-no-57s-main-affair/
END:VEVENT
BEGIN:VEVENT
DTSTART;TZID=America/New_York:20230311T110000
DTEND;TZID=America/New_York:20230311T140000
DTSTAMP:20260425T113537
CREATED:20230119T150957Z
LAST-MODIFIED:20230119T150957Z
UID:4780-1678532400-1678543200@www.princehall-pa.org
SUMMARY:W.D.D.G.M. Sean Snead will represent the M.W.G.M. at the Fourth O.E.S. District's Prayer Brunch
DESCRIPTION:
URL:https://www.princehall-pa.org/event/w-d-d-g-m-sean-snead-will-represent-the-m-w-g-m-at-the-fourth-o-e-s-districts-prayer-brunch/
END:VEVENT
BEGIN:VEVENT
DTSTART;TZID=America/New_York:20230311T080000
DTEND;TZID=America/New_York:20230311T170000
DTSTAMP:20260425T113537
CREATED:20221110T011353Z
LAST-MODIFIED:20221110T011353Z
UID:4453-1678521600-1678554000@www.princehall-pa.org
SUMMARY:M.R.G.C. of Cyrene Seminar and Queen Pledge a Thon
DESCRIPTION:
URL:https://www.princehall-pa.org/event/m-r-g-c-of-cyrene-seminar-and-queen-pledge-a-thon/
END:VEVENT
BEGIN:VEVENT
DTSTART;TZID=America/New_York:20230305T150000
DTEND;TZID=America/New_York:20230305T180000
DTSTAMP:20260425T113537
CREATED:20221110T011048Z
LAST-MODIFIED:20230227T235307Z
UID:4451-1678028400-1678039200@www.princehall-pa.org
SUMMARY:R.W.S.G.W. will represent the M.W.G.M. at E.G.C.\, L.O.C.O.P - Service of Remembrance.
DESCRIPTION:
URL:https://www.princehall-pa.org/event/e-g-c-l-o-c-o-p-service-of-remembrance/
END:VEVENT
BEGIN:VEVENT
DTSTART;TZID=America/New_York:20230304T110000
DTEND;TZID=America/New_York:20230304T150000
DTSTAMP:20260425T113537
CREATED:20221229T010530Z
LAST-MODIFIED:20221229T010530Z
UID:4724-1677927600-1677942000@www.princehall-pa.org
SUMMARY:The M.W.G.M. will attend Philadelphia Court no. 1's Annual Main Affair.
DESCRIPTION:
URL:https://www.princehall-pa.org/event/the-m-w-g-m-will-attend-philadelphia-court-no-1s-annual-main-affair/
END:VEVENT
BEGIN:VEVENT
DTSTART;TZID=America/New_York:20230303T183000
DTEND;TZID=America/New_York:20230303T230000
DTSTAMP:20260425T113537
CREATED:20221229T010229Z
LAST-MODIFIED:20221229T010229Z
UID:4722-1677868200-1677884400@www.princehall-pa.org
SUMMARY:The M.W.G.M. will attend Omega Chapter #12's Annual Honorary Banquet.
DESCRIPTION:
URL:https://www.princehall-pa.org/event/the-m-w-g-m-will-attend-omega-chapter-12s-annual-honorary-banquet/
END:VEVENT
BEGIN:VEVENT
DTSTART;TZID=America/New_York:20230220T080000
DTEND;TZID=America/New_York:20230220T170000
DTSTAMP:20260425T113537
CREATED:20221031T015420Z
LAST-MODIFIED:20221031T015420Z
UID:4430-1676880000-1676912400@www.princehall-pa.org
SUMMARY:Temple Closures: 4301 North Broad Street\, Philadelphia\, PA  19140 and 1117 Wood Street\, Pittsburgh\, PA 15221 (Presidents' Day)
DESCRIPTION:
URL:https://www.princehall-pa.org/event/temple-closures-4301-north-broad-street-philadelphia-pa-19140-and-1117-wood-street-pittsburgh-pa-15221-presidents-day/
END:VEVENT
BEGIN:VEVENT
DTSTART;TZID=America/New_York:20230219T150000
DTEND;TZID=America/New_York:20230219T180000
DTSTAMP:20260425T113537
CREATED:20221031T015149Z
LAST-MODIFIED:20230124T021944Z
UID:4428-1676818800-1676829600@www.princehall-pa.org
SUMMARY:M.W.P.H.G.L. - Prince Hall Founders Day\, 1st District - Mother Bethel  A.M.E. Church\, 419 S. 6th St. Philadelphia\, PA 19147; 2nd\, 3rd & 4th Districts Goddard Lodge\, Building 360 E. Lincoln Highway\, Coatesville\, PA. 19320;  5th\, 6th & 9th Districts\, Jabez Ministries\, 40 Jefferson Ave\, York\,PA 17401;  7th & 8th Districts - Greater Morris Chapel\, A.M.E. Church 926 Darr Avenue\, Farrell\, PA  16121
DESCRIPTION:
URL:https://www.princehall-pa.org/event/m-w-p-h-g-l-prince-hall-founders-day/
END:VEVENT
BEGIN:VEVENT
DTSTART;TZID=America/New_York:20230218T190000
DTEND;TZID=America/New_York:20230218T220000
DTSTAMP:20260425T113537
CREATED:20221215T015245Z
LAST-MODIFIED:20221215T015245Z
UID:4685-1676746800-1676757600@www.princehall-pa.org
SUMMARY:The R.W.J.G.W. will represent the M.W.G.M. at Frances E. Edwards Chapter No. 20's Annual Awards  Event.
DESCRIPTION:
URL:https://www.princehall-pa.org/event/the-r-w-j-g-w-will-represent-the-m-w-g-m-at-frances-e-edwards-chapter-no-20s-annual-awards-event/
END:VEVENT
BEGIN:VEVENT
DTSTART;TZID=America/New_York:20230218T080000
DTEND;TZID=America/New_York:20230218T170000
DTSTAMP:20260425T113537
CREATED:20221031T014810Z
LAST-MODIFIED:20221031T014810Z
UID:4426-1676707200-1676739600@www.princehall-pa.org
SUMMARY:D.G.C. 2nd O.E.S. District Fundraiser
DESCRIPTION:
URL:https://www.princehall-pa.org/event/d-g-c-2nd-o-e-s-district-fundraiser/
END:VEVENT
BEGIN:VEVENT
DTSTART;TZID=America/New_York:20230210T160000
DTEND;TZID=America/New_York:20230212T120000
DTSTAMP:20260425T113537
CREATED:20221215T012723Z
LAST-MODIFIED:20221215T012723Z
UID:4681-1676044800-1676203200@www.princehall-pa.org
SUMMARY:The R.W.S.G.W. will represent the M.W.G.M. at Herbert E. Millen Lodge No. 151's Pocono Getaway 2023
DESCRIPTION:
URL:https://www.princehall-pa.org/event/the-r-w-s-g-w-will-represent-the-m-w-g-m-at-herbert-e-millen-lodge-no-151s-pocono-getaway-2023/
END:VEVENT
BEGIN:VEVENT
DTSTART;TZID=America/New_York:20230205T100000
DTEND;TZID=America/New_York:20230205T120000
DTSTAMP:20260425T113537
CREATED:20230201T030456Z
LAST-MODIFIED:20230201T030557Z
UID:4807-1675591200-1675598400@www.princehall-pa.org
SUMMARY:The M.W.G.M. will attend The Feast of Absalom Jones and 231st Parish Anniversary at The African Episcopal Church of ST. Thomas. 6361 Lancaster Avenue (Absalom Jones Way)\, Philadelphia\, PA  19151
DESCRIPTION:
URL:https://www.princehall-pa.org/event/the-m-w-g-m-will-attend-the-feast-of-absalom-jones-and-231st-parish-anniversary-at-the-african-episcopal-church-of-st-thomas-6361-lancaster-avenue-absalom-jones-way-philadelphia-pa-19151/
END:VEVENT
BEGIN:VEVENT
DTSTART;TZID=America/New_York:20230201T100000
DTEND;TZID=America/New_York:20230201T140000
DTSTAMP:20260425T113537
CREATED:20221215T020404Z
LAST-MODIFIED:20221215T020404Z
UID:4689-1675245600-1675260000@www.princehall-pa.org
SUMMARY:The M.W.G.M. will attend the National Freedom Day Association's Annual Wreath Laying Ceremony and Luncheon.
DESCRIPTION:
URL:https://www.princehall-pa.org/event/the-m-w-g-m-will-attend-the-national-freedom-day-associations-annual-wreath-laying-ceremony-and-luncheon/
END:VEVENT
BEGIN:VEVENT
DTSTART;TZID=America/New_York:20230128T190000
DTEND;TZID=America/New_York:20230128T230000
DTSTAMP:20260425T113537
CREATED:20221229T011138Z
LAST-MODIFIED:20221229T011138Z
UID:4726-1674932400-1674946800@www.princehall-pa.org
SUMMARY:The M.W.G.M. will attend M.A.G.C.\, H.O.J.'s Grand Receiving.
DESCRIPTION:
URL:https://www.princehall-pa.org/event/the-m-w-g-m-will-attend-m-a-g-c-h-o-j-s-grand-receiving/
END:VEVENT
BEGIN:VEVENT
DTSTART;TZID=America/New_York:20230128T140000
DTEND;TZID=America/New_York:20230128T170000
DTSTAMP:20260425T113537
CREATED:20221215T013210Z
LAST-MODIFIED:20221215T013210Z
UID:4683-1674914400-1674925200@www.princehall-pa.org
SUMMARY:W.D.D.G.M. Clements will represent the M.W.G.M. at Zerubbabel Court No. 6\, L.O.C.O.P.'s Annual Main Affair
DESCRIPTION:
URL:https://www.princehall-pa.org/event/w-d-d-g-m-clements-will-represent-the-m-w-g-m-at-zerubbabel-court-no-6-l-o-c-o-p-s-annual-main-affair/
END:VEVENT
BEGIN:VEVENT
DTSTART;TZID=America/New_York:20230128T080000
DTEND;TZID=America/New_York:20230128T230000
DTSTAMP:20260425T113537
CREATED:20221031T013626Z
LAST-MODIFIED:20221219T234234Z
UID:4420-1674892800-1674946800@www.princehall-pa.org
SUMMARY:H.O.J. - Annual Seminar & Receiving
DESCRIPTION:
URL:https://www.princehall-pa.org/event/h-o-j-annual-seminar-receiving/
END:VEVENT
END:VCALENDAR