BEGIN:VCALENDAR
VERSION:2.0
PRODID:-//Prince Hall Grand Lodge of PA - ECPv6.15.20//NONSGML v1.0//EN
CALSCALE:GREGORIAN
METHOD:PUBLISH
X-WR-CALNAME:Prince Hall Grand Lodge of PA
X-ORIGINAL-URL:https://www.princehall-pa.org
X-WR-CALDESC:Events for Prince Hall Grand Lodge of PA
REFRESH-INTERVAL;VALUE=DURATION:PT1H
X-Robots-Tag:noindex
X-PUBLISHED-TTL:PT1H
BEGIN:VTIMEZONE
TZID:America/New_York
BEGIN:DAYLIGHT
TZOFFSETFROM:-0500
TZOFFSETTO:-0400
TZNAME:EDT
DTSTART:20220313T070000
END:DAYLIGHT
BEGIN:STANDARD
TZOFFSETFROM:-0400
TZOFFSETTO:-0500
TZNAME:EST
DTSTART:20221106T060000
END:STANDARD
BEGIN:DAYLIGHT
TZOFFSETFROM:-0500
TZOFFSETTO:-0400
TZNAME:EDT
DTSTART:20230312T070000
END:DAYLIGHT
BEGIN:STANDARD
TZOFFSETFROM:-0400
TZOFFSETTO:-0500
TZNAME:EST
DTSTART:20231105T060000
END:STANDARD
BEGIN:DAYLIGHT
TZOFFSETFROM:-0500
TZOFFSETTO:-0400
TZNAME:EDT
DTSTART:20240310T070000
END:DAYLIGHT
BEGIN:STANDARD
TZOFFSETFROM:-0400
TZOFFSETTO:-0500
TZNAME:EST
DTSTART:20241103T060000
END:STANDARD
END:VTIMEZONE
BEGIN:VEVENT
DTSTART;TZID=America/New_York:20230520T190000
DTEND;TZID=America/New_York:20230520T230000
DTSTAMP:20260425T085930
CREATED:20230402T024011Z
LAST-MODIFIED:20230402T024011Z
UID:4954-1684609200-1684623600@www.princehall-pa.org
SUMMARY:W.D.D.G.M. Henry will represent the M.W.G.M. at St. Alban Lodge\, No. 35's Annual Black Tie Gala.
DESCRIPTION:
URL:https://www.princehall-pa.org/event/w-d-d-g-m-henry-will-represent-the-m-w-g-m-at-st-alban-lodge-no-35s-annual-black-tie-gala/
END:VEVENT
BEGIN:VEVENT
DTSTART;TZID=America/New_York:20230520T190000
DTEND;TZID=America/New_York:20230520T230000
DTSTAMP:20260425T085930
CREATED:20221115T002040Z
LAST-MODIFIED:20221115T002040Z
UID:4591-1684609200-1684623600@www.princehall-pa.org
SUMMARY:D.G.C.\, O.E.S.\, Inc.\, -  4th District Main Affair
DESCRIPTION:
URL:https://www.princehall-pa.org/event/d-g-c-o-e-s-inc-4th-district-main-affair/
END:VEVENT
BEGIN:VEVENT
DTSTART;TZID=America/New_York:20230520T183000
DTEND;TZID=America/New_York:20230520T223000
DTSTAMP:20260425T085930
CREATED:20230501T222325Z
LAST-MODIFIED:20230501T223750Z
UID:5029-1684607400-1684621800@www.princehall-pa.org
SUMMARY:W.D.D.G.M. Haines will represent the M.W.G.M. at Linwood Lodge #87's Annual Honorary Banquet.
DESCRIPTION:
URL:https://www.princehall-pa.org/event/w-d-d-g-m-haines-will-represent-the-m-w-g-m-at-linwood-lodge-87s-annual-honorary-banquet/
END:VEVENT
BEGIN:VEVENT
DTSTART;TZID=America/New_York:20230520T170000
DTEND;TZID=America/New_York:20230520T220000
DTSTAMP:20260425T085930
CREATED:20221115T001751Z
LAST-MODIFIED:20221115T001751Z
UID:4589-1684602000-1684620000@www.princehall-pa.org
SUMMARY:R.G.C. of Cyrene - Fundraiser
DESCRIPTION:
URL:https://www.princehall-pa.org/event/r-g-c-of-cyrene-fundraiser/
END:VEVENT
BEGIN:VEVENT
DTSTART;TZID=America/New_York:20230520T140000
DTEND;TZID=America/New_York:20230520T180000
DTSTAMP:20260425T085930
CREATED:20230402T035110Z
LAST-MODIFIED:20230501T222227Z
UID:4972-1684591200-1684605600@www.princehall-pa.org
SUMMARY:W.D.L. Joy will represent the M.W.G.M. at Harrisburg Assembly No. 50's Recognition Luncheon.
DESCRIPTION:
URL:https://www.princehall-pa.org/event/the-m-w-g-m-will-attend-harrisburg-assembly-no-50s-recognition-luncheon/
END:VEVENT
BEGIN:VEVENT
DTSTART;TZID=America/New_York:20230520T130000
DTEND;TZID=America/New_York:20230520T170000
DTSTAMP:20260425T085930
CREATED:20230402T033654Z
LAST-MODIFIED:20230402T033654Z
UID:4968-1684587600-1684602000@www.princehall-pa.org
SUMMARY:W.D.D.G.M. Clements will represent the M.W. G.M.  at Sons of Sharon Lodge No. 142's Annual Awards Banquet.
DESCRIPTION:
URL:https://www.princehall-pa.org/event/w-d-d-g-m-clements-will-represent-the-m-w-g-m-at-sons-of-sharon-lodge-no-142s-annual-awards-banquet-2/
END:VEVENT
BEGIN:VEVENT
DTSTART;TZID=America/New_York:20230520T110000
DTEND;TZID=America/New_York:20230520T150000
DTSTAMP:20260425T085930
CREATED:20230402T025236Z
LAST-MODIFIED:20230402T025236Z
UID:4958-1684580400-1684594800@www.princehall-pa.org
SUMMARY:W.D.D.G.M. Boyce will represent the M.W.G.M. at Esther Grand Court's Royal Grand Receiving.
DESCRIPTION:
URL:https://www.princehall-pa.org/event/w-d-d-g-m-boyce-will-represent-the-m-w-g-m-at-esther-grand-courts-royal-grand-receiving/
END:VEVENT
BEGIN:VEVENT
DTSTART;TZID=America/New_York:20230519T190000
DTEND;TZID=America/New_York:20230519T230000
DTSTAMP:20260425T085930
CREATED:20230402T023214Z
LAST-MODIFIED:20230404T123834Z
UID:4952-1684522800-1684537200@www.princehall-pa.org
SUMMARY:W.D.D.G.M. Henry will represent the M.W.G.M. at King Solomon Chapter No. 60's Charity Dinner Dance.
DESCRIPTION:
URL:https://www.princehall-pa.org/event/m-w-d-d-g-m-king-solomon-chapter-no-60s-charity-dinner-dance/
END:VEVENT
BEGIN:VEVENT
DTSTART;TZID=America/New_York:20230518T190000
DTEND;TZID=America/New_York:20230518T210000
DTSTAMP:20260425T085930
CREATED:20221115T001506Z
LAST-MODIFIED:20221115T001506Z
UID:4587-1684436400-1684443600@www.princehall-pa.org
SUMMARY:U.G.C.\, M.K.T. - Ascension Thursday Service
DESCRIPTION:
URL:https://www.princehall-pa.org/event/u-g-c-m-k-t-ascension-thursday-service/
END:VEVENT
BEGIN:VEVENT
DTSTART;TZID=America/New_York:20230517T080000
DTEND;TZID=America/New_York:20230521T170000
DTSTAMP:20260425T085930
CREATED:20230413T143244Z
LAST-MODIFIED:20230413T143244Z
UID:5011-1684310400-1684688400@www.princehall-pa.org
SUMMARY:The M.W.G.M. and the M.W.G.L. will attend the 104th Conference of Grand Masters\, Prince Hall Masons. Inc.\, and the 75th Prince Hall Conference of Grand Matrons & Grand Patrons.
DESCRIPTION:
URL:https://www.princehall-pa.org/event/the-m-w-g-m-and-the-m-w-g-l-will-attend-the-104th-conference-of-grand-masters-prince-hall-masons-inc-and-the-75th-prince-hall-conference-of-grand-matrons-grand-patrons/
END:VEVENT
BEGIN:VEVENT
DTSTART;TZID=America/New_York:20230515T190000
DTEND;TZID=America/New_York:20230515T210000
DTSTAMP:20260425T085930
CREATED:20230503T225820Z
LAST-MODIFIED:20230504T001906Z
UID:5049-1684177200-1684184400@www.princehall-pa.org
SUMMARY:The Most Worshipful Grand Master will visit Ionic Lodge No. 112.
DESCRIPTION:
URL:https://www.princehall-pa.org/event/the-most-worshipful-grand-master-will-visit-ionic-lodge-no-112/
END:VEVENT
BEGIN:VEVENT
DTSTART;TZID=America/New_York:20230514T000000
DTEND;TZID=America/New_York:20230514T235900
DTSTAMP:20260425T085930
CREATED:20221115T000616Z
LAST-MODIFIED:20221115T000616Z
UID:4584-1684022400-1684108740@www.princehall-pa.org
SUMMARY:Temple Closures 4301 N. Broad Street\, Philadelphia\, PA. and 1117 Wood Street\, Pittsburgh\, PA. (Mother's Day)
DESCRIPTION:
URL:https://www.princehall-pa.org/event/temple-closures-4301-n-broad-street-philadelphia-pa-and-1117-wood-street-pittsburgh-pa-mothers-day/
END:VEVENT
BEGIN:VEVENT
DTSTART;TZID=America/New_York:20230513T190000
DTEND;TZID=America/New_York:20230513T230000
DTSTAMP:20260425T085930
CREATED:20230402T033054Z
LAST-MODIFIED:20230402T033054Z
UID:4966-1684004400-1684018800@www.princehall-pa.org
SUMMARY:R.W.S.G.W. will represent the M.W.G.M. at Zeresh Chapter No. 103's Annual Event.
DESCRIPTION:
URL:https://www.princehall-pa.org/event/r-w-s-g-w-will-represent-the-m-w-g-m-at-zeresh-chapter-no-103s-annual-event/
END:VEVENT
BEGIN:VEVENT
DTSTART;TZID=America/New_York:20230513T190000
DTEND;TZID=America/New_York:20230513T230000
DTSTAMP:20260425T085930
CREATED:20230402T032513Z
LAST-MODIFIED:20230402T032513Z
UID:4964-1684004400-1684018800@www.princehall-pa.org
SUMMARY:W.D.D.G.M. Henry will represent the M.W.G.M. at Philadelphia Assembly No. 5's Annual Banquet.
DESCRIPTION:
URL:https://www.princehall-pa.org/event/w-d-d-g-m-henry-will-represent-the-m-w-g-m-at-philadelphia-assembly-no-5s-annual-banquet/
END:VEVENT
BEGIN:VEVENT
DTSTART;TZID=America/New_York:20230513T130000
DTEND;TZID=America/New_York:20230513T160000
DTSTAMP:20260425T085930
CREATED:20230217T194007Z
LAST-MODIFIED:20230217T194007Z
UID:4885-1683982800-1683993600@www.princehall-pa.org
SUMMARY:The R.W.J.G.W. will represent the M.W.G.M. at Queen Alpha Chapter No. 93's Annual Awards Event.
DESCRIPTION:
URL:https://www.princehall-pa.org/event/the-r-w-j-g-w-will-represent-the-m-w-g-m-at-queen-alpha-chapter-no-93s-annual-awards-event/
END:VEVENT
BEGIN:VEVENT
DTSTART;TZID=America/New_York:20230513T100000
DTEND;TZID=America/New_York:20230513T130000
DTSTAMP:20260425T085930
CREATED:20230402T021112Z
LAST-MODIFIED:20230411T001755Z
UID:4947-1683972000-1683982800@www.princehall-pa.org
SUMMARY:W.D.D.G.M. Smalls will represent the M.W.G.M. at Cyrene Chapter No. 9's Annual Mothers Day Brunch.
DESCRIPTION:
URL:https://www.princehall-pa.org/event/w-d-d-g-m-smalls-will-represent-the-m-w-g-m-at-cyrene-chapter-no-9s-annual-mothers-day-brunch/
END:VEVENT
BEGIN:VEVENT
DTSTART;TZID=America/New_York:20230513T100000
DTEND;TZID=America/New_York:20230513T110000
DTSTAMP:20260425T085930
CREATED:20230503T230155Z
LAST-MODIFIED:20230503T230419Z
UID:5051-1683972000-1683975600@www.princehall-pa.org
SUMMARY:The 4300 block of North Broad Street will be renamed Prince Hall Way.
DESCRIPTION:
URL:https://www.princehall-pa.org/event/the-4300-block-of-north-broad-street-will-be-renamed-prince-hall-way/
END:VEVENT
BEGIN:VEVENT
DTSTART;TZID=America/New_York:20230513T083000
DTEND;TZID=America/New_York:20230513T110000
DTSTAMP:20260425T085930
CREATED:20230501T225535Z
LAST-MODIFIED:20230501T225846Z
UID:5033-1683966600-1683975600@www.princehall-pa.org
SUMMARY:W.D.D.G.M. Boyce will represent the M.W.G.M. at Esther Grand Court's Annual Ways and Means Affair.
DESCRIPTION:
URL:https://www.princehall-pa.org/event/w-d-d-g-m-boyce-will-represent-the-m-w-g-m-at-esther-grand-courts-annual-ways-and-means-affair/
END:VEVENT
BEGIN:VEVENT
DTSTART;TZID=America/New_York:20230512T190000
DTEND;TZID=America/New_York:20230512T210000
DTSTAMP:20260425T085930
CREATED:20230503T224539Z
LAST-MODIFIED:20230503T225734Z
UID:5045-1683918000-1683925200@www.princehall-pa.org
SUMMARY:The Most Worshipful Grand Master\, Grand Line\, Deputies and Lecturers will visit King David Lodge No. 52\, All Brothers are invited to join them!!
DESCRIPTION:
URL:https://www.princehall-pa.org/event/the-m-w-g-m-and-the-grand-line-will-visit-king-david-lodge-no-52-all-brothers-are-invited-to-attend/
END:VEVENT
BEGIN:VEVENT
DTSTART;TZID=America/New_York:20230507T150000
DTEND;TZID=America/New_York:20230507T180000
DTSTAMP:20260425T085930
CREATED:20221114T234937Z
LAST-MODIFIED:20221114T234937Z
UID:4577-1683471600-1683482400@www.princehall-pa.org
SUMMARY:D.G.C.\, O.E.S.\, Inc.\, Annual Esther Day
DESCRIPTION:
URL:https://www.princehall-pa.org/event/d-g-c-o-e-s-inc-annual-esther-day/
END:VEVENT
BEGIN:VEVENT
DTSTART;TZID=America/New_York:20230506T190000
DTEND;TZID=America/New_York:20230506T230000
DTSTAMP:20260425T085930
CREATED:20230402T034418Z
LAST-MODIFIED:20230402T034418Z
UID:4970-1683399600-1683414000@www.princehall-pa.org
SUMMARY:R.W.J.G.W. Bond will represent the M.W.G.M. at Blanche P. Nottingham Chapter No. 84's Annual Event.
DESCRIPTION:
URL:https://www.princehall-pa.org/event/r-w-j-g-w-bond-will-represent-the-m-w-g-m-at-blanche-p-nottingham-chapter-no-84s-annual-event/
END:VEVENT
BEGIN:VEVENT
DTSTART;TZID=America/New_York:20230506T180000
DTEND;TZID=America/New_York:20230506T220000
DTSTAMP:20260425T085930
CREATED:20230402T022155Z
LAST-MODIFIED:20230411T001844Z
UID:4949-1683396000-1683410400@www.princehall-pa.org
SUMMARY:W.D.D.G.M. Clements will represent the M.W.G.M. at Franklin Lodge No. 58's Annual Awards Banquet .
DESCRIPTION:
URL:https://www.princehall-pa.org/event/w-d-d-g-m-henry-will-represent-the-m-w-g-m-at-king-solomon-chapter-no-60s-charity-dinner-dance/
END:VEVENT
BEGIN:VEVENT
DTSTART;TZID=America/New_York:20230506T170000
DTEND;TZID=America/New_York:20230506T210000
DTSTAMP:20260425T085930
CREATED:20230404T111948Z
LAST-MODIFIED:20230404T111948Z
UID:4977-1683392400-1683406800@www.princehall-pa.org
SUMMARY:The R.W.D.G.M. will represent the M.W.G.M. at Light of Elmwood Lodge #45's Annual Banquet
DESCRIPTION:4
URL:https://www.princehall-pa.org/event/the-r-w-d-g-m-will-represent-the-m-w-g-m-at-light-of-elmwood-lodge-45s-annual-banquet/
END:VEVENT
BEGIN:VEVENT
DTSTART;TZID=America/New_York:20230506T140000
DTEND;TZID=America/New_York:20230506T180000
DTSTAMP:20260425T085930
CREATED:20221115T000005Z
LAST-MODIFIED:20230322T232644Z
UID:4581-1683381600-1683396000@www.princehall-pa.org
SUMMARY:W.D.D.G.M. Crudup will reprsent the M.W.G.M. at the 9th O.E.S. District Main Affair
DESCRIPTION:
URL:https://www.princehall-pa.org/event/d-g-c-o-e-s-inc-9th-o-e-s-district-main-affair/
END:VEVENT
BEGIN:VEVENT
DTSTART;TZID=America/New_York:20230506T130000
DTEND;TZID=America/New_York:20230506T170000
DTSTAMP:20260425T085930
CREATED:20230402T025824Z
LAST-MODIFIED:20230402T025824Z
UID:4960-1683378000-1683392400@www.princehall-pa.org
SUMMARY:W.D.D.G.M. Comer will represent the M.W.G.M. at William Cooper No. 6's Golden Gala Banquet.
DESCRIPTION:
URL:https://www.princehall-pa.org/event/w-d-d-g-m-comer-will-represent-the-m-w-g-m-at-william-cooper-no-6s-golden-gala-banquet/
END:VEVENT
BEGIN:VEVENT
DTSTART;TZID=America/New_York:20230506T120000
DTEND;TZID=America/New_York:20230506T160000
DTSTAMP:20260425T085930
CREATED:20230402T024636Z
LAST-MODIFIED:20230402T024636Z
UID:4956-1683374400-1683388800@www.princehall-pa.org
SUMMARY:W.D.D.G.M. Barfield will represent the M.W.G.M. at Union Chapter No 46's Annual Awards Event.
DESCRIPTION:
URL:https://www.princehall-pa.org/event/w-d-d-g-m-barfield-will-represent-the-m-w-g-m-at-union-chapter-no-46s-annual-awards-event/
END:VEVENT
BEGIN:VEVENT
DTSTART;TZID=America/New_York:20230505T190000
DTEND;TZID=America/New_York:20230505T230000
DTSTAMP:20260425T085930
CREATED:20230402T030912Z
LAST-MODIFIED:20230419T225440Z
UID:4962-1683313200-1683327600@www.princehall-pa.org
SUMMARY:R.W.S.G.W. Williams will represent the M.W.G.M. at Most Royal Grand Court of Cyrenes' Annual Charity Ball and Queen Contest.
DESCRIPTION:
URL:https://www.princehall-pa.org/event/w-d-d-g-m-haines-will-represent-the-m-w-g-m-at-most-royal-grand-court-of-cyrenes-annual-charity-ball-and-queen-contest/
END:VEVENT
BEGIN:VEVENT
DTSTART;TZID=America/New_York:20230504T080000
DTEND;TZID=America/New_York:20230505T170000
DTSTAMP:20260425T085930
CREATED:20221114T234014Z
LAST-MODIFIED:20221114T234014Z
UID:4573-1683187200-1683306000@www.princehall-pa.org
SUMMARY:Tucker Coffee Grand Court Session\, Atlanta\, GA
DESCRIPTION:
URL:https://www.princehall-pa.org/event/tucker-coffee-grand-court-session-atlanta-ga/
END:VEVENT
BEGIN:VEVENT
DTSTART;TZID=America/New_York:20230501T110000
DTEND;TZID=America/New_York:20230501T140000
DTSTAMP:20260425T085930
CREATED:20230501T230740Z
LAST-MODIFIED:20230501T231055Z
UID:5041-1682938800-1682949600@www.princehall-pa.org
SUMMARY:W.D.D.G.M. Hankins will represent the M.W.G.M. at the Third O.E.S. District's Luncheon.
DESCRIPTION:
URL:https://www.princehall-pa.org/event/w-d-d-g-m-hankins-will-represent-the-m-w-g-m-at-the-third-o-e-s-districts-luncheon/
END:VEVENT
BEGIN:VEVENT
DTSTART;TZID=America/New_York:20230429T190000
DTEND;TZID=America/New_York:20230429T230000
DTSTAMP:20260425T085930
CREATED:20221201T224419Z
LAST-MODIFIED:20230413T141927Z
UID:4669-1682794800-1682809200@www.princehall-pa.org
SUMMARY:The R.W.J..G.W. will represent the M.W.G.M. at D.G.C. Annual Coronation Ball.
DESCRIPTION:
URL:https://www.princehall-pa.org/event/d-g-c-annual-coronation-ball/
END:VEVENT
END:VCALENDAR