BEGIN:VCALENDAR
VERSION:2.0
PRODID:-//Prince Hall Grand Lodge of PA - ECPv6.15.20//NONSGML v1.0//EN
CALSCALE:GREGORIAN
METHOD:PUBLISH
X-WR-CALNAME:Prince Hall Grand Lodge of PA
X-ORIGINAL-URL:https://www.princehall-pa.org
X-WR-CALDESC:Events for Prince Hall Grand Lodge of PA
REFRESH-INTERVAL;VALUE=DURATION:PT1H
X-Robots-Tag:noindex
X-PUBLISHED-TTL:PT1H
BEGIN:VTIMEZONE
TZID:America/New_York
BEGIN:DAYLIGHT
TZOFFSETFROM:-0500
TZOFFSETTO:-0400
TZNAME:EDT
DTSTART:20220313T070000
END:DAYLIGHT
BEGIN:STANDARD
TZOFFSETFROM:-0400
TZOFFSETTO:-0500
TZNAME:EST
DTSTART:20221106T060000
END:STANDARD
BEGIN:DAYLIGHT
TZOFFSETFROM:-0500
TZOFFSETTO:-0400
TZNAME:EDT
DTSTART:20230312T070000
END:DAYLIGHT
BEGIN:STANDARD
TZOFFSETFROM:-0400
TZOFFSETTO:-0500
TZNAME:EST
DTSTART:20231105T060000
END:STANDARD
BEGIN:DAYLIGHT
TZOFFSETFROM:-0500
TZOFFSETTO:-0400
TZNAME:EDT
DTSTART:20240310T070000
END:DAYLIGHT
BEGIN:STANDARD
TZOFFSETFROM:-0400
TZOFFSETTO:-0500
TZNAME:EST
DTSTART:20241103T060000
END:STANDARD
END:VTIMEZONE
BEGIN:VEVENT
DTSTART;TZID=America/New_York:20230702T110000
DTEND;TZID=America/New_York:20230702T130000
DTSTAMP:20260425T102849
CREATED:20230626T181154Z
LAST-MODIFIED:20230626T181154Z
UID:5109-1688295600-1688302800@www.princehall-pa.org
SUMMARY:The M.W.G.M. will attend Service at Bethel A.M.E. Church\, Camden\, New Jersey.
DESCRIPTION:
URL:https://www.princehall-pa.org/event/the-m-w-g-m-will-attend-service-at-bethel-a-m-e-church-camden-new-jersey/
END:VEVENT
BEGIN:VEVENT
DTSTART;TZID=America/New_York:20230701T080000
DTEND;TZID=America/New_York:20230701T170000
DTSTAMP:20260425T102849
CREATED:20221115T012508Z
LAST-MODIFIED:20221115T012508Z
UID:4613-1688198400-1688230800@www.princehall-pa.org
SUMMARY:K.O.P. - Patriots Day
DESCRIPTION:
URL:https://www.princehall-pa.org/event/k-o-p-patriots-day/
END:VEVENT
BEGIN:VEVENT
DTSTART;TZID=America/New_York:20230625T150000
DTEND;TZID=America/New_York:20230625T180000
DTSTAMP:20260425T102849
CREATED:20221115T012332Z
LAST-MODIFIED:20221115T012332Z
UID:4611-1687705200-1687716000@www.princehall-pa.org
SUMMARY:M.W.P.H.G.L. - St John the Baptist Day Service
DESCRIPTION:
URL:https://www.princehall-pa.org/event/m-w-p-h-g-l-st-john-the-baptist-day-service/
END:VEVENT
BEGIN:VEVENT
DTSTART;TZID=America/New_York:20230624T190000
DTEND;TZID=America/New_York:20230624T230000
DTSTAMP:20260425T102849
CREATED:20230624T203250Z
LAST-MODIFIED:20230624T203250Z
UID:5105-1687633200-1687647600@www.princehall-pa.org
SUMMARY:The M.W.G.M. will attend the First Masonic District Master Mason of the Year Banquet.
DESCRIPTION:
URL:https://www.princehall-pa.org/event/the-m-w-g-m-will-attend-the-first-masonic-district-master-mason-of-the-year-banquet/
END:VEVENT
BEGIN:VEVENT
DTSTART;TZID=America/New_York:20230622T080000
DTEND;TZID=America/New_York:20230625T170000
DTSTAMP:20260425T102849
CREATED:20221115T011831Z
LAST-MODIFIED:20221115T011831Z
UID:4609-1687420800-1687712400@www.princehall-pa.org
SUMMARY:R.M.T.G.Y.D. - Annual Session - Elizabethtown\, PA
DESCRIPTION:
URL:https://www.princehall-pa.org/event/r-m-t-g-y-d-annual-session-elizabethtown-pa/
END:VEVENT
BEGIN:VEVENT
DTSTART;TZID=America/New_York:20230620T190000
DTEND;TZID=America/New_York:20230620T210000
DTSTAMP:20260425T102849
CREATED:20230612T233919Z
LAST-MODIFIED:20230612T233919Z
UID:5102-1687287600-1687294800@www.princehall-pa.org
SUMMARY:The M.W.G.M. and the Grand Line will attend Ionic Lodge #112's June Communication.
DESCRIPTION:
URL:https://www.princehall-pa.org/event/the-m-w-g-m-and-the-grand-line-will-attend-ionic-lodge-112s-june-communication/
END:VEVENT
BEGIN:VEVENT
DTSTART;TZID=America/New_York:20230619T000000
DTEND;TZID=America/New_York:20230619T235900
DTSTAMP:20260425T102849
CREATED:20221115T004630Z
LAST-MODIFIED:20221115T004630Z
UID:4607-1687132800-1687219140@www.princehall-pa.org
SUMMARY:Temple Closures 4301 N. Broad St.\, Philadelphia\, PA and 1117 Wood St.\, Pittsburgh\, PA  (Juneteenth Day)
DESCRIPTION:
URL:https://www.princehall-pa.org/event/temple-closures-4301-n-broad-st-philadelphia-pa-and-1117-wood-st-pittsburgh-pa-juneteenth-day/
END:VEVENT
BEGIN:VEVENT
DTSTART;TZID=America/New_York:20230618T000000
DTEND;TZID=America/New_York:20230618T235900
DTSTAMP:20260425T102849
CREATED:20221115T003833Z
LAST-MODIFIED:20221115T003833Z
UID:4605-1687046400-1687132740@www.princehall-pa.org
SUMMARY:Temple Closures 4301 N. Broad St.\, Philadelphia\, PA and 1117 Wood St.\, Pittsburgh\, PA ( Father's Day)
DESCRIPTION:
URL:https://www.princehall-pa.org/event/temple-closures-4301-n-broad-st-philadelphia-pa-and-1117-wood-st-pittsburgh-pa-fathers-day/
END:VEVENT
BEGIN:VEVENT
DTSTART;TZID=America/New_York:20230615T080000
DTEND;TZID=America/New_York:20230618T170000
DTSTAMP:20260425T102849
CREATED:20221115T003516Z
LAST-MODIFIED:20221115T003516Z
UID:4603-1686816000-1687107600@www.princehall-pa.org
SUMMARY:K.O.P. - 58th Annual Session - Elizabethtown\, PA
DESCRIPTION:
URL:https://www.princehall-pa.org/event/k-o-p-58th-annual-session-elizabethtown-pa/
END:VEVENT
BEGIN:VEVENT
DTSTART;TZID=America/New_York:20230611T153000
DTEND;TZID=America/New_York:20230611T183000
DTSTAMP:20260425T102849
CREATED:20230607T223514Z
LAST-MODIFIED:20230607T225029Z
UID:5094-1686497400-1686508200@www.princehall-pa.org
SUMMARY:W.D.D.G.M. Boyce will represent the M.W.G.M. at M.E.G.C. Holy Royal Arch Masons\, Zerubbabel Day (East).  W.D.D.G.M.  Smalls will represent the  M.W.G.M. M.E.G.C. Holy Royal Arch Masons\, Zerubbabel Day (West).
DESCRIPTION:M.W.G.M. at M
URL:https://www.princehall-pa.org/event/w-d-d-g-m-boyce-will-represent-the-m-w-g-m-at-m-e-g-c-holy-royal-arch-masons-zerubbabel-day-east/
END:VEVENT
BEGIN:VEVENT
DTSTART;TZID=America/New_York:20230610T190000
DTEND;TZID=America/New_York:20230610T220000
DTSTAMP:20260425T102849
CREATED:20230530T192516Z
LAST-MODIFIED:20230606T020630Z
UID:5082-1686423600-1686434400@www.princehall-pa.org
SUMMARY:The R.W.J.G.W. will represent the M.W.G.M. at Esther Grand Court's Orchid Ball.
DESCRIPTION:
URL:https://www.princehall-pa.org/event/w-d-d-g-m-henry-will-represent-the-m-w-g-m-at-esther-grand-courts-orchid-ball/
END:VEVENT
BEGIN:VEVENT
DTSTART;TZID=America/New_York:20230609T080000
DTEND;TZID=America/New_York:20230611T170000
DTSTAMP:20260425T102849
CREATED:20221115T003316Z
LAST-MODIFIED:20221115T003316Z
UID:4601-1686297600-1686502800@www.princehall-pa.org
SUMMARY:E.G.C.\, L.O.C.O.P. - Annual Grand Session
DESCRIPTION:
URL:https://www.princehall-pa.org/event/e-g-c-l-o-c-o-p-annual-grand-session/
END:VEVENT
BEGIN:VEVENT
DTSTART;TZID=America/New_York:20230609T080000
DTEND;TZID=America/New_York:20230610T170000
DTSTAMP:20260425T102849
CREATED:20221115T003142Z
LAST-MODIFIED:20221115T003142Z
UID:4599-1686297600-1686416400@www.princehall-pa.org
SUMMARY:R.S.M. - Grand Session
DESCRIPTION:
URL:https://www.princehall-pa.org/event/r-s-m-grand-session/
END:VEVENT
BEGIN:VEVENT
DTSTART;TZID=America/New_York:20230603T190000
DTEND;TZID=America/New_York:20230603T220000
DTSTAMP:20260425T102849
CREATED:20230411T010953Z
LAST-MODIFIED:20230411T010953Z
UID:4998-1685818800-1685829600@www.princehall-pa.org
SUMMARY:The R.W.J.G.W. will represent the M.W.G.W. at Composite Lodge No. 121's Evening of Elegance.
DESCRIPTION:
URL:https://www.princehall-pa.org/event/the-r-w-j-g-w-will-represent-the-m-w-g-w-at-composite-lodge-no-121s-evening-of-elegance/
END:VEVENT
BEGIN:VEVENT
DTSTART;TZID=America/New_York:20230603T180000
DTEND;TZID=America/New_York:20230603T220000
DTSTAMP:20260425T102849
CREATED:20230411T011412Z
LAST-MODIFIED:20230411T011412Z
UID:5000-1685815200-1685829600@www.princehall-pa.org
SUMMARY:The R.W.S.G.W. will represent the M.W.G.M. at the Second Masonic District's Master Mason of the Year Banquet.
DESCRIPTION:
URL:https://www.princehall-pa.org/event/the-r-w-s-g-w-will-represent-the-m-w-g-m-at-the-second-masonic-districts-master-mason-of-the-year-banquet/
END:VEVENT
BEGIN:VEVENT
DTSTART;TZID=America/New_York:20230603T110000
DTEND;TZID=America/New_York:20230603T140000
DTSTAMP:20260425T102849
CREATED:20230501T230502Z
LAST-MODIFIED:20230501T230701Z
UID:5039-1685790000-1685800800@www.princehall-pa.org
SUMMARY:W.D.D.G. Johnson will represent the M.W.G.M. at Orpha Chapter No. 21's Annual Recognition Luncheon.
DESCRIPTION:
URL:https://www.princehall-pa.org/event/w-d-d-g-johnson-will-represent-the-m-w-g-m-at-orpha-chapter-no-21s-annual-recognition-luncheon/
END:VEVENT
BEGIN:VEVENT
DTSTART;TZID=America/New_York:20230603T103000
DTEND;TZID=America/New_York:20230603T140000
DTSTAMP:20260425T102849
CREATED:20230601T000446Z
LAST-MODIFIED:20230601T000446Z
UID:5090-1685788200-1685800800@www.princehall-pa.org
SUMMARY:W.D.L. Hankins will represent the M.W.G.M. at The Third O.E.S. District Luncheon.
DESCRIPTION:
URL:https://www.princehall-pa.org/event/w-d-l-hankins-will-represent-the-m-w-g-m-at-the-third-o-e-s-district-luncheon/
END:VEVENT
BEGIN:VEVENT
DTSTART;TZID=America/New_York:20230602T100000
DTEND;TZID=America/New_York:20230602T170000
DTSTAMP:20260425T102849
CREATED:20230530T193311Z
LAST-MODIFIED:20230530T193311Z
UID:5084-1685700000-1685725200@www.princehall-pa.org
SUMMARY:The M.W.G.M. will attend the 177th Annual Grand Communication of The Most Worshipful Prince Hall Grand Lodge\, State of New York.
DESCRIPTION:
URL:https://www.princehall-pa.org/event/the-m-w-g-m-will-attend-the-177th-annual-grand-communication-of-the-most-worshipful-prince-hall-grand-lodge-state-of-new-york/
END:VEVENT
BEGIN:VEVENT
DTSTART;TZID=America/New_York:20230530T080000
DTEND;TZID=America/New_York:20230530T170000
DTSTAMP:20260425T102849
CREATED:20221115T002526Z
LAST-MODIFIED:20221115T002526Z
UID:4595-1685433600-1685466000@www.princehall-pa.org
SUMMARY:U.S.C. - Session\, Denver\, Co.
DESCRIPTION:
URL:https://www.princehall-pa.org/event/u-s-c-session-denver-co/
END:VEVENT
BEGIN:VEVENT
DTSTART;TZID=America/New_York:20230529T000000
DTEND;TZID=America/New_York:20230529T235900
DTSTAMP:20260425T102849
CREATED:20221115T002901Z
LAST-MODIFIED:20221115T002901Z
UID:4597-1685318400-1685404740@www.princehall-pa.org
SUMMARY:Temple Closures 4301 N. Broad St. Philadelphia\, PA and 1117 Wood St. Pittsburgh\, PA (Memorial Day)
DESCRIPTION:
URL:https://www.princehall-pa.org/event/temple-closures-4301-n-broad-st-philadelphia-pa-and-1117-wood-st-pittsburgh-pa-memorial-day/
END:VEVENT
BEGIN:VEVENT
DTSTART;TZID=America/New_York:20230528T120000
DTEND;TZID=America/New_York:20230528T150000
DTSTAMP:20260425T102849
CREATED:20230404T113819Z
LAST-MODIFIED:20230404T124745Z
UID:4984-1685275200-1685286000@www.princehall-pa.org
SUMMARY:W.D.D.G.M. Stinson will  represent the M.W.G.M. at Evening Star Chapter No. 53's Annual Event.
DESCRIPTION:.w.
URL:https://www.princehall-pa.org/event/the-r-w-j-g-w-will-represent-the-m-w-g-m-at-evening-star-chapter-no-53s-annual-event/
END:VEVENT
BEGIN:VEVENT
DTSTART;TZID=America/New_York:20230527T190000
DTEND;TZID=America/New_York:20230527T230000
DTSTAMP:20260425T102849
CREATED:20230501T225913Z
LAST-MODIFIED:20230501T230149Z
UID:5035-1685214000-1685228400@www.princehall-pa.org
SUMMARY:W.D.D.G.M. Comer will represent the M.W.G.M. at J.C. Price Lodge No 82's 104th Anniversary Banquet.
DESCRIPTION:
URL:https://www.princehall-pa.org/event/w-d-d-g-m-comer-will-represent-the-m-w-g-m-at-j-c-price-lodge-no-82s-104th-anniversary-banquet/
END:VEVENT
BEGIN:VEVENT
DTSTART;TZID=America/New_York:20230527T120000
DTEND;TZID=America/New_York:20230527T150000
DTSTAMP:20260425T102849
CREATED:20230501T230202Z
LAST-MODIFIED:20230501T230444Z
UID:5037-1685188800-1685199600@www.princehall-pa.org
SUMMARY:W.D.D.G.M. Comer will represent the M.W.G.M. at Martha Chapter No 3's Jazz Brunch.
DESCRIPTION:
URL:https://www.princehall-pa.org/event/w-d-d-g-m-comer-will-represent-the-m-w-g-m-at-martha-chapter-no-3s-jazz-brunch/
END:VEVENT
BEGIN:VEVENT
DTSTART;TZID=America/New_York:20230521T160000
DTEND;TZID=America/New_York:20230521T180000
DTSTAMP:20260425T102849
CREATED:20230510T233835Z
LAST-MODIFIED:20230510T234225Z
UID:5056-1684684800-1684692000@www.princehall-pa.org
SUMMARY:P.M.W.G.M.  Harris will represent the M.W.G.M. at the Most Excellent Grand Chapter of Holy Royal Arch Masons - PHA's "Military Appreciation" service
DESCRIPTION:
URL:https://www.princehall-pa.org/event/p-m-w-g-m-harris-will-represent-the-m-w-g-m-at-the-most-excellent-grand-chapter-of-holy-royal-arch-masons-phas-military-appreciation-service/
END:VEVENT
BEGIN:VEVENT
DTSTART;TZID=America/New_York:20230520T190000
DTEND;TZID=America/New_York:20230520T230000
DTSTAMP:20260425T102849
CREATED:20230402T024011Z
LAST-MODIFIED:20230402T024011Z
UID:4954-1684609200-1684623600@www.princehall-pa.org
SUMMARY:W.D.D.G.M. Henry will represent the M.W.G.M. at St. Alban Lodge\, No. 35's Annual Black Tie Gala.
DESCRIPTION:
URL:https://www.princehall-pa.org/event/w-d-d-g-m-henry-will-represent-the-m-w-g-m-at-st-alban-lodge-no-35s-annual-black-tie-gala/
END:VEVENT
BEGIN:VEVENT
DTSTART;TZID=America/New_York:20230520T190000
DTEND;TZID=America/New_York:20230520T230000
DTSTAMP:20260425T102849
CREATED:20221115T002040Z
LAST-MODIFIED:20221115T002040Z
UID:4591-1684609200-1684623600@www.princehall-pa.org
SUMMARY:D.G.C.\, O.E.S.\, Inc.\, -  4th District Main Affair
DESCRIPTION:
URL:https://www.princehall-pa.org/event/d-g-c-o-e-s-inc-4th-district-main-affair/
END:VEVENT
BEGIN:VEVENT
DTSTART;TZID=America/New_York:20230520T183000
DTEND;TZID=America/New_York:20230520T223000
DTSTAMP:20260425T102849
CREATED:20230501T222325Z
LAST-MODIFIED:20230501T223750Z
UID:5029-1684607400-1684621800@www.princehall-pa.org
SUMMARY:W.D.D.G.M. Haines will represent the M.W.G.M. at Linwood Lodge #87's Annual Honorary Banquet.
DESCRIPTION:
URL:https://www.princehall-pa.org/event/w-d-d-g-m-haines-will-represent-the-m-w-g-m-at-linwood-lodge-87s-annual-honorary-banquet/
END:VEVENT
BEGIN:VEVENT
DTSTART;TZID=America/New_York:20230520T170000
DTEND;TZID=America/New_York:20230520T220000
DTSTAMP:20260425T102849
CREATED:20221115T001751Z
LAST-MODIFIED:20221115T001751Z
UID:4589-1684602000-1684620000@www.princehall-pa.org
SUMMARY:R.G.C. of Cyrene - Fundraiser
DESCRIPTION:
URL:https://www.princehall-pa.org/event/r-g-c-of-cyrene-fundraiser/
END:VEVENT
BEGIN:VEVENT
DTSTART;TZID=America/New_York:20230520T140000
DTEND;TZID=America/New_York:20230520T180000
DTSTAMP:20260425T102849
CREATED:20230402T035110Z
LAST-MODIFIED:20230501T222227Z
UID:4972-1684591200-1684605600@www.princehall-pa.org
SUMMARY:W.D.L. Joy will represent the M.W.G.M. at Harrisburg Assembly No. 50's Recognition Luncheon.
DESCRIPTION:
URL:https://www.princehall-pa.org/event/the-m-w-g-m-will-attend-harrisburg-assembly-no-50s-recognition-luncheon/
END:VEVENT
BEGIN:VEVENT
DTSTART;TZID=America/New_York:20230520T130000
DTEND;TZID=America/New_York:20230520T170000
DTSTAMP:20260425T102849
CREATED:20230402T033654Z
LAST-MODIFIED:20230402T033654Z
UID:4968-1684587600-1684602000@www.princehall-pa.org
SUMMARY:W.D.D.G.M. Clements will represent the M.W. G.M.  at Sons of Sharon Lodge No. 142's Annual Awards Banquet.
DESCRIPTION:
URL:https://www.princehall-pa.org/event/w-d-d-g-m-clements-will-represent-the-m-w-g-m-at-sons-of-sharon-lodge-no-142s-annual-awards-banquet-2/
END:VEVENT
END:VCALENDAR