BEGIN:VCALENDAR
VERSION:2.0
PRODID:-//Prince Hall Grand Lodge of PA - ECPv6.15.20//NONSGML v1.0//EN
CALSCALE:GREGORIAN
METHOD:PUBLISH
X-ORIGINAL-URL:https://www.princehall-pa.org
X-WR-CALDESC:Events for Prince Hall Grand Lodge of PA
REFRESH-INTERVAL;VALUE=DURATION:PT1H
X-Robots-Tag:noindex
X-PUBLISHED-TTL:PT1H
BEGIN:VTIMEZONE
TZID:America/New_York
BEGIN:DAYLIGHT
TZOFFSETFROM:-0500
TZOFFSETTO:-0400
TZNAME:EDT
DTSTART:20250309T070000
END:DAYLIGHT
BEGIN:STANDARD
TZOFFSETFROM:-0400
TZOFFSETTO:-0500
TZNAME:EST
DTSTART:20251102T060000
END:STANDARD
BEGIN:DAYLIGHT
TZOFFSETFROM:-0500
TZOFFSETTO:-0400
TZNAME:EDT
DTSTART:20260308T070000
END:DAYLIGHT
BEGIN:STANDARD
TZOFFSETFROM:-0400
TZOFFSETTO:-0500
TZNAME:EST
DTSTART:20261101T060000
END:STANDARD
BEGIN:DAYLIGHT
TZOFFSETFROM:-0500
TZOFFSETTO:-0400
TZNAME:EDT
DTSTART:20270314T070000
END:DAYLIGHT
BEGIN:STANDARD
TZOFFSETFROM:-0400
TZOFFSETTO:-0500
TZNAME:EST
DTSTART:20271107T060000
END:STANDARD
END:VTIMEZONE
BEGIN:VEVENT
DTSTART;TZID=America/New_York:20260418T190000
DTEND;TZID=America/New_York:20260418T210000
DTSTAMP:20260423T184843
CREATED:20260317T021451Z
LAST-MODIFIED:20260401T175125Z
UID:19253-1776538800-1776546000@www.princehall-pa.org
SUMMARY:Ways & Means Steel City Groove
DESCRIPTION:
URL:https://www.princehall-pa.org/event/ways-means-steel-city-groove/
LOCATION:Double Tree by Hilton\, Pittsburgh Green Tree\, 500 Mansfield Drive\, Pittsburgh\, PA\, 15205
ORGANIZER;CN="The Ways and Means Committee":MAILTO:wayandmeans@princehall-pa.org
END:VEVENT
END:VCALENDAR